Workbook

Sheet Efnisyfirlit
A1: Nr. myndar | B1: Fyrirsögn myndar
A2: Mynd 1 | B2: Stærð Glitnis banka hf. - ISK.
A3: Mynd 2 | B3: Stærð Glitnis banka hf. - evrur
A4: Mynd 3 | B4: Stærð Kaupþings banka hf. - ISK
A5: Mynd 4 | B5: Stærð Kaupþings banka hf. - evrur
A6: Mynd 5 | B6: Stærð Landsbanka Íslands hf. - ISK
A7: Mynd 6 | B7: Stærð Landsbanka Íslands hf. - evrur
A8: Mynd 7 | B8: Samanlögð stærð stóru bankanna þriggja - ISK
A9: Mynd 8 | B9: Samanlögð stærð stóru bankanna þriggja - evrur
A10: Mynd 9 | B10: Útlán Glitnis banka hf. - Flokkuð eftir tegund lántakanda
A11: Mynd 10 | B11: Útlán Glitnis banka hf. - Flokkuð eftir tegund lántakanda. Hlutfall af heildarútlánum móðurfélags
A12: Mynd 11 | B12: Útlán Kaupþings banka hf. - Flokkuð eftir tegund lántakanda
... A189: Mynd 188 | B189: Stærstu áhættuskuldbindingarnar - ný útlán frá janúar 2007 til október 2008 - tryggingar

Sheet K8_M1
B1: Skýrsla rannsóknarnefndar Alþingis
B2: 8. kafli - Útlán íslensku bankanna
B3: Mynd 1
A4: Fs | B4: Stærð Glitnis banka hf.
A5: Ufs
A6: Alm.
A7: Nm
A8: H | B8: Heimild: Seðlabanki Íslands og Glitnir banki hf.
A9: Vá | B9: Ma. kr.
A10: Há
A11: Ath.
A12: Dagsetning | B12: Heildareignir | C12: Útlán til viðskiptavina | D12: Útlán móðurfélags til viðskiptavina
A13: 36891 | B13: 296.917 | C13: 212.453 | D13: 211.27137
A14: 36922 | B14: 301.1915 | C14: 215.06842 | D14: 214.59683
A15: 36950 | B15: 305.466 | C15: 217.68383 | D15: 214.94552
A16: 36981 | B16: 309.7405 | C16: 220.29925 | D16: 223.68194
A17: 37011 | B17: 314.015 | C17: 222.91467 | D17: 237.03438
A18: 37042 | B18: 318.2895 | C18: 225.53008 | D18: 248.98771
A19: 37072 | B19: 322.564 | C19: 228.1455 | D19: 247.13553
A20: 37103 | B20: 326.8385 | C20: 230.76092 | D20: 241.1834
A21: 37134 | B21: 331.113 | C21: 233.37633 | D21: 238.64287
A22: 37164 | B22: 335.3875 | C22: 235.99175 | D22: 244.18927
A23: 37195 | B23: 339.662 | C23: 238.60717 | D23: 246.77876
A24: 37225 | B24: 343.9365 | C24: 241.22258 | D24: 252.71367
... A103: 39629 | B103: 3862.797 | C103: 2548.164 | D103: 1856.8387
A104: 39660 | D104: 1839.5345
A105: 39691 | D105: 1842.9917
A106: 39721 | D106: 2098.8096

Sheet K8_M2
B1: Skýrsla rannsóknarnefndar Alþingis
B2: 8. kafli - Útlán íslensku bankanna
B3: Mynd 2
A4: Fs | B4: Stærð Glitnis banka hf.
A5: Ufs
A6: Alm.
A7: Nm
A8: H | B8: Heimild: Seðlabanki Íslands og Glitnir banki hf.
A9: Vá | B9: Ma. evra
A10: Há
A11: Ath.
A12: Dagsetning | B12: Heildareignir | C12: Útlán til viðskiptavina | D12: Útlán móðurfélags til viðskiptavina
A13: 36891 | B13: 3.7665482 | C13: 2.695078 | D13: 2.6800884
A14: 36922 | B14: 3.7703915 | C14: 2.6929762 | D14: 2.6864902
A15: 36950 | B15: 3.7742349 | C15: 2.6908744 | D15: 2.7009991
A16: 36981 | B16: 3.7780782 | C16: 2.6887726 | D16: 2.7783124
A17: 37011 | B17: 3.7819215 | C17: 2.6866708 | D17: 2.7642493
A18: 37042 | B18: 3.7857649 | C18: 2.684569 | D18: 2.7944749
A19: 37072 | B19: 3.7896082 | C19: 2.6824672 | D19: 2.7818048
A20: 37103 | B20: 3.7934516 | C20: 2.6803654 | D20: 2.7447752
A21: 37134 | B21: 3.7972949 | C21: 2.6782637 | D21: 2.6445355
A22: 37164 | B22: 3.8011382 | C22: 2.6761619 | D22: 2.6290835
A23: 37195 | B23: 3.8049816 | C23: 2.6740601 | D23: 2.6292219
A24: 37225 | B24: 3.8088249 | C24: 2.6719583 | D24: 2.6434485
... A103: 39629 | B103: 30.821008 | C103: 20.331636 | D103: 14.815596
A104: 39660 | D104: 14.855321
A105: 39691 | D105: 15.095354
A106: 39721 | D106: 14.425799

Sheet K8_M3
B1: Skýrsla rannsóknarnefndar Alþingis
B2: 8. kafli - Útlán íslensku bankanna
B3: Mynd 3
A4: Fs | B4: Stærð Kaupþings banka hf.
A5: Ufs
A6: Alm.
A7: Nm
A8: H | B8: Heimild: Seðlabanki Íslands og Kaupþing banki hf.
A9: Vá | B9: Ma. kr.
A10: Há
A11: Ath.
A12: Dagsetning | B12: Heildareignir | C12: Útlán til viðskiptavina | D12: Útlán móðurfélags til viðskiptavina
A13: 36891 | B13: 207.61988 | C13: 126.34239 | D13: 106.92042
A14: 36922 | B14: 216.78182 | C14: 131.50684 | D14: 109.55952
A15: 36950 | B15: 225.94375 | C15: 136.67128 | D15: 108.97523
A16: 36981 | B16: 235.10568 | C16: 141.83572 | D16: 113.00455
A17: 37011 | B17: 244.26761 | C17: 147.00017 | D17: 117.07988
A18: 37042 | B18: 253.42955 | C18: 152.16461 | D18: 121.88366
A19: 37072 | B19: 262.59148 | C19: 157.32906 | D19: 124.64143
A20: 37103 | B20: 271.75341 | C20: 162.4935 | D20: 123.81955
A21: 37134 | B21: 280.91534 | C21: 167.65795 | D21: 126.11634
A22: 37164 | B22: 290.07728 | C22: 172.82239 | D22: 128.48779
A23: 37195 | B23: 299.23921 | C23: 177.98684 | D23: 134.40539
A24: 37225 | B24: 308.40114 | C24: 183.15128 | D24: 136.31037
... A103: 39629 | B103: 6603.715 | C103: 4169.181 | D103: 2249.7073
A104: 39660 | D104: 2210.4355
A105: 39691 | D105: 2213.5329
A106: 39721 | D106: 2836.4209

Sheet K8_M4
B1: Skýrsla rannsóknarnefndar Alþingis
B2: 8. kafli - Útlán íslensku bankanna
B3: Mynd 4
A4: Fs | B4: Stærð Kaupþings banka hf.
A5: Ufs
A6: Alm.
A7: Nm
A8: H | B8: Heimild: Seðlabanki Íslands og Kaupþing banki hf.
A9: Vá | B9: Ma. evra
A10: Há
A11: Ath.
A12: Dagsetning | B12: Heildareignir | C12: Útlán til viðskiptavina | D12: Útlán móðurfélags til viðskiptavina
A13: 36891 | B13: 2.6337673 | C13: 1.6027196 | D13: 1.3563417
A14: 36922 | B14: 2.7040446 | C14: 1.6409868 | D14: 1.3715514
A15: 36950 | B15: 2.7743219 | C15: 1.6792541 | D15: 1.3693795
A16: 36981 | B16: 2.8445992 | C16: 1.7175213 | D16: 1.4036088
A17: 37011 | B17: 2.9148765 | C17: 1.7557885 | D17: 1.3653631
A18: 37042 | B18: 2.9851538 | C18: 1.7940557 | D18: 1.3679424
A19: 37072 | B19: 3.0554311 | C19: 1.8323229 | D19: 1.4029878
A20: 37103 | B20: 3.1257084 | C20: 1.8705901 | D20: 1.4091219
A21: 37134 | B21: 3.1959856 | C21: 1.9088573 | D21: 1.3975658
A22: 37164 | B22: 3.2662629 | C22: 1.9471246 | D22: 1.3833742
A23: 37195 | B23: 3.3365402 | C23: 1.9853918 | D23: 1.4319773
A24: 37225 | B24: 3.4068175 | C24: 2.023659 | D24: 1.4258407
... A103: 39629 | B103: 52.690616 | C103: 33.265626 | D103: 17.95027
A104: 39660 | D104: 17.850565
A105: 39691 | D105: 18.130338
A106: 39721 | D106: 19.495641

Sheet K8_M5
B1: Skýrsla rannsóknarnefndar Alþingis
B2: 8. kafli - Útlán íslensku bankanna
B3: Mynd 5
A4: Fs | B4: Stærð Landsbanka Íslands hf.
A5: Ufs
A6: Alm.
A7: Nm
A8: H | B8: Heimild: Seðlabanki Íslands og Landsbanki Íslands hf.
A9: Vá | B9: Ma. kr.
A10: Há
A11: Ath.
A12: Dagsetning | B12: Heildareignir | C12: Útlán til viðskiptavina | D12: Útlán móðurfélags til viðskiptavina
A13: 36891 | B13: 239.294 | C13: 169.374 | D13: 166.09886
A14: 36922 | B14: 241.76333 | C14: 171.84975 | D14: 168.61311
A15: 36950 | B15: 244.23267 | C15: 174.3255 | D15: 167.08506
A16: 36981 | B16: 246.702 | C16: 176.80125 | D16: 169.91315
A17: 37011 | B17: 249.17133 | C17: 179.277 | D17: 173.26702
A18: 37042 | B18: 251.64067 | C18: 181.75275 | D18: 179.46991
A19: 37072 | B19: 254.11 | C19: 184.2285 | D19: 182.81476
A20: 37103 | B20: 256.57933 | C20: 186.70425 | D20: 180.54056
A21: 37134 | B21: 259.04867 | C21: 189.18 | D21: 181.3512
A22: 37164 | B22: 261.518 | C22: 191.65575 | D22: 184.36983
A23: 37195 | B23: 263.98733 | C23: 194.1315 | D23: 186.40162
A24: 37225 | B24: 266.45667 | C24: 196.60725 | D24: 188.27324
... A103: 39629 | B103: 3970.372 | C103: 2571.47 | D103: 2128.9253
A104: 39660 | D104: 2123.0783
A105: 39691 | D105: 2116.5378
A106: 39721 | D106: 2522.4556

Sheet K8_M6
B1: Skýrsla rannsóknarnefndar Alþingis
B2: 8. kafli - Útlán íslensku bankanna
B3: Mynd 6
A4: Fs | B4: Stærð Landsbanka Íslands hf.
A5: Ufs
A6: Alm.
A7: Nm
A8: H | B8: Heimild: Seðlabanki Íslands og Landsbanki Íslands hf.
A9: Vá | B9: Ma. evra
A10: Há
A11: Ath.
A12: Dagsetning | B12: Heildareignir | C12: Útlán til viðskiptavina | D12: Útlán móðurfélags til viðskiptavina
A13: 36891 | B13: 3.0355701 | C13: 2.1485982 | D13: 2.1070514
A14: 36922 | B14: 3.0279854 | C14: 2.1512 | D14: 2.1108303
A15: 36950 | B15: 3.0204006 | C15: 2.1538019 | D15: 2.099586
A16: 36981 | B16: 3.0128158 | C16: 2.1564037 | D16: 2.1104601
A17: 37011 | B17: 3.005231 | C17: 2.1590056 | D17: 2.0206067
A18: 37042 | B18: 2.9976462 | C18: 2.1616074 | D18: 2.0142527
A19: 37072 | B19: 2.9900614 | C19: 2.1642093 | D19: 2.057798
A20: 37103 | B20: 2.9824766 | C20: 2.1668111 | D20: 2.0546324
A21: 37134 | B21: 2.9748918 | C21: 2.169413 | D21: 2.0096544
A22: 37164 | B22: 2.967307 | C22: 2.1720148 | D22: 1.9850327
A23: 37195 | B23: 2.9597222 | C23: 2.1746167 | D23: 1.9859537
A24: 37225 | B24: 2.9521375 | C24: 2.1772185 | D24: 1.9693854
... A103: 39629 | B103: 31.679342 | C103: 20.517593 | D103: 16.986558
A104: 39660 | D104: 17.145104
A105: 39691 | D105: 17.335882
A106: 39721 | D106: 17.337656

Sheet K8_M7
B1: Skýrsla rannsóknarnefndar Alþingis
B2: 8. kafli - Útlán íslensku bankanna
B3: Mynd 7
A4: Fs | B4: Samanlögð stærð stóru bankanna þriggja
A5: Ufs
A6: Alm.
A7: Nm
A8: H | B8: Heimild: Seðlabanki Íslands, Glitnir banki hf., Kaupþing banki hf. og Landsbanki Íslands hf.
A9: Vá | B9: Ma. kr.
A10: Há
A11: Ath.
A12: Dagsetning | B12: Heildareignir | C12: Útlán til viðskiptavina | D12: Útlán móðurfélags til viðskiptavina
A13: 36891 | B13: 743.83088 | C13: 508.16939 | D13: 484.29066
A14: 36922 | B14: 759.73665 | C14: 518.425 | D14: 492.76946
A15: 36950 | B15: 775.64241 | C15: 528.68061 | D15: 491.0058
A16: 36981 | B16: 791.54818 | C16: 538.93622 | D16: 506.59963
A17: 37011 | B17: 807.45395 | C17: 549.19184 | D17: 527.38128
A18: 37042 | B18: 823.35971 | C18: 559.44745 | D18: 550.34128
A19: 37072 | B19: 839.26548 | C19: 569.70306 | D19: 554.59172
A20: 37103 | B20: 855.17124 | C20: 579.95867 | D20: 545.54351
A21: 37134 | B21: 871.07701 | C21: 590.21428 | D21: 546.11042
A22: 37164 | B22: 886.98278 | C22: 600.46989 | D22: 557.04689
A23: 37195 | B23: 902.88854 | C23: 610.7255 | D23: 567.58578
A24: 37225 | B24: 918.79431 | C24: 620.98111 | D24: 577.29728
... A103: 39629 | B103: 14436.884 | C103: 9288.815 | D103: 6235.4713
A104: 39660 | D104: 6173.0483
A105: 39691 | D105: 6173.0623
A106: 39721 | D106: 7457.6861

Sheet K8_M8
B1: Skýrsla rannsóknarnefndar Alþingis
B2: 8. kafli - Útlán íslensku bankanna
B3: Mynd 8
A4: Fs | B4: Samanlögð stærð stóru bankanna þriggja
A5: Ufs
A6: Alm.
A7: Nm
A8: H | B8: Heimild: Seðlabanki Íslands, Glitnir banki hf., Kaupþing banki hf. og Landsbanki Íslands hf.
A9: Vá | B9: Ma. evra
A10: Há
A11: Ath.
A12: Dagsetning | B12: Heildareignir | C12: Útlán til viðskiptavina | D12: Útlán móðurfélags til viðskiptavina
A13: 36891 | B13: 9.4358856 | C13: 6.4463958 | D13: 6.1434815
A14: 36922 | B14: 9.5024215 | C14: 6.4851631 | D14: 6.1688718
A15: 36950 | B15: 9.5689573 | C15: 6.5239303 | D15: 6.1699647
A16: 36981 | B16: 9.6354932 | C16: 6.5626976 | D16: 6.2923813
A17: 37011 | B17: 9.702029 | C17: 6.6014649 | D17: 6.150219
A18: 37042 | B18: 9.7685649 | C18: 6.6402322 | D18: 6.1766699
A19: 37072 | B19: 9.8351007 | C19: 6.6789994 | D19: 6.2425906
A20: 37103 | B20: 9.9016365 | C20: 6.7177667 | D20: 6.2085295
A21: 37134 | B21: 9.9681724 | C21: 6.756534 | D21: 6.0517556
A22: 37164 | B22: 10.034708 | C22: 6.7953013 | D22: 5.9974904
A23: 37195 | B23: 10.101244 | C23: 6.8340685 | D23: 6.0471529
A24: 37225 | B24: 10.16778 | C24: 6.8728358 | D24: 6.0386746
... A103: 39629 | B103: 115.19097 | C103: 74.114856 | D103: 49.752423
A104: 39660 | D104: 49.850991
A105: 39691 | D105: 50.561573
A106: 39721 | D106: 51.259096

Sheet K8_M9
B1: Skýrsla rannsóknarnefndar Alþingis
B2: 8. kafli - Útlán íslensku bankanna
B3: Mynd 9
A4: Fs | B4: Útlán Glitnis banka hf.
A5: Ufs | B5: Flokkuð eftir tegund lántakanda
A6: Alm.
A7: Nm
A8: H | B8: Heimild: Seðlabanki Íslands.
A9: Vá | B9: Ma. evra
A10: Há
A11: Ath.
A12: Dagsetning | B12: Heimili | C12: Fyrirtæki | D12: Eignarhaldsfélög | E12: Erlendir aðilar | F12: Opinberir aðilar | G12: Aðrir
A13: 36891 | B13: 0.40752718 | C13: 2.1380861 | D13: 0 | E13: 0 | F13: 0.09318494 | G13: 0.041290206
A14: 36922 | B14: 0.42637321 | C14: 2.1235218 | D14: 0 | E14: 0 | F14: 0.098752883 | G14: 0.037842315
A15: 36950 | B15: 0.42948019 | C15: 2.1364145 | D15: 0 | E15: 0 | F15: 0.094040071 | G15: 0.041064425
A16: 36981 | B16: 0.43745734 | C16: 2.2015744 | D16: 0 | E16: 0 | F16: 0.095122057 | G16: 0.0441586
A17: 37011 | B17: 0.41398876 | C17: 1.9411083 | D17: 0 | E17: 0.26532875 | F17: 0.09161488 | G17: 0.05220863
A18: 37042 | B18: 0.40693018 | C18: 1.9458951 | D18: 0 | E18: 0.31723318 | F18: 0.082262134 | G18: 0.042154266
A19: 37072 | B19: 0.40604925 | C19: 1.9451728 | D19: 0 | E19: 0.30679391 | F19: 0.08245365 | G19: 0.0413352
A20: 37103 | B20: 0.36508237 | C20: 1.9634688 | D20: 0 | E20: 0.29004746 | F20: 0.089554191 | G20: 0.036622396
A21: 37134 | B21: 0.41041294 | C21: 1.8592951 | D21: 0 | E21: 0.24712698 | F21: 0.091524869 | G21: 0.036175544
A22: 37164 | B22: 0.40827693 | C22: 1.8445682 | D22: 0 | E22: 0.24018647 | F22: 0.09479224 | G22: 0.041259702
A23: 37195 | B23: 0.39634425 | C23: 1.8550404 | D23: 0 | E23: 0.24498376 | F23: 0.094390059 | G23: 0.038463413
A24: 37225 | B24: 0.39263081 | C24: 1.8405604 | D24: 0 | E24: 0.26826813 | F24: 0.0933402 | G24: 0.048648871
... A106: 39721 | B106: 1.8057142 | C106: 3.8055902 | D106: 3.3534622 | E106: 4.5932321 | F106: 0.052973659 | G106: 0.81482691

Sheet K8_M10
B1: Skýrsla rannsóknarnefndar Alþingis
B2: 8. kafli - Útlán íslensku bankanna
B3: Mynd 10
A4: Fs | B4: Útlán Glitnis banka hf.
A5: Ufs | B5: Flokkuð eftir tegund lántakanda. Hlutfall af heildarútlánum móðurfélags
A6: Alm.
A7: Nm
A8: H | B8: Heimild: Seðlabanki Íslands.
A9: Vá | B9: %
A10: Há
A11: Ath.
A12: Dagsetning | B12: Heimili | C12: Fyrirtæki | D12: Eignarhaldsfélög | E12: Erlendir aðilar | F12: Opinberir aðilar | G12: Aðrir
A13: 36891 | B13: =K8_M9!B13/SUM(K8_M9!$B13:$G13)*100 -> 15.205736 | C13: =K8_M9!C13/SUM(K8_M9!$B13:$G13)*100 -> 79.7767 | D13: =K8_M9!D13/SUM(K8_M9!$B13:$G13)*100 -> 0 | E13: =K8_M9!E13/SUM(K8_M9!$B13:$G13)*100 -> 0 | F13: =K8_M9!F13/SUM(K8_M9!$B13:$G13)*100 -> 3.4769353 | G13: =K8_M9!G13/SUM(K8_M9!$B13:$G13)*100 -> 1.5406285
A14: 36922 | B14: =K8_M9!B14/SUM(K8_M9!$B14:$G14)*100 -> 15.871013 | C14: =K8_M9!C14/SUM(K8_M9!$B14:$G14)*100 -> 79.044464 | D14: =K8_M9!D14/SUM(K8_M9!$B14:$G14)*100 -> 0 | E14: =K8_M9!E14/SUM(K8_M9!$B14:$G14)*100 -> 0 | F14: =K8_M9!F14/SUM(K8_M9!$B14:$G14)*100 -> 3.6759071 | G14: =K8_M9!G14/SUM(K8_M9!$B14:$G14)*100 -> 1.4086154
A15: 36950 | B15: =K8_M9!B15/SUM(K8_M9!$B15:$G15)*100 -> 15.900789 | C15: =K8_M9!C15/SUM(K8_M9!$B15:$G15)*100 -> 79.097191 | D15: =K8_M9!D15/SUM(K8_M9!$B15:$G15)*100 -> 0 | E15: =K8_M9!E15/SUM(K8_M9!$B15:$G15)*100 -> 0 | F15: =K8_M9!F15/SUM(K8_M9!$B15:$G15)*100 -> 3.4816772 | G15: =K8_M9!G15/SUM(K8_M9!$B15:$G15)*100 -> 1.520342
A16: 36981 | B16: =K8_M9!B16/SUM(K8_M9!$B16:$G16)*100 -> 15.745433 | C16: =K8_M9!C16/SUM(K8_M9!$B16:$G16)*100 -> 79.241428 | D16: =K8_M9!D16/SUM(K8_M9!$B16:$G16)*100 -> 0 | E16: =K8_M9!E16/SUM(K8_M9!$B16:$G16)*100 -> 0 | F16: =K8_M9!F16/SUM(K8_M9!$B16:$G16)*100 -> 3.4237351 | G16: =K8_M9!G16/SUM(K8_M9!$B16:$G16)*100 -> 1.5894037
A17: 37011 | B17: =K8_M9!B17/SUM(K8_M9!$B17:$G17)*100 -> 14.976535 | C17: =K8_M9!C17/SUM(K8_M9!$B17:$G17)*100 -> 70.221897 | D17: =K8_M9!D17/SUM(K8_M9!$B17:$G17)*100 -> 0 | E17: =K8_M9!E17/SUM(K8_M9!$B17:$G17)*100 -> 9.5985824 | F17: =K8_M9!F17/SUM(K8_M9!$B17:$G17)*100 -> 3.3142771 | G17: =K8_M9!G17/SUM(K8_M9!$B17:$G17)*100 -> 1.8887092
A18: 37042 | B18: =K8_M9!B18/SUM(K8_M9!$B18:$G18)*100 -> 14.561955 | C18: =K8_M9!C18/SUM(K8_M9!$B18:$G18)*100 -> 69.633659 | D18: =K8_M9!D18/SUM(K8_M9!$B18:$G18)*100 -> 0 | E18: =K8_M9!E18/SUM(K8_M9!$B18:$G18)*100 -> 11.352157 | F18: =K8_M9!F18/SUM(K8_M9!$B18:$G18)*100 -> 2.9437421 | G18: =K8_M9!G18/SUM(K8_M9!$B18:$G18)*100 -> 1.5084861
A19: 37072 | B19: =K8_M9!B19/SUM(K8_M9!$B19:$G19)*100 -> 14.596612 | C19: =K8_M9!C19/SUM(K8_M9!$B19:$G19)*100 -> 69.924848 | D19: =K8_M9!D19/SUM(K8_M9!$B19:$G19)*100 -> 0 | E19: =K8_M9!E19/SUM(K8_M9!$B19:$G19)*100 -> 11.028592 | F19: =K8_M9!F19/SUM(K8_M9!$B19:$G19)*100 -> 2.9640344 | G19: =K8_M9!G19/SUM(K8_M9!$B19:$G19)*100 -> 1.485913
A20: 37103 | B20: =K8_M9!B20/SUM(K8_M9!$B20:$G20)*100 -> 13.300994 | C20: =K8_M9!C20/SUM(K8_M9!$B20:$G20)*100 -> 71.534776 | D20: =K8_M9!D20/SUM(K8_M9!$B20:$G20)*100 -> 0 | E20: =K8_M9!E20/SUM(K8_M9!$B20:$G20)*100 -> 10.567257 | F20: =K8_M9!F20/SUM(K8_M9!$B20:$G20)*100 -> 3.262715 | G20: =K8_M9!G20/SUM(K8_M9!$B20:$G20)*100 -> 1.3342585
A21: 37134 | B21: =K8_M9!B21/SUM(K8_M9!$B21:$G21)*100 -> 15.519283 | C21: =K8_M9!C21/SUM(K8_M9!$B21:$G21)*100 -> 70.30706 | D21: =K8_M9!D21/SUM(K8_M9!$B21:$G21)*100 -> 0 | E21: =K8_M9!E21/SUM(K8_M9!$B21:$G21)*100 -> 9.3448162 | F21: =K8_M9!F21/SUM(K8_M9!$B21:$G21)*100 -> 3.4609054 | G21: =K8_M9!G21/SUM(K8_M9!$B21:$G21)*100 -> 1.3679357
A22: 37164 | B22: =K8_M9!B22/SUM(K8_M9!$B22:$G22)*100 -> 15.529249 | C22: =K8_M9!C22/SUM(K8_M9!$B22:$G22)*100 -> 70.160121 | D22: =K8_M9!D22/SUM(K8_M9!$B22:$G22)*100 -> 0 | E22: =K8_M9!E22/SUM(K8_M9!$B22:$G22)*100 -> 9.1357491 | F22: =K8_M9!F22/SUM(K8_M9!$B22:$G22)*100 -> 3.6055241 | G22: =K8_M9!G22/SUM(K8_M9!$B22:$G22)*100 -> 1.5693568
A23: 37195 | B23: =K8_M9!B23/SUM(K8_M9!$B23:$G23)*100 -> 15.074584 | C23: =K8_M9!C23/SUM(K8_M9!$B23:$G23)*100 -> 70.554729 | D23: =K8_M9!D23/SUM(K8_M9!$B23:$G23)*100 -> 0 | E23: =K8_M9!E23/SUM(K8_M9!$B23:$G23)*100 -> 9.3177288 | F23: =K8_M9!F23/SUM(K8_M9!$B23:$G23)*100 -> 3.5900378 | G23: =K8_M9!G23/SUM(K8_M9!$B23:$G23)*100 -> 1.46292
A24: 37225 | B24: =K8_M9!B24/SUM(K8_M9!$B24:$G24)*100 -> 14.852978 | C24: =K8_M9!C24/SUM(K8_M9!$B24:$G24)*100 -> 69.627249 | D24: =K8_M9!D24/SUM(K8_M9!$B24:$G24)*100 -> 0 | E24: =K8_M9!E24/SUM(K8_M9!$B24:$G24)*100 -> 10.148415 | F24: =K8_M9!F24/SUM(K8_M9!$B24:$G24)*100 -> 3.5310013 | G24: =K8_M9!G24/SUM(K8_M9!$B24:$G24)*100 -> 1.8403563
... A106: 39721 | B106: =K8_M9!B106/SUM(K8_M9!$B106:$G106)*100 -> 12.517256 | C106: =K8_M9!C106/SUM(K8_M9!$B106:$G106)*100 -> 26.380446 | D106: =K8_M9!D106/SUM(K8_M9!$B106:$G106)*100 -> 23.246284 | E106: =K8_M9!E106/SUM(K8_M9!$B106:$G106)*100 -> 31.840399 | F106: =K8_M9!F106/SUM(K8_M9!$B106:$G106)*100 -> 0.36721472 | G106: =K8_M9!G106/SUM(K8_M9!$B106:$G106)*100 -> 5.6484004

Sheet K8_M11
B1: Skýrsla rannsóknarnefndar Alþingis
B2: 8. kafli - Útlán íslensku bankanna
B3: Mynd 11
A4: Fs | B4: Útlán Kaupþings banka hf.
A5: Ufs | B5: Flokkuð eftir tegund lántakanda
A6: Alm.
A7: Nm
A8: H | B8: Heimild: Seðlabanki Íslands.
A9: Vá | B9: Ma. evra
A10: Há
A11: Ath.
A12: Dagsetning | B12: Heimili | C12: Fyrirtæki | D12: Eignarhaldsfélög | E12: Erlendir aðilar | F12: Opinberir aðilar | G12: Aðrir
A13: 36891 | B13: 0.37916559 | C13: 0.92103613 | D13: 0 | E13: 0 | F13: 0.042089292 | G13: 0.014050716
A14: 36922 | B14: 0.34753895 | C14: 0.96846979 | D14: 0 | E14: 0 | F14: 0.044011944 | G14: 0.011530684
A15: 36950 | B15: 0.34881456 | C15: 0.9655214 | D15: 0 | E15: 0 | F15: 0.042359348 | G15: 0.012684242
A16: 36981 | B16: 0.35246658 | C16: 0.99453024 | D16: 0 | E16: 0 | F16: 0.044422816 | G16: 0.012189156
A17: 37011 | B17: 0.3347136 | C17: 0.97529736 | D17: 0 | E17: 0 | F17: 0.042891429 | G17: 0.012460665
A18: 37042 | B18: 0.33411117 | C18: 0.97837052 | D18: 0 | E18: 0 | F18: 0.043588598 | G18: 0.011872077
A19: 37072 | B19: 0.34006349 | C19: 1.0059069 | D19: 0 | E19: 0 | F19: 0.043928334 | G19: 0.01308915
A20: 37103 | B20: 0.34996345 | C20: 0.99936143 | D20: 0 | E20: 0 | F20: 0.043362238 | G20: 0.016434812
A21: 37134 | B21: 0.34420369 | C21: 0.99143533 | D21: 0 | E21: 0 | F21: 0.043755797 | G21: 0.018171011
A22: 37164 | B22: 0.34509293 | C22: 0.97687466 | D22: 0 | E22: 0 | F22: 0.044241506 | G22: 0.017165084
A23: 37195 | B23: 0.34928569 | C23: 1.0154562 | D23: 0 | E23: 0 | F23: 0.046237726 | G23: 0.020997688
A24: 37225 | B24: 0.34355167 | C24: 1.0151683 | D24: 0 | E24: 0 | F24: 0.049283672 | G24: 0.017837071
... A106: 39721 | B106: 1.93584 | C106: 2.6422047 | D106: 3.3533138 | E106: 11.400789 | F106: 0.032731932 | G106: 0.13076172

Sheet K8_M12
B1: Skýrsla rannsóknarnefndar Alþingis
B2: 8. kafli - Útlán íslensku bankanna
B3: Mynd 12
A4: Fs | B4: Útlán Kaupþings banka hf.
A5: Ufs | B5: Flokkuð eftir tegund lántakanda. Hlutfall af heildarútlánum móðurfélags.
A6: Alm.
A7: Nm
A8: H | B8: Heimild: Seðlabanki Íslands.
A9: Vá | B9: %
A10: Há
A11: Ath.
A12: Dagsetning | B12: Heimili | C12: Fyrirtæki | D12: Eignarhaldsfélög | E12: Erlendir aðilar | F12: Opinberir aðilar | G12: Aðrir
A13: 36891 | B13: =K8_M11!B13/SUM(K8_M11!$B13:$G13)*100 -> 27.955019 | C13: =K8_M11!C13/SUM(K8_M11!$B13:$G13)*100 -> 67.905905 | D13: =K8_M11!D13/SUM(K8_M11!$B13:$G13)*100 -> 0 | E13: =K8_M11!E13/SUM(K8_M11!$B13:$G13)*100 -> 0 | F13: =K8_M11!F13/SUM(K8_M11!$B13:$G13)*100 -> 3.1031481 | G13: =K8_M11!G13/SUM(K8_M11!$B13:$G13)*100 -> 1.0359275
A14: 36922 | B14: =K8_M11!B14/SUM(K8_M11!$B14:$G14)*100 -> 25.339113 | C14: =K8_M11!C14/SUM(K8_M11!$B14:$G14)*100 -> 70.611267 | D14: =K8_M11!D14/SUM(K8_M11!$B14:$G14)*100 -> 0 | E14: =K8_M11!E14/SUM(K8_M11!$B14:$G14)*100 -> 0 | F14: =K8_M11!F14/SUM(K8_M11!$B14:$G14)*100 -> 3.208917 | G14: =K8_M11!G14/SUM(K8_M11!$B14:$G14)*100 -> 0.84070376
A15: 36950 | B15: =K8_M11!B15/SUM(K8_M11!$B15:$G15)*100 -> 25.472453 | C15: =K8_M11!C15/SUM(K8_M11!$B15:$G15)*100 -> 70.507947 | D15: =K8_M11!D15/SUM(K8_M11!$B15:$G15)*100 -> 0 | E15: =K8_M11!E15/SUM(K8_M11!$B15:$G15)*100 -> 0 | F15: =K8_M11!F15/SUM(K8_M11!$B15:$G15)*100 -> 3.0933241 | G15: =K8_M11!G15/SUM(K8_M11!$B15:$G15)*100 -> 0.92627657
A16: 36981 | B16: =K8_M11!B16/SUM(K8_M11!$B16:$G16)*100 -> 25.111454 | C16: =K8_M11!C16/SUM(K8_M11!$B16:$G16)*100 -> 70.85523 | D16: =K8_M11!D16/SUM(K8_M11!$B16:$G16)*100 -> 0 | E16: =K8_M11!E16/SUM(K8_M11!$B16:$G16)*100 -> 0 | F16: =K8_M11!F16/SUM(K8_M11!$B16:$G16)*100 -> 3.1649001 | G16: =K8_M11!G16/SUM(K8_M11!$B16:$G16)*100 -> 0.8684155
A17: 37011 | B17: =K8_M11!B17/SUM(K8_M11!$B17:$G17)*100 -> 24.514622 | C17: =K8_M11!C17/SUM(K8_M11!$B17:$G17)*100 -> 71.431357 | D17: =K8_M11!D17/SUM(K8_M11!$B17:$G17)*100 -> 0 | E17: =K8_M11!E17/SUM(K8_M11!$B17:$G17)*100 -> 0 | F17: =K8_M11!F17/SUM(K8_M11!$B17:$G17)*100 -> 3.1413937 | G17: =K8_M11!G17/SUM(K8_M11!$B17:$G17)*100 -> 0.91262647
A18: 37042 | B18: =K8_M11!B18/SUM(K8_M11!$B18:$G18)*100 -> 24.42436 | C18: =K8_M11!C18/SUM(K8_M11!$B18:$G18)*100 -> 71.521326 | D18: =K8_M11!D18/SUM(K8_M11!$B18:$G18)*100 -> 0 | E18: =K8_M11!E18/SUM(K8_M11!$B18:$G18)*100 -> 0 | F18: =K8_M11!F18/SUM(K8_M11!$B18:$G18)*100 -> 3.1864352 | G18: =K8_M11!G18/SUM(K8_M11!$B18:$G18)*100 -> 0.86787841
A19: 37072 | B19: =K8_M11!B19/SUM(K8_M11!$B19:$G19)*100 -> 24.23852 | C19: =K8_M11!C19/SUM(K8_M11!$B19:$G19)*100 -> 71.697476 | D19: =K8_M11!D19/SUM(K8_M11!$B19:$G19)*100 -> 0 | E19: =K8_M11!E19/SUM(K8_M11!$B19:$G19)*100 -> 0 | F19: =K8_M11!F19/SUM(K8_M11!$B19:$G19)*100 -> 3.1310559 | G19: =K8_M11!G19/SUM(K8_M11!$B19:$G19)*100 -> 0.9329482
A20: 37103 | B20: =K8_M11!B20/SUM(K8_M11!$B20:$G20)*100 -> 24.835569 | C20: =K8_M11!C20/SUM(K8_M11!$B20:$G20)*100 -> 70.920863 | D20: =K8_M11!D20/SUM(K8_M11!$B20:$G20)*100 -> 0 | E20: =K8_M11!E20/SUM(K8_M11!$B20:$G20)*100 -> 0 | F20: =K8_M11!F20/SUM(K8_M11!$B20:$G20)*100 -> 3.0772524 | G20: =K8_M11!G20/SUM(K8_M11!$B20:$G20)*100 -> 1.1663158
A21: 37134 | B21: =K8_M11!B21/SUM(K8_M11!$B21:$G21)*100 -> 24.6288 | C21: =K8_M11!C21/SUM(K8_M11!$B21:$G21)*100 -> 70.940153 | D21: =K8_M11!D21/SUM(K8_M11!$B21:$G21)*100 -> 0 | E21: =K8_M11!E21/SUM(K8_M11!$B21:$G21)*100 -> 0 | F21: =K8_M11!F21/SUM(K8_M11!$B21:$G21)*100 -> 3.1308577 | G21: =K8_M11!G21/SUM(K8_M11!$B21:$G21)*100 -> 1.30019
A22: 37164 | B22: =K8_M11!B22/SUM(K8_M11!$B22:$G22)*100 -> 24.94574 | C22: =K8_M11!C22/SUM(K8_M11!$B22:$G22)*100 -> 70.61536 | D22: =K8_M11!D22/SUM(K8_M11!$B22:$G22)*100 -> 0 | E22: =K8_M11!E22/SUM(K8_M11!$B22:$G22)*100 -> 0 | F22: =K8_M11!F22/SUM(K8_M11!$B22:$G22)*100 -> 3.1980868 | G22: =K8_M11!G22/SUM(K8_M11!$B22:$G22)*100 -> 1.2408128
A23: 37195 | B23: =K8_M11!B23/SUM(K8_M11!$B23:$G23)*100 -> 24.391845 | C23: =K8_M11!C23/SUM(K8_M11!$B23:$G23)*100 -> 70.912871 | D23: =K8_M11!D23/SUM(K8_M11!$B23:$G23)*100 -> 0 | E23: =K8_M11!E23/SUM(K8_M11!$B23:$G23)*100 -> 0 | F23: =K8_M11!F23/SUM(K8_M11!$B23:$G23)*100 -> 3.2289426 | G23: =K8_M11!G23/SUM(K8_M11!$B23:$G23)*100 -> 1.4663422
A24: 37225 | B24: =K8_M11!B24/SUM(K8_M11!$B24:$G24)*100 -> 24.094674 | C24: =K8_M11!C24/SUM(K8_M11!$B24:$G24)*100 -> 71.197875 | D24: =K8_M11!D24/SUM(K8_M11!$B24:$G24)*100 -> 0 | E24: =K8_M11!E24/SUM(K8_M11!$B24:$G24)*100 -> 0 | F24: =K8_M11!F24/SUM(K8_M11!$B24:$G24)*100 -> 3.4564641 | G24: =K8_M11!G24/SUM(K8_M11!$B24:$G24)*100 -> 1.2509863
... A106: 39721 | B106: =K8_M11!B106/SUM(K8_M11!$B106:$G106)*100 -> 9.9296041 | C106: =K8_M11!C106/SUM(K8_M11!$B106:$G106)*100 -> 13.552798 | D106: =K8_M11!D106/SUM(K8_M11!$B106:$G106)*100 -> 17.200326 | E106: =K8_M11!E106/SUM(K8_M11!$B106:$G106)*100 -> 58.478656 | F106: =K8_M11!F106/SUM(K8_M11!$B106:$G106)*100 -> 0.16789359 | G106: =K8_M11!G106/SUM(K8_M11!$B106:$G106)*100 -> 0.67072285

Sheet K8_M13
B1: Skýrsla rannsóknarnefndar Alþingis
B2: 8. kafli - Útlán íslensku bankanna
B3: Mynd 13
A4: Fs | B4: Útlán Landsbanka Íslands hf.
A5: Ufs | B5: Flokkuð eftir tegund lántakanda
A6: Alm.
A7: Nm
A8: H | B8: Heimild: Seðlabanki Íslands.
A9: Vá | B9: Ma. evra
A10: Há
A11: Ath.
A12: Dagsetning | B12: Heimili | C12: Fyrirtæki | D12: Eignarhaldsfélög | E12: Erlendir aðilar | F12: Opinberir aðilar | G12: Aðrir
A13: 36891 | B13: 0.59222366 | C13: 1.3673697 | D13: 0 | E13: 0 | F13: 0.085651958 | G13: 0.061806037
A14: 36922 | B14: 0.60289856 | C14: 1.3892523 | D14: 0 | E14: 0 | F14: 0.081441014 | G14: 0.037238384
A15: 36950 | B15: 0.60082909 | C15: 1.3858326 | D15: 0 | E15: 0 | F15: 0.073996681 | G15: 0.038927607
A16: 36981 | B16: 0.59316676 | C16: 1.4042339 | D16: 0 | E16: 0 | F16: 0.079705699 | G16: 0.033353732
A17: 37011 | B17: 0.54346906 | C17: 1.3793418 | D17: 0 | E17: 0 | F17: 0.066130542 | G17: 0.031665236
A18: 37042 | B18: 0.52273847 | C18: 1.4221285 | D18: 0 | E18: 0 | F18: 0.052467375 | G18: 0.016918339
A19: 37072 | B19: 0.51918255 | C19: 1.4275387 | D19: 0 | E19: 0 | F19: 0.055434356 | G19: 0.055642393
A20: 37103 | B20: 0.53638534 | C20: 1.4083318 | D20: 0 | E20: 0 | F20: 0.054833605 | G20: 0.055081676
A21: 37134 | B21: 0.49601611 | C21: 1.401579 | D21: 0 | E21: 0 | F21: 0.057114585 | G21: 0.054944638
A22: 37164 | B22: 0.51074919 | C22: 1.3582533 | D22: 0 | E22: 0 | F22: 0.063688912 | G22: 0.052341334
A23: 37195 | B23: 0.51527227 | C23: 1.3511623 | D23: 0 | E23: 0 | F23: 0.068826337 | G23: 0.050692797
A24: 37225 | B24: 0.4978864 | C24: 1.361228 | D24: 0 | E24: 0 | F24: 0.064783746 | G24: 0.045487239
... A106: 39721 | B106: 1.8099831 | C106: 5.6464134 | D106: 3.4148984 | E106: 6.3799788 | F106: 0.030714089 | G106: 0.055667776

Sheet K8_M14
B1: Skýrsla rannsóknarnefndar Alþingis
B2: 8. kafli - Útlán íslensku bankanna
B3: Mynd 14
A4: Fs | B4: Útlán Landsbanka Íslands hf.
A5: Ufs | B5: Flokkuð eftir tegund lántakanda. Hlutfall af heildarútlánum móðurfélags.
A6: Alm.
A7: Nm
A8: H | B8: Heimild: Seðlabanki Íslands.
A9: Vá | B9: %
A10: Há
A11: Ath.
A12: Dagsetning | B12: Heimili | C12: Fyrirtæki | D12: Eignarhaldsfélög | E12: Erlendir aðilar | F12: Opinberir aðilar | G12: Aðrir
A13: 36891 | B13: =K8_M13!B13/SUM(K8_M13!$B13:$G13)*100 -> 28.10675 | C13: =K8_M13!C13/SUM(K8_M13!$B13:$G13)*100 -> 64.89494 | D13: =K8_M13!D13/SUM(K8_M13!$B13:$G13)*100 -> 0 | E13: =K8_M13!E13/SUM(K8_M13!$B13:$G13)*100 -> 0 | F13: =K8_M13!F13/SUM(K8_M13!$B13:$G13)*100 -> 4.0650152 | G13: =K8_M13!G13/SUM(K8_M13!$B13:$G13)*100 -> 2.9332952
A14: 36922 | B14: =K8_M13!B14/SUM(K8_M13!$B14:$G14)*100 -> 28.562152 | C14: =K8_M13!C14/SUM(K8_M13!$B14:$G14)*100 -> 65.815444 | D14: =K8_M13!D14/SUM(K8_M13!$B14:$G14)*100 -> 0 | E14: =K8_M13!E14/SUM(K8_M13!$B14:$G14)*100 -> 0 | F14: =K8_M13!F14/SUM(K8_M13!$B14:$G14)*100 -> 3.8582455 | G14: =K8_M13!G14/SUM(K8_M13!$B14:$G14)*100 -> 1.7641581
A15: 36950 | B15: =K8_M13!B15/SUM(K8_M13!$B15:$G15)*100 -> 28.616551 | C15: =K8_M13!C15/SUM(K8_M13!$B15:$G15)*100 -> 66.005042 | D15: =K8_M13!D15/SUM(K8_M13!$B15:$G15)*100 -> 0 | E15: =K8_M13!E15/SUM(K8_M13!$B15:$G15)*100 -> 0 | F15: =K8_M13!F15/SUM(K8_M13!$B15:$G15)*100 -> 3.5243463 | G15: =K8_M13!G15/SUM(K8_M13!$B15:$G15)*100 -> 1.8540611
A16: 36981 | B16: =K8_M13!B16/SUM(K8_M13!$B16:$G16)*100 -> 28.10604 | C16: =K8_M13!C16/SUM(K8_M13!$B16:$G16)*100 -> 66.536861 | D16: =K8_M13!D16/SUM(K8_M13!$B16:$G16)*100 -> 0 | E16: =K8_M13!E16/SUM(K8_M13!$B16:$G16)*100 -> 0 | F16: =K8_M13!F16/SUM(K8_M13!$B16:$G16)*100 -> 3.7766978 | G16: =K8_M13!G16/SUM(K8_M13!$B16:$G16)*100 -> 1.580401
A17: 37011 | B17: =K8_M13!B17/SUM(K8_M13!$B17:$G17)*100 -> 26.896331 | C17: =K8_M13!C17/SUM(K8_M13!$B17:$G17)*100 -> 68.263747 | D17: =K8_M13!D17/SUM(K8_M13!$B17:$G17)*100 -> 0 | E17: =K8_M13!E17/SUM(K8_M13!$B17:$G17)*100 -> 0 | F17: =K8_M13!F17/SUM(K8_M13!$B17:$G17)*100 -> 3.2728063 | G17: =K8_M13!G17/SUM(K8_M13!$B17:$G17)*100 -> 1.5671153
A18: 37042 | B18: =K8_M13!B18/SUM(K8_M13!$B18:$G18)*100 -> 25.951981 | C18: =K8_M13!C18/SUM(K8_M13!$B18:$G18)*100 -> 70.603282 | D18: =K8_M13!D18/SUM(K8_M13!$B18:$G18)*100 -> 0 | E18: =K8_M13!E18/SUM(K8_M13!$B18:$G18)*100 -> 0 | F18: =K8_M13!F18/SUM(K8_M13!$B18:$G18)*100 -> 2.604806 | G18: =K8_M13!G18/SUM(K8_M13!$B18:$G18)*100 -> 0.83993132
A19: 37072 | B19: =K8_M13!B19/SUM(K8_M13!$B19:$G19)*100 -> 25.230006 | C19: =K8_M13!C19/SUM(K8_M13!$B19:$G19)*100 -> 69.372149 | D19: =K8_M13!D19/SUM(K8_M13!$B19:$G19)*100 -> 0 | E19: =K8_M13!E19/SUM(K8_M13!$B19:$G19)*100 -> 0 | F19: =K8_M13!F19/SUM(K8_M13!$B19:$G19)*100 -> 2.6938678 | G19: =K8_M13!G19/SUM(K8_M13!$B19:$G19)*100 -> 2.7039775
A20: 37103 | B20: =K8_M13!B20/SUM(K8_M13!$B20:$G20)*100 -> 26.106146 | C20: =K8_M13!C20/SUM(K8_M13!$B20:$G20)*100 -> 68.544222 | D20: =K8_M13!D20/SUM(K8_M13!$B20:$G20)*100 -> 0 | E20: =K8_M13!E20/SUM(K8_M13!$B20:$G20)*100 -> 0 | F20: =K8_M13!F20/SUM(K8_M13!$B20:$G20)*100 -> 2.6687793 | G20: =K8_M13!G20/SUM(K8_M13!$B20:$G20)*100 -> 2.680853
A21: 37134 | B21: =K8_M13!B21/SUM(K8_M13!$B21:$G21)*100 -> 24.681663 | C21: =K8_M13!C21/SUM(K8_M13!$B21:$G21)*100 -> 69.742293 | D21: =K8_M13!D21/SUM(K8_M13!$B21:$G21)*100 -> 0 | E21: =K8_M13!E21/SUM(K8_M13!$B21:$G21)*100 -> 0 | F21: =K8_M13!F21/SUM(K8_M13!$B21:$G21)*100 -> 2.8420103 | G21: =K8_M13!G21/SUM(K8_M13!$B21:$G21)*100 -> 2.7340342
A22: 37164 | B22: =K8_M13!B22/SUM(K8_M13!$B22:$G22)*100 -> 25.730013 | C22: =K8_M13!C22/SUM(K8_M13!$B22:$G22)*100 -> 68.42473 | D22: =K8_M13!D22/SUM(K8_M13!$B22:$G22)*100 -> 0 | E22: =K8_M13!E22/SUM(K8_M13!$B22:$G22)*100 -> 0 | F22: =K8_M13!F22/SUM(K8_M13!$B22:$G22)*100 -> 3.2084565 | G22: =K8_M13!G22/SUM(K8_M13!$B22:$G22)*100 -> 2.6367996
A23: 37195 | B23: =K8_M13!B23/SUM(K8_M13!$B23:$G23)*100 -> 25.945835 | C23: =K8_M13!C23/SUM(K8_M13!$B23:$G23)*100 -> 68.035942 | D23: =K8_M13!D23/SUM(K8_M13!$B23:$G23)*100 -> 0 | E23: =K8_M13!E23/SUM(K8_M13!$B23:$G23)*100 -> 0 | F23: =K8_M13!F23/SUM(K8_M13!$B23:$G23)*100 -> 3.4656566 | G23: =K8_M13!G23/SUM(K8_M13!$B23:$G23)*100 -> 2.5525669
A24: 37225 | B24: =K8_M13!B24/SUM(K8_M13!$B24:$G24)*100 -> 25.281308 | C24: =K8_M13!C24/SUM(K8_M13!$B24:$G24)*100 -> 69.119433 | D24: =K8_M13!D24/SUM(K8_M13!$B24:$G24)*100 -> 0 | E24: =K8_M13!E24/SUM(K8_M13!$B24:$G24)*100 -> 0 | F24: =K8_M13!F24/SUM(K8_M13!$B24:$G24)*100 -> 3.2895413 | G24: =K8_M13!G24/SUM(K8_M13!$B24:$G24)*100 -> 2.3097175
... A106: 39721 | B106: =K8_M13!B106/SUM(K8_M13!$B106:$G106)*100 -> 10.439607 | C106: =K8_M13!C106/SUM(K8_M13!$B106:$G106)*100 -> 32.567341 | D106: =K8_M13!D106/SUM(K8_M13!$B106:$G106)*100 -> 19.696425 | E106: =K8_M13!E106/SUM(K8_M13!$B106:$G106)*100 -> 36.798394 | F106: =K8_M13!F106/SUM(K8_M13!$B106:$G106)*100 -> 0.17715249 | G106: =K8_M13!G106/SUM(K8_M13!$B106:$G106)*100 -> 0.32108018

Sheet K8_M15
B1: Skýrsla rannsóknarnefndar Alþingis
B2: 8. kafli - Útlán íslensku bankanna
B3: Mynd 15
A4: Fs | B4: Útlán stóru bankanna þriggja
A5: Ufs | B5: Flokkuð eftir tegund lántakanda
A6: Alm.
A7: Nm
A8: H | B8: Heimild: Seðlabanki Íslands.
A9: Vá | B9: Ma. evra
A10: Há
A11: Ath.
A12: Dagsetning | B12: Heimili | C12: Fyrirtæki | D12: Eignarhaldsfélög | E12: Erlendir aðilar | F12: Opinberir aðilar | G12: Aðrir
A13: 36891 | B13: 1.3789164 | C13: 4.4264919 | D13: 0 | E13: 0 | F13: 0.22092619 | G13: 0.11714696
A14: 36922 | B14: 1.3768107 | C14: 4.4812439 | D14: 0 | E14: 0 | F14: 0.22420584 | G14: 0.086611383
A15: 36950 | B15: 1.3791238 | C15: 4.4877685 | D15: 0 | E15: 0 | F15: 0.2103961 | G15: 0.092676273
A16: 36981 | B16: 1.3830907 | C16: 4.6003386 | D16: 0 | E16: 0 | F16: 0.21925057 | G16: 0.089701488
A17: 37011 | B17: 1.2921714 | C17: 4.2957475 | D17: 0 | E17: 0.26532875 | F17: 0.20063685 | G17: 0.096334531
A18: 37042 | B18: 1.2637798 | C18: 4.3463941 | D18: 0 | E18: 0.31723318 | F18: 0.17831811 | G18: 0.070944681
A19: 37072 | B19: 1.2652953 | C19: 4.3786183 | D19: 0 | E19: 0.30679391 | F19: 0.18181634 | G19: 0.11006674
A20: 37103 | B20: 1.2514312 | C20: 4.371162 | D20: 0 | E20: 0.29004746 | F20: 0.18775003 | G20: 0.10813888
A21: 37134 | B21: 1.2506327 | C21: 4.2523095 | D21: 0 | E21: 0.24712698 | F21: 0.19239525 | G21: 0.10929119
A22: 37164 | B22: 1.264119 | C22: 4.1796961 | D22: 0 | E22: 0.24018647 | F22: 0.20272266 | G22: 0.11076612
A23: 37195 | B23: 1.2609022 | C23: 4.2216589 | D23: 0 | E23: 0.24498376 | F23: 0.20945412 | G23: 0.1101539
A24: 37225 | B24: 1.2340689 | C24: 4.2169568 | D24: 0 | E24: 0.26826813 | F24: 0.20740762 | G24: 0.11197318
... A106: 39721 | B106: 5.5515373 | C106: 12.094208 | D106: 10.121674 | E106: 22.374 | F106: 0.11641968 | G106: 1.0012564

Sheet K8_M16
B1: Skýrsla rannsóknarnefndar Alþingis
B2: 8. kafli - Útlán íslensku bankanna
B3: Mynd 16
A4: Fs | B4: Útlán stóru bankanna þriggja
A5: Ufs | B5: Flokkuð eftir tegund lántakanda. Hlutfall af heildarútlánum móðurfélags.
A6: Alm.
A7: Nm
A8: H | B8: Heimild: Seðlabanki Íslands.
A9: Vá | B9: %
A10: Há
A11: Ath.
A12: Dagsetning | B12: Heimili | C12: Fyrirtæki | D12: Eignarhaldsfélög | E12: Erlendir aðilar | F12: Opinberir aðilar | G12: Aðrir
A13: 36891 | B13: =K8_M15!B13/SUM(K8_M15!$B13:$G13)*100 -> 22.445195 | C13: =K8_M15!C13/SUM(K8_M15!$B13:$G13)*100 -> 72.051848 | D13: =K8_M15!D13/SUM(K8_M15!$B13:$G13)*100 -> 0 | E13: =K8_M15!E13/SUM(K8_M15!$B13:$G13)*100 -> 0 | F13: =K8_M15!F13/SUM(K8_M15!$B13:$G13)*100 -> 3.5961074 | G13: =K8_M15!G13/SUM(K8_M15!$B13:$G13)*100 -> 1.9068497
A14: 36922 | B14: =K8_M15!B14/SUM(K8_M15!$B14:$G14)*100 -> 22.318679 | C14: =K8_M15!C14/SUM(K8_M15!$B14:$G14)*100 -> 72.642843 | D14: =K8_M15!D14/SUM(K8_M15!$B14:$G14)*100 -> 0 | E14: =K8_M15!E14/SUM(K8_M15!$B14:$G14)*100 -> 0 | F14: =K8_M15!F14/SUM(K8_M15!$B14:$G14)*100 -> 3.6344708 | G14: =K8_M15!G14/SUM(K8_M15!$B14:$G14)*100 -> 1.4040068
A15: 36950 | B15: =K8_M15!B15/SUM(K8_M15!$B15:$G15)*100 -> 22.352216 | C15: =K8_M15!C15/SUM(K8_M15!$B15:$G15)*100 -> 72.735724 | D15: =K8_M15!D15/SUM(K8_M15!$B15:$G15)*100 -> 0 | E15: =K8_M15!E15/SUM(K8_M15!$B15:$G15)*100 -> 0 | F15: =K8_M15!F15/SUM(K8_M15!$B15:$G15)*100 -> 3.4100049 | G15: =K8_M15!G15/SUM(K8_M15!$B15:$G15)*100 -> 1.5020552
A16: 36981 | B16: =K8_M15!B16/SUM(K8_M15!$B16:$G16)*100 -> 21.980401 | C16: =K8_M15!C16/SUM(K8_M15!$B16:$G16)*100 -> 73.10966 | D16: =K8_M15!D16/SUM(K8_M15!$B16:$G16)*100 -> 0 | E16: =K8_M15!E16/SUM(K8_M15!$B16:$G16)*100 -> 0 | F16: =K8_M15!F16/SUM(K8_M15!$B16:$G16)*100 -> 3.4843815 | G16: =K8_M15!G16/SUM(K8_M15!$B16:$G16)*100 -> 1.4255571
A17: 37011 | B17: =K8_M15!B17/SUM(K8_M15!$B17:$G17)*100 -> 21.010169 | C17: =K8_M15!C17/SUM(K8_M15!$B17:$G17)*100 -> 69.847065 | D17: =K8_M15!D17/SUM(K8_M15!$B17:$G17)*100 -> 0 | E17: =K8_M15!E17/SUM(K8_M15!$B17:$G17)*100 -> 4.3141349 | F17: =K8_M15!F17/SUM(K8_M15!$B17:$G17)*100 -> 3.2622716 | G17: =K8_M15!G17/SUM(K8_M15!$B17:$G17)*100 -> 1.5663593
A18: 37042 | B18: =K8_M15!B18/SUM(K8_M15!$B18:$G18)*100 -> 20.460537 | C18: =K8_M15!C18/SUM(K8_M15!$B18:$G18)*100 -> 70.36792 | D18: =K8_M15!D18/SUM(K8_M15!$B18:$G18)*100 -> 0 | E18: =K8_M15!E18/SUM(K8_M15!$B18:$G18)*100 -> 5.1359905 | F18: =K8_M15!F18/SUM(K8_M15!$B18:$G18)*100 -> 2.8869619 | G18: =K8_M15!G18/SUM(K8_M15!$B18:$G18)*100 -> 1.1485911
A19: 37072 | B19: =K8_M15!B19/SUM(K8_M15!$B19:$G19)*100 -> 20.268753 | C19: =K8_M15!C19/SUM(K8_M15!$B19:$G19)*100 -> 70.141045 | D19: =K8_M15!D19/SUM(K8_M15!$B19:$G19)*100 -> 0 | E19: =K8_M15!E19/SUM(K8_M15!$B19:$G19)*100 -> 4.9145288 | F19: =K8_M15!F19/SUM(K8_M15!$B19:$G19)*100 -> 2.9125143 | G19: =K8_M15!G19/SUM(K8_M15!$B19:$G19)*100 -> 1.7631581
A20: 37103 | B20: =K8_M15!B20/SUM(K8_M15!$B20:$G20)*100 -> 20.156643 | C20: =K8_M15!C20/SUM(K8_M15!$B20:$G20)*100 -> 70.405754 | D20: =K8_M15!D20/SUM(K8_M15!$B20:$G20)*100 -> 0 | E20: =K8_M15!E20/SUM(K8_M15!$B20:$G20)*100 -> 4.6717577 | F20: =K8_M15!F20/SUM(K8_M15!$B20:$G20)*100 -> 3.024066 | G20: =K8_M15!G20/SUM(K8_M15!$B20:$G20)*100 -> 1.7417793
A21: 37134 | B21: =K8_M15!B21/SUM(K8_M15!$B21:$G21)*100 -> 20.665619 | C21: =K8_M15!C21/SUM(K8_M15!$B21:$G21)*100 -> 70.265717 | D21: =K8_M15!D21/SUM(K8_M15!$B21:$G21)*100 -> 0 | E21: =K8_M15!E21/SUM(K8_M15!$B21:$G21)*100 -> 4.0835584 | F21: =K8_M15!F21/SUM(K8_M15!$B21:$G21)*100 -> 3.1791642 | G21: =K8_M15!G21/SUM(K8_M15!$B21:$G21)*100 -> 1.8059419
A22: 37164 | B22: =K8_M15!B22/SUM(K8_M15!$B22:$G22)*100 -> 21.077467 | C22: =K8_M15!C22/SUM(K8_M15!$B22:$G22)*100 -> 69.690751 | D22: =K8_M15!D22/SUM(K8_M15!$B22:$G22)*100 -> 0 | E22: =K8_M15!E22/SUM(K8_M15!$B22:$G22)*100 -> 4.0047829 | F22: =K8_M15!F22/SUM(K8_M15!$B22:$G22)*100 -> 3.3801248 | G22: =K8_M15!G22/SUM(K8_M15!$B22:$G22)*100 -> 1.8468745
A23: 37195 | B23: =K8_M15!B23/SUM(K8_M15!$B23:$G23)*100 -> 20.851171 | C23: =K8_M15!C23/SUM(K8_M15!$B23:$G23)*100 -> 69.812339 | D23: =K8_M15!D23/SUM(K8_M15!$B23:$G23)*100 -> 0 | E23: =K8_M15!E23/SUM(K8_M15!$B23:$G23)*100 -> 4.0512248 | F23: =K8_M15!F23/SUM(K8_M15!$B23:$G23)*100 -> 3.4636816 | G23: =K8_M15!G23/SUM(K8_M15!$B23:$G23)*100 -> 1.8215828
A24: 37225 | B24: =K8_M15!B24/SUM(K8_M15!$B24:$G24)*100 -> 20.436088 | C24: =K8_M15!C24/SUM(K8_M15!$B24:$G24)*100 -> 69.832489 | D24: =K8_M15!D24/SUM(K8_M15!$B24:$G24)*100 -> 0 | E24: =K8_M15!E24/SUM(K8_M15!$B24:$G24)*100 -> 4.4425002 | F24: =K8_M15!F24/SUM(K8_M15!$B24:$G24)*100 -> 3.4346547 | G24: =K8_M15!G24/SUM(K8_M15!$B24:$G24)*100 -> 1.8542675
... A106: 39721 | B106: =K8_M15!B106/SUM(K8_M15!$B106:$G106)*100 -> 10.830346 | C106: =K8_M15!C106/SUM(K8_M15!$B106:$G106)*100 -> 23.594268 | D106: =K8_M15!D106/SUM(K8_M15!$B106:$G106)*100 -> 19.746104 | E106: =K8_M15!E106/SUM(K8_M15!$B106:$G106)*100 -> 43.648838 | F106: =K8_M15!F106/SUM(K8_M15!$B106:$G106)*100 -> 0.22712004 | G106: =K8_M15!G106/SUM(K8_M15!$B106:$G106)*100 -> 1.9533244

Sheet K8_M17
B1: Skýrsla rannsóknarnefndar Alþingis
B2: 8. kafli - Útlán íslensku bankanna
B3: Mynd 17
A4: Fs | B4: Útlán Glitnis banka hf.
A5: Ufs | B5: Flokkuð eftir tegund lántakanda
A6: Alm.
A7: Nm | B7: Ísl: Stendur fyrir félög sem rannsóknarnefnd Alþingis taldi ljóst að væru í endanlegri meirihlutaeigu íslenskra einstaklinga. Erl: Stendur fyrir félög sem rannsóknarnefnd Alþingis taldi ekki ljóst að væru í endanlegri meirihlutaeigu íslenskra einstaklinga.
A8: H | B8: Heimild: Glitnir banki hf.
A9: Vá | B9: Ma. evra
A10: Há
A11: Ath.
A12: Dagsetning | B12: Eignarhaldsfélög - Erl | C12: Einstaklingar | D12: Fyrirtæki með erlent heimilisfang - Erl | E12: Aðilar án íslenskrar kennitölu - Erl | F12: Eignarhaldsfélög - Ísl | G12: Fyrirtæki - Erl | H12: Fyrirtæki með erlent heimilisfang - Ísl | I12: Fyrirtæki - Ísl | J12: Aðilar án íslenskrar kennitölu - Ísl
A13: 38383 | B13: 0.22986502 | C13: 1.1332026 | D13: 0.79628762 | E13: 1.5947328 | F13: 0.68044715 | G13: 1.0658129 | H13: 0.013473798 | I13: 1.7212493 | J13: 0
A14: 38411 | B14: 0.20506698 | C14: 1.2103424 | D14: 0.76699778 | E14: 1.6441442 | F14: 0.80947487 | G14: 1.1040129 | H14: 0.0281857 | I14: 1.7676505 | J14: 0
A15: 38442 | B15: 0.22133858 | C15: 1.3033843 | D15: 0.63630557 | E15: 1.5691552 | F15: 0.84939334 | G15: 1.0523466 | H15: 0.028441055 | I15: 1.8653354 | J15: 0
A16: 38472 | B16: 0.2032543 | C16: 1.3181978 | D16: 0.6168841 | E16: 1.8339192 | F16: 0.79161182 | G16: 1.0075466 | H16: 0.014684224 | I16: 1.8857469 | J16: 0.0018180334
A17: 38503 | B17: 0.25040271 | C17: 1.4253959 | D17: 0.5835842 | E17: 1.4704753 | F17: 0.83787702 | G17: 0.97301147 | H17: 0.014834533 | I17: 1.9520732 | J17: 0.0018702771
A18: 38533 | B18: 0.22658893 | C18: 1.5091953 | D18: 0.66568129 | E18: 2.1076019 | F18: 0.85787117 | G18: 1.2654518 | H18: 0.051867914 | I18: 2.1485638 | J18: 0.0018971791
A19: 38564 | B19: 0.18449996 | C19: 1.5646358 | D19: 0.69859006 | E19: 1.8170347 | F19: 1.2093127 | G19: 1.1785484 | H19: 0.051918492 | I19: 2.1743122 | J19: 0.00079268356
A20: 38595 | B20: 0.21080433 | C20: 1.6472941 | D20: 0.67984955 | E20: 2.0941857 | F20: 1.3227017 | G20: 1.2446059 | H20: 0.052120028 | I20: 2.1551423 | J20: 0.0008063594
A21: 38625 | B21: 0.21414329 | C21: 1.7975455 | D21: 0.6578534 | E21: 2.0369964 | F21: 1.7271901 | G21: 1.2962063 | H21: 0.052244957 | I21: 2.2090976 | J21: 0.00083517725
A22: 38656 | B22: 0.12993362 | C22: 1.8590924 | D22: 0.65410244 | E22: 1.9376118 | F22: 1.8496166 | G22: 1.4775325 | H22: 0.014929681 | I22: 2.2899265 | J22: 0.00080107492
A23: 38686 | B23: 0.13016705 | C23: 1.9022474 | D23: 0.84767335 | E23: 1.9300281 | F23: 2.0573037 | G23: 1.6062849 | H23: 0.014932681 | I23: 2.4005607 | J23: 0.00079012632
A24: 38717 | B24: 0.12721554 | C24: 1.9333711 | D24: 0.77428691 | E24: 2.1157462 | F24: 1.9701269 | G24: 1.4420839 | H24: 0.015013719 | I24: 2.6130432 | J24: 0.00078938591
... A57: 39721 | B57: 0.59875207 | C57: 2.0918975 | D57: 0.5335115 | E57: 3.3621556 | F57: 4.2208969 | G57: 1.2457154 | H57: 0.24094907 | I57: 2.9972829 | J57: 0.058247896

Sheet K8_M18
B1: Skýrsla rannsóknarnefndar Alþingis
B2: 8. kafli - Útlán íslensku bankanna
B3: Mynd 18
A4: Fs | B4: Útlán Kaupþings banka hf.
A5: Ufs | B5: Flokkuð eftir tegund lántakanda
A6: Alm.
A7: Nm | B7: Ísl: Stendur fyrir félög sem rannsóknarnefnd Alþingis taldi ljóst að væru í endanlegri meirihlutaeigu íslenskra einstaklinga. Erl: Stendur fyrir félög sem rannsóknarnefnd Alþingis taldi ekki ljóst að væru í endanlegri meirihlutaeigu íslenskra einstaklinga.
A8: H | B8: Heimild: Kaupþing banki hf.
A9: Vá | B9: Ma. evra
A10: Há
A11: Ath.
A12: Dagsetning | B12: Eignarhaldsfélög - Erl | C12: Einstaklingar | D12: Fyrirtæki með erlent heimilisfang - Erl | E12: Aðilar án íslenskrar kennitölu - Erl | F12: Eignarhaldsfélög - Ísl | G12: Fyrirtæki - Erl | H12: Fyrirtæki með erlent heimilisfang - Ísl | I12: Fyrirtæki - Ísl | J12: Aðilar án íslenskrar kennitölu - Ísl
A13: 38383 | B13: 0.23055977 | C13: 1.2653486 | D13: 0.23608747 | E13: 0.37335218 | F13: 0.57426595 | G13: 0.58668237 | H13: 0.11617954 | I13: 1.3502507
A14: 38411 | B14: 0.23254427 | C14: 1.324974 | D14: 0.67160921 | E14: 0.43426077 | F14: 0.66692437 | G14: 0.59065365 | H14: 0.11566443 | I14: 1.3548509
A15: 38442 | B15: 0.23907256 | C15: 1.4654332 | D15: 0.66467604 | E15: 0.43032044 | F15: 0.69002404 | G15: 0.66774101 | H15: 0.11677611 | I15: 1.470486
A16: 38472 | B16: 0.23773691 | C16: 1.4864644 | D16: 0.66026218 | E16: 0.40469966 | F16: 0.82003254 | G16: 0.65211301 | H16: 0.11252098 | I16: 1.4617831
A17: 38503 | B17: 0.35452284 | C17: 1.5666887 | D17: 0.73947916 | E17: 0.44075069 | F17: 0.84219789 | G17: 0.71949753 | H17: 0.11423591 | I17: 1.4922285
A18: 38533 | B18: 0.33232644 | C18: 1.666438 | D18: 0.96106462 | E18: 0.4979433 | F18: 0.82441419 | G18: 0.6821427 | H18: 0.11536064 | I18: 1.5870574
A19: 38564 | B19: 0.32056284 | C19: 1.7022657 | D19: 1.0040724 | E19: 0.4718679 | F19: 0.8965656 | G19: 0.70026398 | H19: 0.11541252 | I19: 1.6371763
A20: 38595 | B20: 0.29801763 | C20: 1.8565055 | D20: 1.0933131 | E20: 0.59180348 | F20: 0.9089407 | G20: 0.95321206 | H20: 0.10781611 | I20: 1.7185148
A21: 38625 | B21: 0.26489334 | C21: 1.9901746 | D21: 1.1470843 | E21: 0.6172388 | F21: 1.0046745 | G21: 1.4883336 | H21: 0.10833457 | I21: 1.7008828
A22: 38656 | B22: 0.25650402 | C22: 2.0482046 | D22: 1.1596506 | E22: 0.59737832 | F22: 1.1242671 | G22: 1.3514434 | H22: 0.10880016 | I22: 1.7404015
A23: 38686 | B23: 0.24653968 | C23: 1.9963816 | D23: 1.1815891 | E23: 0.61889481 | F23: 1.1602535 | G23: 1.367745 | H23: 0.10965751 | I23: 1.856293
A24: 38717 | B24: 0.25328781 | C24: 2.0451194 | D24: 1.2564983 | E24: 0.93191041 | F24: 1.366699 | G24: 1.2943592 | H24: 0.10973395 | I24: 1.9411238
... A57: 39721 | B57: 0.69898213 | C57: 2.1620429 | D57: 4.5420027 | E57: 2.0726889 | F57: 3.3034916 | G57: 0.73941844 | H57: 1.4179838 | I57: 1.7181287

Sheet K8_M19
B1: Skýrsla rannsóknarnefndar Alþingis
B2: 8. kafli - Útlán íslensku bankanna
B3: Mynd 19
A4: Fs | B4: Útlán Landsbanka Íslands hf.
A5: Ufs | B5: Flokkuð eftir tegund lántakanda
A6: Alm.
A7: Nm | B7: Ísl: Stendur fyrir félög sem rannsóknarnefnd Alþingis taldi ljóst að væru í endanlegri meirihlutaeigu íslenskra einstaklinga. Erl: Stendur fyrir félög sem rannsóknarnefnd Alþingis taldi ekki ljóst að væru í endanlegri meirihlutaeigu íslenskra einstaklinga.
A8: H | B8: Heimild: Landsbanki Íslands hf.
A9: Vá | B9: Ma. evra
A10: Há
A11: Ath.
A12: Dagsetning | B12: Eignarhaldsfélög - Erl | C12: Einstaklingar | D12: Fyrirtæki með erlent heimilisfang - Erl | E12: Aðilar án íslenskrar kennitölu - Erl | F12: Eignarhaldsfélög - Ísl | G12: Fyrirtæki - Erl | H12: Fyrirtæki með erlent heimilisfang - Ísl | I12: Fyrirtæki - Ísl | J12: Aðilar án íslenskrar kennitölu - Ísl
A13: 38383 | B13: 0.27251077 | C13: 1.1797652 | D13: 0.27335484 | E13: 0.086201496 | F13: 1.415123 | G13: 0.56001274 | H13: 0.053824274 | I13: 1.9833517
A14: 38411 | B14: 0.42416382 | C14: 1.2523673 | D14: 0.33161749 | E14: 0.046885761 | F14: 1.5435493 | G14: 0.53557224 | H14: 0.057381642 | I14: 1.9423531
A15: 38442 | B15: 0.48476623 | C15: 1.3395416 | D15: 0.30534855 | E15: 0.1554826 | F15: 1.5843302 | G15: 0.56865959 | H15: 0.058625625 | I15: 2.0311574
A16: 38472 | B16: 0.45702617 | C16: 1.3919441 | D16: 0.2907436 | E16: 0.076018981 | F16: 1.5766962 | G16: 0.64623541 | H16: 0.061883519 | I16: 2.080534
A17: 38503 | B17: 0.4620679 | C17: 1.484375 | D17: 0.33796113 | E17: 0.26957432 | F17: 1.7201036 | G17: 0.71103021 | H17: 0.055676579 | I17: 2.2164237
A18: 38533 | B18: 0.50962856 | C18: 1.5686264 | D18: 0.40480064 | E18: 1.1815957 | F18: 1.9710117 | G18: 0.66955014 | H18: 0.055949292 | I18: 2.2994643
A19: 38564 | B19: 0.5167644 | C19: 1.6318739 | D19: 0.38713571 | E19: 1.4041485 | F19: 1.9798125 | G19: 0.60535555 | H19: 0.14472079 | I19: 2.2580633
A20: 38595 | B20: 0.4417114 | C20: 1.7242443 | D20: 0.40215565 | E20: 1.0604765 | F20: 2.1130138 | G20: 0.6078955 | H20: 0.14355318 | I20: 2.3412341
A21: 38625 | B21: 0.44867563 | C21: 1.891413 | D21: 0.41874259 | E21: 1.0357706 | F21: 2.2288585 | G21: 0.76710154 | H21: 0.14428789 | I21: 2.490656 | J21: 0.033327903
A22: 38656 | B22: 0.44755594 | C22: 1.9906426 | D22: 0.42773605 | E22: 1.1388698 | F22: 2.6073623 | G22: 0.78480664 | H22: 0.14489279 | I22: 2.653755 | J22: 0.033489638
A23: 38686 | B23: 0.48992369 | C23: 2.0812515 | D23: 0.44484186 | E23: 1.405821 | F23: 2.7803559 | G23: 0.8164353 | H23: 0.14550442 | I23: 2.8428432 | J23: 0.033739073
A24: 38717 | B24: 0.46160612 | C24: 2.0923589 | D24: 0.49958436 | E24: 1.7258256 | F24: 2.8066954 | G24: 0.82545578 | H24: 0.14600914 | I24: 2.8889635 | J24: 0.040451275
A25: 38748 | B25: 0.3714143 | C25: 2.1705118 | D25: 0.42622151 | E25: 1.6585409 | F25: 2.900548 | G25: 0.85172061 | H25: 0.16852022 | I25: 2.9704268 | J25: 0.04257696
A26: 38776 | B26: 0.39230816 | C26: 2.1550965 | D26: 0.43689094 | E26: 1.7993497 | F26: 3.0494715 | G26: 0.99649504 | H26: 0.17902644 | I26: 3.0262057 | J26: 0.042487637
A27: 38807 | B27: 0.45900424 | C27: 2.0383206 | D27: 0.41722707 | E27: 1.648477 | F27: 2.8944423 | G27: 0.9388073 | H27: 0.17129352 | I27: 2.9764061 | J27: 0.043319508
A28: 38837 | B28: 0.37443781 | C28: 1.8980123 | D28: 0.42483261 | E28: 1.8278548 | F28: 2.7382021 | G28: 0.82435366 | H28: 0.18327615 | I28: 2.8926481 | J28: 0.06189738
A29: 38868 | B29: 0.33491556 | C29: 1.9302121 | D29: 0.45012858 | E29: 1.6267005 | F29: 2.8001588 | G29: 0.84723929 | H29: 0.18660536 | I29: 2.9100313 | J29: 0.061895487
A30: 38898 | B30: 0.32217612 | C30: 1.8665996 | D30: 0.43982825 | E30: 1.5951661 | F30: 2.7864404 | G30: 0.61812256 | H30: 0.18239847 | I30: 2.8772334 | J30: 0.061663779
A31: 38929 | B31: 0.31409176 | C31: 1.9602849 | D31: 0.46838256 | E31: 1.5047446 | F31: 2.9762237 | G31: 0.64087931 | H31: 0.18697068 | I31: 2.9873359 | J31: 0.061221997
A32: 38960 | B32: 0.31541583 | C32: 2.0941841 | D32: 0.46469976 | E32: 1.5174964 | F32: 3.0559572 | G32: 0.66560757 | H32: 0.1926341 | I32: 3.2271287 | J32: 0.061318696
... A57: 39721 | B57: 0.63201957 | C57: 1.9694709 | D57: 0.45221525 | E57: 4.0825672 | F57: 4.5998336 | G57: 0.65959952 | H57: 0.24723841 | I57: 3.9532964 | J57: 0.11996452

Sheet K8_M20
B1: Skýrsla rannsóknarnefndar Alþingis
B2: 8. kafli - Útlán íslensku bankanna
B3: Mynd 20
A4: Fs | B4: Útlán stóru bankanna þriggja
A5: Ufs | B5: Flokkuð eftir tegund lántakanda
A6: Alm.
A7: Nm | B7: Ísl: Stendur fyrir félög sem rannsóknarnefnd Alþingis taldi ljóst að væru í endanlegri meirihlutaeigu íslenskra einstaklinga. Erl: Stendur fyrir félög sem rannsóknarnefnd Alþingis taldi ekki ljóst að væru í endanlegri meirihlutaeigu íslenskra einstaklinga.
A8: H | B8: Heimild: Glitnir banki hf., Kaupþing banki hf. og Landsbanki Íslands hf.
A9: Vá | B9: Ma. evra
A10: Há
A11: Ath.
A12: Dagsetning | B12: Eignarhaldsfélög - Erl | C12: Einstaklingar | D12: Fyrirtæki með erlent heimilisfang - Erl | E12: Aðilar án íslenskrar kennitölu - Erl | F12: Eignarhaldsfélög - Ísl | G12: Fyrirtæki - Erl | H12: Fyrirtæki með erlent heimilisfang - Ísl | I12: Fyrirtæki - Ísl | J12: Aðilar án íslenskrar kennitölu - Ísl
A13: 38383 | B13: 0.73293557 | C13: 3.5783163 | D13: 1.3057299 | E13: 2.0542865 | F13: 2.6698361 | G13: 2.212508 | H13: 0.18347761 | I13: 5.0548517 | J13: 0
A14: 38411 | B14: 0.86177507 | C14: 3.7876837 | D14: 1.7702245 | E14: 2.1252907 | F14: 3.0199486 | G14: 2.2302388 | H14: 0.20123177 | I14: 5.0648545 | J14: 0
A15: 38442 | B15: 0.94517737 | C15: 4.108359 | D15: 1.6063302 | E15: 2.1549582 | F15: 3.1237476 | G15: 2.2887472 | H15: 0.20384279 | I15: 5.3669788 | J15: 0
A16: 38472 | B16: 0.89801738 | C16: 4.1966063 | D16: 1.5678899 | E16: 2.3146379 | F16: 3.1883406 | G16: 2.305895 | H16: 0.18908872 | I16: 5.428064 | J16: 0.0018180334
A17: 38503 | B17: 1.0669934 | C17: 4.4764596 | D17: 1.6610245 | E17: 2.1808003 | F17: 3.4001785 | G17: 2.4035392 | H17: 0.18474702 | I17: 5.6607253 | J17: 0.0018702771
A18: 38533 | B18: 1.0685439 | C18: 4.7442597 | D18: 2.0315465 | E18: 3.7871409 | F18: 3.653297 | G18: 2.6171446 | H18: 0.22317784 | I18: 6.0350856 | J18: 0.0018971791
A19: 38564 | B19: 1.0218272 | C19: 4.8987753 | D19: 2.0897982 | E19: 3.6930511 | F19: 4.0856908 | G19: 2.4841679 | H19: 0.3120518 | I19: 6.0695518 | J19: 0.00079268356
A20: 38595 | B20: 0.95053335 | C20: 5.2280439 | D20: 2.1753183 | E20: 3.7464657 | F20: 4.3446562 | G20: 2.8057135 | H20: 0.30348932 | I20: 6.2148913 | J20: 0.0008063594
A21: 38625 | B21: 0.92771226 | C21: 5.6791331 | D21: 2.2236802 | E21: 3.6900059 | F21: 4.9607232 | G21: 3.5516414 | H21: 0.30486741 | I21: 6.4006363 | J21: 0.03416308
A22: 38656 | B22: 0.83399359 | C22: 5.8979396 | D22: 2.2414891 | E22: 3.6738599 | F22: 5.5812461 | G22: 3.6137825 | H22: 0.26862263 | I22: 6.684083 | J22: 0.034290713
A23: 38686 | B23: 0.86663042 | C23: 5.9798806 | D23: 2.4741043 | E23: 3.9547438 | F23: 5.9979131 | G23: 3.7904652 | H23: 0.27009461 | I23: 7.0996969 | J23: 0.034529199
A24: 38717 | B24: 0.84210947 | C24: 6.0708494 | D24: 2.5303696 | E24: 4.7734822 | F24: 6.1435214 | G24: 3.5618989 | H24: 0.2707568 | I24: 7.4431305 | J24: 0.04124066
... A57: 39721 | B57: 1.9297538 | C57: 6.2234112 | D57: 5.5277294 | E57: 9.5174117 | F57: 12.124222 | G57: 2.6447334 | H57: 1.9061713 | I57: 8.668708 | J57: 0.17821242

Sheet K8_M21
B1: Skýrsla rannsóknarnefndar Alþingis
B2: 8. kafli - Útlán íslensku bankanna
B3: Mynd 21
A4: Fs | B4: Útlán Straums-Burðaráss hf.
A5: Ufs | B5: Flokkuð eftir tegund lántakanda
A6: Alm.
A7: Nm | B7: Ísl: Stendur fyrir félög sem rannsóknarnefnd Alþingis taldi ljóst að væru í endanlegri meirihlutaeigu íslenskra einstaklinga. Erl: Stendur fyrir félög sem rannsóknarnefnd Alþingis taldi ekki ljóst að væru í endanlegri meirihlutaeigu íslenskra einstaklinga.
A8: H | B8: Heimild: Straumur-Burðarás hf.
A9: Vá | B9: Ma. evra
A10: Há
A11: Ath.
A12: Dagsetning | B12: Eignarhaldsfélög - Erl | C12: Einstaklingar | D12: Fyrirtæki með erlent heimilisfang - Erl | E12: Aðilar án íslenskrar kennitölu - Erl | F12: Eignarhaldsfélög - Ísl | G12: Fyrirtæki - Erl | H12: Fyrirtæki með erlent heimilisfang - Ísl | I12: Fyrirtæki - Ísl | J12: Aðilar án íslenskrar kennitölu - Ísl
A13: 38595 | B13: 0.058884386 | C13: 0.0042311308 | D13: 0.034657409 | E13: 0.055507463 | F13: 0.31382401 | G13: 0.056058322 | H13: 0.055676672 | I13: 0.010139809 | J13: 0.025652725
A14: 38625 | B14: 0.051947242 | C14: 0.0043151137 | D14: 0.033268459 | E14: 0.055857815 | F14: 0.32418592 | G14: 0.087945368 | H14: 0.055846223 | I14: 0.01072943 | J14: 0.02550239
A15: 38656 | B15: 0.051107242 | C15: 0.0041102255 | D15: 0.033463861 | E15: 0.058970597 | F15: 0.38817239 | G15: 0.10178023 | H15: 0.18722058 | I15: 0.010891848 | J15: 0.025625408
A16: 38686 | B16: 0.012206237 | C16: 0.0042172711 | D16: 0.060219637 | E16: 0.063107006 | F16: 0.40097485 | G16: 0.11419769 | H16: 0.094190339 | I16: 0.090994941 | J16: 0.025784212
A17: 38717 | B17: 0.01229969 | C17: 0.0042393272 | D17: 0.060080311 | E17: 0.11563757 | F17: 0.38779499 | G17: 0.10857782 | H17: 0.094568738 | I17: 0.090991381 | J17: 0.025661349
A18: 38748 | B18: 0.012285396 | C18: 0.0040146004 | D18: 0.052314407 | E18: 0.11518817 | F18: 0.70793023 | G18: 0.1180594 | H18: 0.094951381 | I18: 0.11786361 | J18: 0.025778105
A19: 38776 | B19: 0.0097998511 | C19: 0.0039854846 | D19: 0.052709946 | E19: 0.12473067 | F19: 0.70469369 | G19: 0.071220884 | H19: 0.095322866 | I19: 0.053988007 | J19: 0.025908251
A20: 38807 | B20: 0 | C20: 0.018594955 | D20: 0.052213603 | E20: 0.15631496 | F20: 0.75279485 | G20: 0.070753398 | H20: 0.10462357 | I20: 0.049184513 | J20: 0.025803541
A21: 38837 | B21: 0 | C21: 0.017276583 | D21: 0.052649589 | E21: 0.16266454 | F21: 0.69124218 | G21: 0.10767512 | H21: 0.10435395 | I21: 0.049468703 | J21: 0.02594254
A22: 38868 | B22: 0.0021867607 | C22: 0.017708463 | D22: 0.053148885 | E22: 0.15033621 | F22: 0.7098222 | G22: 0.10587001 | H22: 0.10500372 | I22: 0.050743733 | J22: 0.026098919
A23: 38898 | B23: 0.0052106223 | C23: 0.017013187 | D23: 0.053213856 | E23: 0.16784129 | F23: 0.78675127 | G23: 0.1050118 | H23: 0.10507133 | I23: 0.056497932 | J23: 0.025971083
A24: 38929 | B24: 0 | C24: 0.017955715 | D24: 0.053896147 | E24: 0.14019686 | F24: 0.80725399 | G24: 0.10608123 | H24: 0.10601516 | I24: 0.051318979 | J24: 0.026113139
... A50: 39721 | B50: 0.020526982 | C50: 0.0089121162 | D50: 0.12215815 | E50: 0.79403753 | F50: 0.56298123 | G50: 0.067859862 | H50: 0 | I50: 0.16148325 | J50: 0.15320958

Sheet K8_M22
B1: Skýrsla rannsóknarnefndar Alþingis
B2: 8. kafli - Útlán íslensku bankanna
B3: Mynd 22
A4: Fs | B4: Útlán Glitnis banka hf.
A5: Ufs | B5: Flokkuð eftir mynt. Hlutfall af heildarútlánum móðurfélags.
A6: Alm.
A7: Nm
A8: H | B8: Heimild: Glitnir banki hf.
A9: Vá | B9: %
A10: Há
A11: Ath.
A12: Dagsetning | B12: Evra | C12: USD | D12: CHF | E12: GBP | F12: JPY | G12: NOK | H12: DKK | I12: CAD | J12: SEK | K12: Aðrar erlendar myntir
A13: 38383 | B13: 17.362817 | C13: 9.366563 | D13: 6.1050699 | E13: 7.2126615 | F13: 3.3835104 | G13: 3.623364 | H13: 1.6123442 | I13: 1.8116192 | J13: 1.4391009 | K13: 2.0417207
A14: 38411 | B14: 17.621779 | C14: 9.1209466 | D14: 6.085836 | E14: 7.6145128 | F14: 3.4280624 | G14: 3.5406761 | H14: 1.6143098 | I14: 1.6792015 | J14: 1.4841882 | K14: 1.9942395
A15: 38442 | B15: 18.343398 | C15: 9.9381093 | D15: 6.5937847 | E15: 7.8437296 | F15: 3.7286625 | G15: 3.9938999 | H15: 1.7300921 | I15: 1.7300085 | J15: 1.4193659 | K15: 1.9946402
A16: 38472 | B16: 19.198238 | C16: 10.273639 | D16: 6.5978191 | E16: 8.7636149 | F16: 3.5371055 | G16: 3.2423288 | H16: 1.6724743 | I16: 1.8536326 | J16: 1.2446396 | K16: 0.93327131
A17: 38503 | B17: 18.844366 | C17: 8.7773194 | D17: 7.1122476 | E17: 7.3342027 | F17: 3.788477 | G17: 2.7078435 | H17: 1.6663406 | I17: 0.24938915 | J17: 2.3203829 | K17: 0.90291184
A18: 38533 | B18: 20.680799 | C18: 9.2778113 | D18: 5.6404375 | E18: 11.024307 | F18: 3.1931084 | G18: 2.2360461 | H18: 1.5398459 | I18: 2.0792431 | J18: 1.8837725 | K18: 0.76965037
A19: 38564 | B19: 18.462941 | C19: 9.0333203 | D19: 6.6824694 | E19: 10.662798 | F19: 3.7428736 | G19: 1.6817783 | H19: 2.0872115 | I19: 2.0936339 | J19: 1.8487447 | K19: 0.61047984
A20: 38595 | B20: 18.603082 | C20: 8.929781 | D20: 6.3959765 | E20: 11.795483 | F20: 3.5755258 | G20: 2.2669594 | H20: 1.9817261 | I20: 1.9956771 | J20: 1.899716 | K20: 0.57772554
A21: 38625 | B21: 18.328816 | C21: 9.2408818 | D21: 6.2457104 | E21: 11.963496 | F21: 3.3999332 | G21: 1.8852701 | H21: 1.9832954 | I21: 1.9007327 | J21: 1.8511958 | K21: 0.55085287
A22: 38656 | B22: 18.145578 | C22: 9.0934468 | D22: 5.9028012 | E22: 11.985194 | F22: 3.4133117 | G22: 2.1052908 | H22: 0.90184832 | I22: 1.6760753 | J22: 0.75408325 | K22: 0.54276027
A23: 38686 | B23: 17.054357 | C23: 9.5254863 | D23: 5.9184059 | E23: 11.34702 | F23: 3.443368 | G23: 2.9798959 | H23: 0.8345459 | I23: 1.5921102 | J23: 0.61770018 | K23: 0.45008907
A24: 38717 | B24: 17.168217 | C24: 9.99876 | D24: 6.0121576 | E24: 11.598367 | F24: 3.5606751 | G24: 2.9923467 | H24: 1.7079472 | I24: 1.7966553 | J24: 0.85302674 | K24: 0.76953183
... A57: 39721 | B57: 21.723516 | C57: 9.5858188 | D57: 5.9726937 | E57: 7.2683835 | F57: 4.2222774 | G57: 4.1245785 | H57: 1.4966758 | I57: 1.0436395 | J57: 0.75967476 | K57: 0.47440125

Sheet K8_M23
B1: Skýrsla rannsóknarnefndar Alþingis
B2: 8. kafli - Útlán íslensku bankanna
B3: Mynd 23
A4: Fs | B4: Útlán Glitnis banka hf. til einstaklinga
A5: Ufs | B5: Flokkuð eftir mynt. Hlutfall af heildarútlánum móðurfélags til einstaklinga.
A6: Alm.
A7: Nm
A8: H | B8: Heimild: Glitnir banki hf.
A9: Vá | B9: %
A10: Há
A11: Ath.
A12: Dagsetning | B12: Evra | C12: USD | D12: CHF | E12: GBP | F12: JPY | G12: NOK | H12: DKK | I12: CAD | J12: SEK | K12: Aðrar erlendar myntir
A13: 38383 | B13: 2.1811427 | C13: 1.5279626 | D13: 1.2972443 | E13: 0.079447273 | F13: 1.1737719 | K13: 0.67608859
A14: 38411 | B14: 1.5598351 | C14: 1.2541577 | D14: 1.0762029 | E14: 0.070395927 | F14: 0.7998274 | K14: 0.55990216
A15: 38442 | B15: 1.3120638 | C15: 1.1085629 | D15: 1.060411 | E15: 0.22437443 | F15: 0.8204057 | H15: 0.078401312 | K15: 0.52918767
A16: 38472 | B16: 1.5941406 | C16: 1.0264722 | D16: 1.1459116 | E16: 0.27552739 | F16: 0.91001602 | H16: 0.070301188 | K16: 0.20862031
A17: 38503 | B17: 1.275827 | C17: 0.87088984 | D17: 1.0172057 | E17: 0.30594589 | F17: 0.70219406 | H17: 0.063712357 | K17: 0.19197289
A18: 38533 | B18: 1.2035917 | C18: 0.94647101 | D18: 0.76714048 | E18: 0.43537754 | F18: 0.66661344 | H18: 0.058306452 | K18: 0.17792103
A19: 38564 | B19: 1.3266386 | C19: 0.81252216 | D19: 0.95498293 | E19: 0.096645093 | F19: 0.6658594 | H19: 0.053995683 | K19: 0.16805699
A20: 38595 | B20: 1.4990849 | C20: 0.74094996 | D20: 1.0080742 | E20: 0.070794685 | F20: 0.74876371 | J20: 0.17033714 | K20: 0.16111982
A21: 38625 | B21: 1.3645567 | C21: 1.3561299 | D21: 0.99199743 | E21: 0.064992219 | F21: 0.76429349 | J21: 0.2487424 | K21: 0.1459462
A22: 38656 | B22: 1.3665777 | C22: 0.68367735 | D22: 1.1088939 | E22: 0.06169077 | F22: 1.2904572 | J22: 0.24090656 | K22: 0.14206105
A23: 38686 | B23: 1.2956362 | C23: 1.1483008 | D23: 1.1195997 | E23: 0.058688297 | F23: 1.3916257 | J23: 0.18464759 | K23: 0.13544891
A24: 38717 | B24: 1.2453842 | C24: 1.1298171 | D24: 1.1662128 | E24: 0.057690872 | F24: 1.3389792 | J24: 0.18157751 | K24: 0.1334875
A25: 38748 | B25: 1.1746605 | C25: 0.49282766 | D25: 1.1524142 | E25: 0.073166472 | F25: 1.3523112 | I25: 0.018268679 | J25: 0.17010094 | K25: 0.12535756
A26: 38776 | B26: 1.4828955 | C26: 0.51047369 | D26: 1.3524201 | E26: 0.069656169 | F26: 1.742797 | G26: 0.035682436 | I26: 0.017431103 | J26: 0.16212778 | K26: 0.12006095
A27: 38807 | B27: 1.3369744 | C27: 0.46950323 | D27: 1.4147543 | E27: 0.077906216 | F27: 1.6537263 | G27: 0.033621162 | I27: 0.058269626 | J27: 0.19329792 | K27: 0.11299454
