Workbook

Sheet Efnisyfirlit
A1: Nr. myndar | B1: Fyrirsögn myndar
A2: Mynd 1 | B2: Stærð Glitnis banka hf. - ISK.
A3: Mynd 2 | B3: Stærð Glitnis banka hf. - evrur
A4: Mynd 3 | B4: Stærð Kaupþings banka hf. - ISK
A5: Mynd 4 | B5: Stærð Kaupþings banka hf. - evrur
A6: Mynd 5 | B6: Stærð Landsbanka Íslands hf. - ISK
A7: Mynd 6 | B7: Stærð Landsbanka Íslands hf. - evrur
A8: Mynd 7 | B8: Samanlögð stærð stóru bankanna þriggja - ISK
A9: Mynd 8 | B9: Samanlögð stærð stóru bankanna þriggja - evrur
A10: Mynd 9 | B10: Útlán Glitnis banka hf. - Flokkuð eftir tegund lántakanda
A11: Mynd 10 | B11: Útlán Glitnis banka hf. - Flokkuð eftir tegund lántakanda. Hlutfall af heildarútlánum móðurfélags
A12: Mynd 11 | B12: Útlán Kaupþings banka hf. - Flokkuð eftir tegund lántakanda
... A189: Mynd 188 | B189: Stærstu áhættuskuldbindingarnar - ný útlán frá janúar 2007 til október 2008 - tryggingar

Sheet K8_M1
B1: Skýrsla rannsóknarnefndar Alþingis
B2: 8. kafli - Útlán íslensku bankanna
B3: Mynd 1
A4: Fs | B4: Stærð Glitnis banka hf.
A5: Ufs
A6: Alm.
A7: Nm
A8: H | B8: Heimild: Seðlabanki Íslands og Glitnir banki hf.
A9: Vá | B9: Ma. kr.
A10: Há
A11: Ath.
A12: Dagsetning | B12: Heildareignir | C12: Útlán til viðskiptavina | D12: Útlán móðurfélags til viðskiptavina
A13: 36891 | B13: 296.917 | C13: 212.453 | D13: 211.27137
A14: 36922 | B14: 301.1915 | C14: 215.06842 | D14: 214.59683
A15: 36950 | B15: 305.466 | C15: 217.68383 | D15: 214.94552
A16: 36981 | B16: 309.7405 | C16: 220.29925 | D16: 223.68194
A17: 37011 | B17: 314.015 | C17: 222.91467 | D17: 237.03438
A18: 37042 | B18: 318.2895 | C18: 225.53008 | D18: 248.98771
A19: 37072 | B19: 322.564 | C19: 228.1455 | D19: 247.13553
A20: 37103 | B20: 326.8385 | C20: 230.76092 | D20: 241.1834
A21: 37134 | B21: 331.113 | C21: 233.37633 | D21: 238.64287
A22: 37164 | B22: 335.3875 | C22: 235.99175 | D22: 244.18927
A23: 37195 | B23: 339.662 | C23: 238.60717 | D23: 246.77876
A24: 37225 | B24: 343.9365 | C24: 241.22258 | D24: 252.71367
... A103: 39629 | B103: 3862.797 | C103: 2548.164 | D103: 1856.8387
A104: 39660 | D104: 1839.5345
A105: 39691 | D105: 1842.9917
A106: 39721 | D106: 2098.8096

Sheet K8_M2
B1: Skýrsla rannsóknarnefndar Alþingis
B2: 8. kafli - Útlán íslensku bankanna
B3: Mynd 2
A4: Fs | B4: Stærð Glitnis banka hf.
A5: Ufs
A6: Alm.
A7: Nm
A8: H | B8: Heimild: Seðlabanki Íslands og Glitnir banki hf.
A9: Vá | B9: Ma. evra
A10: Há
A11: Ath.
A12: Dagsetning | B12: Heildareignir | C12: Útlán til viðskiptavina | D12: Útlán móðurfélags til viðskiptavina
A13: 36891 | B13: 3.7665482 | C13: 2.695078 | D13: 2.6800884
A14: 36922 | B14: 3.7703915 | C14: 2.6929762 | D14: 2.6864902
A15: 36950 | B15: 3.7742349 | C15: 2.6908744 | D15: 2.7009991
A16: 36981 | B16: 3.7780782 | C16: 2.6887726 | D16: 2.7783124
A17: 37011 | B17: 3.7819215 | C17: 2.6866708 | D17: 2.7642493
A18: 37042 | B18: 3.7857649 | C18: 2.684569 | D18: 2.7944749
A19: 37072 | B19: 3.7896082 | C19: 2.6824672 | D19: 2.7818048
A20: 37103 | B20: 3.7934516 | C20: 2.6803654 | D20: 2.7447752
A21: 37134 | B21: 3.7972949 | C21: 2.6782637 | D21: 2.6445355
A22: 37164 | B22: 3.8011382 | C22: 2.6761619 | D22: 2.6290835
A23: 37195 | B23: 3.8049816 | C23: 2.6740601 | D23: 2.6292219
A24: 37225 | B24: 3.8088249 | C24: 2.6719583 | D24: 2.6434485
... A103: 39629 | B103: 30.821008 | C103: 20.331636 | D103: 14.815596
A104: 39660 | D104: 14.855321
A105: 39691 | D105: 15.095354
A106: 39721 | D106: 14.425799

Sheet K8_M3
B1: Skýrsla rannsóknarnefndar Alþingis
B2: 8. kafli - Útlán íslensku bankanna
B3: Mynd 3
A4: Fs | B4: Stærð Kaupþings banka hf.
A5: Ufs
A6: Alm.
A7: Nm
A8: H | B8: Heimild: Seðlabanki Íslands og Kaupþing banki hf.
A9: Vá | B9: Ma. kr.
A10: Há
A11: Ath.
A12: Dagsetning | B12: Heildareignir | C12: Útlán til viðskiptavina | D12: Útlán móðurfélags til viðskiptavina
A13: 36891 | B13: 207.61988 | C13: 126.34239 | D13: 106.92042
A14: 36922 | B14: 216.78182 | C14: 131.50684 | D14: 109.55952
A15: 36950 | B15: 225.94375 | C15: 136.67128 | D15: 108.97523
A16: 36981 | B16: 235.10568 | C16: 141.83572 | D16: 113.00455
A17: 37011 | B17: 244.26761 | C17: 147.00017 | D17: 117.07988
A18: 37042 | B18: 253.42955 | C18: 152.16461 | D18: 121.88366
A19: 37072 | B19: 262.59148 | C19: 157.32906 | D19: 124.64143
A20: 37103 | B20: 271.75341 | C20: 162.4935 | D20: 123.81955
A21: 37134 | B21: 280.91534 | C21: 167.65795 | D21: 126.11634
A22: 37164 | B22: 290.07728 | C22: 172.82239 | D22: 128.48779
A23: 37195 | B23: 299.23921 | C23: 177.98684 | D23: 134.40539
A24: 37225 | B24: 308.40114 | C24: 183.15128 | D24: 136.31037
... A103: 39629 | B103: 6603.715 | C103: 4169.181 | D103: 2249.7073
A104: 39660 | D104: 2210.4355
A105: 39691 | D105: 2213.5329
A106: 39721 | D106: 2836.4209

Sheet K8_M4
B1: Skýrsla rannsóknarnefndar Alþingis
B2: 8. kafli - Útlán íslensku bankanna
B3: Mynd 4
A4: Fs | B4: Stærð Kaupþings banka hf.
A5: Ufs
A6: Alm.
A7: Nm
A8: H | B8: Heimild: Seðlabanki Íslands og Kaupþing banki hf.
A9: Vá | B9: Ma. evra
A10: Há
A11: Ath.
A12: Dagsetning | B12: Heildareignir | C12: Útlán til viðskiptavina | D12: Útlán móðurfélags til viðskiptavina
A13: 36891 | B13: 2.6337673 | C13: 1.6027196 | D13: 1.3563417
A14: 36922 | B14: 2.7040446 | C14: 1.6409868 | D14: 1.3715514
A15: 36950 | B15: 2.7743219 | C15: 1.6792541 | D15: 1.3693795
A16: 36981 | B16: 2.8445992 | C16: 1.7175213 | D16: 1.4036088
A17: 37011 | B17: 2.9148765 | C17: 1.7557885 | D17: 1.3653631
A18: 37042 | B18: 2.9851538 | C18: 1.7940557 | D18: 1.3679424
A19: 37072 | B19: 3.0554311 | C19: 1.8323229 | D19: 1.4029878
A20: 37103 | B20: 3.1257084 | C20: 1.8705901 | D20: 1.4091219
A21: 37134 | B21: 3.1959856 | C21: 1.9088573 | D21: 1.3975658
A22: 37164 | B22: 3.2662629 | C22: 1.9471246 | D22: 1.3833742
A23: 37195 | B23: 3.3365402 | C23: 1.9853918 | D23: 1.4319773
A24: 37225 | B24: 3.4068175 | C24: 2.023659 | D24: 1.4258407
... A103: 39629 | B103: 52.690616 | C103: 33.265626 | D103: 17.95027
A104: 39660 | D104: 17.850565
A105: 39691 | D105: 18.130338
A106: 39721 | D106: 19.495641

Sheet K8_M5
B1: Skýrsla rannsóknarnefndar Alþingis
B2: 8. kafli - Útlán íslensku bankanna
B3: Mynd 5
A4: Fs | B4: Stærð Landsbanka Íslands hf.
A5: Ufs
A6: Alm.
A7: Nm
A8: H | B8: Heimild: Seðlabanki Íslands og Landsbanki Íslands hf.
A9: Vá | B9: Ma. kr.
A10: Há
A11: Ath.
A12: Dagsetning | B12: Heildareignir | C12: Útlán til viðskiptavina | D12: Útlán móðurfélags til viðskiptavina
A13: 36891 | B13: 239.294 | C13: 169.374 | D13: 166.09886
A14: 36922 | B14: 241.76333 | C14: 171.84975 | D14: 168.61311
A15: 36950 | B15: 244.23267 | C15: 174.3255 | D15: 167.08506
A16: 36981 | B16: 246.702 | C16: 176.80125 | D16: 169.91315
A17: 37011 | B17: 249.17133 | C17: 179.277 | D17: 173.26702
A18: 37042 | B18: 251.64067 | C18: 181.75275 | D18: 179.46991
A19: 37072 | B19: 254.11 | C19: 184.2285 | D19: 182.81476
A20: 37103 | B20: 256.57933 | C20: 186.70425 | D20: 180.54056
A21: 37134 | B21: 259.04867 | C21: 189.18 | D21: 181.3512
A22: 37164 | B22: 261.518 | C22: 191.65575 | D22: 184.36983
A23: 37195 | B23: 263.98733 | C23: 194.1315 | D23: 186.40162
A24: 37225 | B24: 266.45667 | C24: 196.60725 | D24: 188.27324
... A103: 39629 | B103: 3970.372 | C103: 2571.47 | D103: 2128.9253
A104: 39660 | D104: 2123.0783
A105: 39691 | D105: 2116.5378
A106: 39721 | D106: 2522.4556

Sheet K8_M6
B1: Skýrsla rannsóknarnefndar Alþingis
B2: 8. kafli - Útlán íslensku bankanna
B3: Mynd 6
A4: Fs | B4: Stærð Landsbanka Íslands hf.
A5: Ufs
A6: Alm.
A7: Nm
A8: H | B8: Heimild: Seðlabanki Íslands og Landsbanki Íslands hf.
A9: Vá | B9: Ma. evra
A10: Há
A11: Ath.
A12: Dagsetning | B12: Heildareignir | C12: Útlán til viðskiptavina | D12: Útlán móðurfélags til viðskiptavina
A13: 36891 | B13: 3.0355701 | C13: 2.1485982 | D13: 2.1070514
A14: 36922 | B14: 3.0279854 | C14: 2.1512 | D14: 2.1108303
A15: 36950 | B15: 3.0204006 | C15: 2.1538019 | D15: 2.099586
A16: 36981 | B16: 3.0128158 | C16: 2.1564037 | D16: 2.1104601
A17: 37011 | B17: 3.005231 | C17: 2.1590056 | D17: 2.0206067
A18: 37042 | B18: 2.9976462 | C18: 2.1616074 | D18: 2.0142527
A19: 37072 | B19: 2.9900614 | C19: 2.1642093 | D19: 2.057798
A20: 37103 | B20: 2.9824766 | C20: 2.1668111 | D20: 2.0546324
A21: 37134 | B21: 2.9748918 | C21: 2.169413 | D21: 2.0096544
A22: 37164 | B22: 2.967307 | C22: 2.1720148 | D22: 1.9850327
A23: 37195 | B23: 2.9597222 | C23: 2.1746167 | D23: 1.9859537
A24: 37225 | B24: 2.9521375 | C24: 2.1772185 | D24: 1.9693854
... A103: 39629 | B103: 31.679342 | C103: 20.517593 | D103: 16.986558
A104: 39660 | D104: 17.145104
A105: 39691 | D105: 17.335882
A106: 39721 | D106: 17.337656

Sheet K8_M7
B1: Skýrsla rannsóknarnefndar Alþingis
B2: 8. kafli - Útlán íslensku bankanna
B3: Mynd 7
A4: Fs | B4: Samanlögð stærð stóru bankanna þriggja
A5: Ufs
A6: Alm.
A7: Nm
A8: H | B8: Heimild: Seðlabanki Íslands, Glitnir banki hf., Kaupþing banki hf. og Landsbanki Íslands hf.
A9: Vá | B9: Ma. kr.
A10: Há
A11: Ath.
A12: Dagsetning | B12: Heildareignir | C12: Útlán til viðskiptavina | D12: Útlán móðurfélags til viðskiptavina
A13: 36891 | B13: 743.83088 | C13: 508.16939 | D13: 484.29066
A14: 36922 | B14: 759.73665 | C14: 518.425 | D14: 492.76946
A15: 36950 | B15: 775.64241 | C15: 528.68061 | D15: 491.0058
A16: 36981 | B16: 791.54818 | C16: 538.93622 | D16: 506.59963
A17: 37011 | B17: 807.45395 | C17: 549.19184 | D17: 527.38128
A18: 37042 | B18: 823.35971 | C18: 559.44745 | D18: 550.34128
A19: 37072 | B19: 839.26548 | C19: 569.70306 | D19: 554.59172
A20: 37103 | B20: 855.17124 | C20: 579.95867 | D20: 545.54351
A21: 37134 | B21: 871.07701 | C21: 590.21428 | D21: 546.11042
A22: 37164 | B22: 886.98278 | C22: 600.46989 | D22: 557.04689
A23: 37195 | B23: 902.88854 | C23: 610.7255 | D23: 567.58578
A24: 37225 | B24: 918.79431 | C24: 620.98111 | D24: 577.29728
... A103: 39629 | B103: 14436.884 | C103: 9288.815 | D103: 6235.4713
A104: 39660 | D104: 6173.0483
A105: 39691 | D105: 6173.0623
A106: 39721 | D106: 7457.6861

Sheet K8_M8
B1: Skýrsla rannsóknarnefndar Alþingis
B2: 8. kafli - Útlán íslensku bankanna
B3: Mynd 8
A4: Fs | B4: Samanlögð stærð stóru bankanna þriggja
A5: Ufs
A6: Alm.
A7: Nm
A8: H | B8: Heimild: Seðlabanki Íslands, Glitnir banki hf., Kaupþing banki hf. og Landsbanki Íslands hf.
A9: Vá | B9: Ma. evra
A10: Há
A11: Ath.
A12: Dagsetning | B12: Heildareignir | C12: Útlán til viðskiptavina | D12: Útlán móðurfélags til viðskiptavina
A13: 36891 | B13: 9.4358856 | C13: 6.4463958 | D13: 6.1434815
A14: 36922 | B14: 9.5024215 | C14: 6.4851631 | D14: 6.1688718
A15: 36950 | B15: 9.5689573 | C15: 6.5239303 | D15: 6.1699647
A16: 36981 | B16: 9.6354932 | C16: 6.5626976 | D16: 6.2923813
A17: 37011 | B17: 9.702029 | C17: 6.6014649 | D17: 6.150219
A18: 37042 | B18: 9.7685649 | C18: 6.6402322 | D18: 6.1766699
A19: 37072 | B19: 9.8351007 | C19: 6.6789994 | D19: 6.2425906
A20: 37103 | B20: 9.9016365 | C20: 6.7177667 | D20: 6.2085295
A21: 37134 | B21: 9.9681724 | C21: 6.756534 | D21: 6.0517556
A22: 37164 | B22: 10.034708 | C22: 6.7953013 | D22: 5.9974904
A23: 37195 | B23: 10.101244 | C23: 6.8340685 | D23: 6.0471529
A24: 37225 | B24: 10.16778 | C24: 6.8728358 | D24: 6.0386746
... A103: 39629 | B103: 115.19097 | C103: 74.114856 | D103: 49.752423
A104: 39660 | D104: 49.850991
A105: 39691 | D105: 50.561573
A106: 39721 | D106: 51.259096

Sheet K8_M9
B1: Skýrsla rannsóknarnefndar Alþingis
B2: 8. kafli - Útlán íslensku bankanna
B3: Mynd 9
A4: Fs | B4: Útlán Glitnis banka hf.
A5: Ufs | B5: Flokkuð eftir tegund lántakanda
A6: Alm.
A7: Nm
A8: H | B8: Heimild: Seðlabanki Íslands.
A9: Vá | B9: Ma. evra
A10: Há
A11: Ath.
A12: Dagsetning | B12: Heimili | C12: Fyrirtæki | D12: Eignarhaldsfélög | E12: Erlendir aðilar | F12: Opinberir aðilar | G12: Aðrir
A13: 36891 | B13: 0.40752718 | C13: 2.1380861 | D13: 0 | E13: 0 | F13: 0.09318494 | G13: 0.041290206
A14: 36922 | B14: 0.42637321 | C14: 2.1235218 | D14: 0 | E14: 0 | F14: 0.098752883 | G14: 0.037842315
A15: 36950 | B15: 0.42948019 | C15: 2.1364145 | D15: 0 | E15: 0 | F15: 0.094040071 | G15: 0.041064425
A16: 36981 | B16: 0.43745734 | C16: 2.2015744 | D16: 0 | E16: 0 | F16: 0.095122057 | G16: 0.0441586
A17: 37011 | B17: 0.41398876 | C17: 1.9411083 | D17: 0 | E17: 0.26532875 | F17: 0.09161488 | G17: 0.05220863
A18: 37042 | B18: 0.40693018 | C18: 1.9458951 | D18: 0 | E18: 0.31723318 | F18: 0.082262134 | G18: 0.042154266
A19: 37072 | B19: 0.40604925 | C19: 1.9451728 | D19: 0 | E19: 0.30679391 | F19: 0.08245365 | G19: 0.0413352
A20: 37103 | B20: 0.36508237 | C20: 1.9634688 | D20: 0 | E20: 0.29004746 | F20: 0.089554191 | G20: 0.036622396
A21: 37134 | B21: 0.41041294 | C21: 1.8592951 | D21: 0 | E21: 0.24712698 | F21: 0.091524869 | G21: 0.036175544
A22: 37164 | B22: 0.40827693 | C22: 1.8445682 | D22: 0 | E22: 0.24018647 | F22: 0.09479224 | G22: 0.041259702
A23: 37195 | B23: 0.39634425 | C23: 1.8550404 | D23: 0 | E23: 0.24498376 | F23: 0.094390059 | G23: 0.038463413
A24: 37225 | B24: 0.39263081 | C24: 1.8405604 | D24: 0 | E24: 0.26826813 | F24: 0.0933402 | G24: 0.048648871
... A106: 39721 | B106: 1.8057142 | C106: 3.8055902 | D106: 3.3534622 | E106: 4.5932321 | F106: 0.052973659 | G106: 0.81482691

Sheet K8_M10
B1: Skýrsla rannsóknarnefndar Alþingis
B2: 8. kafli - Útlán íslensku bankanna
B3: Mynd 10
A4: Fs | B4: Útlán Glitnis banka hf.
A5: Ufs | B5: Flokkuð eftir tegund lántakanda. Hlutfall af heildarútlánum móðurfélags
A6: Alm.
A7: Nm
A8: H | B8: Heimild: Seðlabanki Íslands.
A9: Vá | B9: %
A10: Há
A11: Ath.
A12: Dagsetning | B12: Heimili | C12: Fyrirtæki | D12: Eignarhaldsfélög | E12: Erlendir aðilar | F12: Opinberir aðilar | G12: Aðrir
A13: 36891 | B13: =K8_M9!B13/SUM(K8_M9!$B13:$G13)*100 -> 15.205736 | C13: =K8_M9!C13/SUM(K8_M9!$B13:$G13)*100 -> 79.7767 | D13: =K8_M9!D13/SUM(K8_M9!$B13:$G13)*100 -> 0 | E13: =K8_M9!E13/SUM(K8_M9!$B13:$G13)*100 -> 0 | F13: =K8_M9!F13/SUM(K8_M9!$B13:$G13)*100 -> 3.4769353 | G13: =K8_M9!G13/SUM(K8_M9!$B13:$G13)*100 -> 1.5406285
A14: 36922 | B14: =K8_M9!B14/SUM(K8_M9!$B14:$G14)*100 -> 15.871013 | C14: =K8_M9!C14/SUM(K8_M9!$B14:$G14)*100 -> 79.044464 | D14: =K8_M9!D14/SUM(K8_M9!$B14:$G14)*100 -> 0 | E14: =K8_M9!E14/SUM(K8_M9!$B14:$G14)*100 -> 0 | F14: =K8_M9!F14/SUM(K8_M9!$B14:$G14)*100 -> 3.6759071 | G14: =K8_M9!G14/SUM(K8_M9!$B14:$G14)*100 -> 1.4086154
A15: 36950 | B15: =K8_M9!B15/SUM(K8_M9!$B15:$G15)*100 -> 15.900789 | C15: =K8_M9!C15/SUM(K8_M9!$B15:$G15)*100 -> 79.097191 | D15: =K8_M9!D15/SUM(K8_M9!$B15:$G15)*100 -> 0 | E15: =K8_M9!E15/SUM(K8_M9!$B15:$G15)*100 -> 0 | F15: =K8_M9!F15/SUM(K8_M9!$B15:$G15)*100 -> 3.4816772 | G15: =K8_M9!G15/SUM(K8_M9!$B15:$G15)*100 -> 1.520342
A16: 36981 | B16: =K8_M9!B16/SUM(K8_M9!$B16:$G16)*100 -> 15.745433 | C16: =K8_M9!C16/SUM(K8_M9!$B16:$G16)*100 -> 79.241428 | D16: =K8_M9!D16/SUM(K8_M9!$B16:$G16)*100 -> 0 | E16: =K8_M9!E16/SUM(K8_M9!$B16:$G16)*100 -> 0 | F16: =K8_M9!F16/SUM(K8_M9!$B16:$G16)*100 -> 3.4237351 | G16: =K8_M9!G16/SUM(K8_M9!$B16:$G16)*100 -> 1.5894037
A17: 37011 | B17: =K8_M9!B17/SUM(K8_M9!$B17:$G17)*100 -> 14.976535 | C17: =K8_M9!C17/SUM(K8_M9!$B17:$G17)*100 -> 70.221897 | D17: =K8_M9!D17/SUM(K8_M9!$B17:$G17)*100 -> 0 | E17: =K8_M9!E17/SUM(K8_M9!$B17:$G17)*100 -> 9.5985824 | F17: =K8_M9!F17/SUM(K8_M9!$B17:$G17)*100 -> 3.3142771 | G17: =K8_M9!G17/SUM(K8_M9!$B17:$G17)*100 -> 1.8887092
A18: 37042 | B18: =K8_M9!B18/SUM(K8_M9!$B18:$G18)*100 -> 14.561955 | C18: =K8_M9!C18/SUM(K8_M9!$B18:$G18)*100 -> 69.633659 | D18: =K8_M9!D18/SUM(K8_M9!$B18:$G18)*100 -> 0 | E18: =K8_M9!E18/SUM(K8_M9!$B18:$G18)*100 -> 11.352157 | F18: =K8_M9!F18/SUM(K8_M9!$B18:$G18)*100 -> 2.9437421 | G18: =K8_M9!G18/SUM(K8_M9!$B18:$G18)*100 -> 1.5084861
A19: 37072 | B19: =K8_M9!B19/SUM(K8_M9!$B19:$G19)*100 -> 14.596612 | C19: =K8_M9!C19/SUM(K8_M9!$B19:$G19)*100 -> 69.924848 | D19: =K8_M9!D19/SUM(K8_M9!$B19:$G19)*100 -> 0 | E19: =K8_M9!E19/SUM(K8_M9!$B19:$G19)*100 -> 11.028592 | F19: =K8_M9!F19/SUM(K8_M9!$B19:$G19)*100 -> 2.9640344 | G19: =K8_M9!G19/SUM(K8_M9!$B19:$G19)*100 -> 1.485913
A20: 37103 | B20: =K8_M9!B20/SUM(K8_M9!$B20:$G20)*100 -> 13.300994 | C20: =K8_M9!C20/SUM(K8_M9!$B20:$G20)*100 -> 71.534776 | D20: =K8_M9!D20/SUM(K8_M9!$B20:$G20)*100 -> 0 | E20: =K8_M9!E20/SUM(K8_M9!$B20:$G20)*100 -> 10.567257 | F20: =K8_M9!F20/SUM(K8_M9!$B20:$G20)*100 -> 3.262715 | G20: =K8_M9!G20/SUM(K8_M9!$B20:$G20)*100 -> 1.3342585
A21: 37134 | B21: =K8_M9!B21/SUM(K8_M9!$B21:$G21)*100 -> 15.519283 | C21: =K8_M9!C21/SUM(K8_M9!$B21:$G21)*100 -> 70.30706 | D21: =K8_M9!D21/SUM(K8_M9!$B21:$G21)*100 -> 0 | E21: =K8_M9!E21/SUM(K8_M9!$B21:$G21)*100 -> 9.3448162 | F21: =K8_M9!F21/SUM(K8_M9!$B21:$G21)*100 -> 3.4609054 | G21: =K8_M9!G21/SUM(K8_M9!$B21:$G21)*100 -> 1.3679357
A22: 37164 | B22: =K8_M9!B22/SUM(K8_M9!$B22:$G22)*100 -> 15.529249 | C22: =K8_M9!C22/SUM(K8_M9!$B22:$G22)*100 -> 70.160121 | D22: =K8_M9!D22/SUM(K8_M9!$B22:$G22)*100 -> 0 | E22: =K8_M9!E22/SUM(K8_M9!$B22:$G22)*100 -> 9.1357491 | F22: =K8_M9!F22/SUM(K8_M9!$B22:$G22)*100 -> 3.6055241 | G22: =K8_M9!G22/SUM(K8_M9!$B22:$G22)*100 -> 1.5693568
A23: 37195 | B23: =K8_M9!B23/SUM(K8_M9!$B23:$G23)*100 -> 15.074584 | C23: =K8_M9!C23/SUM(K8_M9!$B23:$G23)*100 -> 70.554729 | D23: =K8_M9!D23/SUM(K8_M9!$B23:$G23)*100 -> 0 | E23: =K8_M9!E23/SUM(K8_M9!$B23:$G23)*100 -> 9.3177288 | F23: =K8_M9!F23/SUM(K8_M9!$B23:$G23)*100 -> 3.5900378 | G23: =K8_M9!G23/SUM(K8_M9!$B23:$G23)*100 -> 1.46292
A24: 37225 | B24: =K8_M9!B24/SUM(K8_M9!$B24:$G24)*100 -> 14.852978 | C24: =K8_M9!C24/SUM(K8_M9!$B24:$G24)*100 -> 69.627249 | D24: =K8_M9!D24/SUM(K8_M9!$B24:$G24)*100 -> 0 | E24: =K8_M9!E24/SUM(K8_M9!$B24:$G24)*100 -> 10.148415 | F24: =K8_M9!F24/SUM(K8_M9!$B24:$G24)*100 -> 3.5310013 | G24: =K8_M9!G24/SUM(K8_M9!$B24:$G24)*100 -> 1.8403563
... A106: 39721 | B106: =K8_M9!B106/SUM(K8_M9!$B106:$G106)*100 -> 12.517256 | C106: =K8_M9!C106/SUM(K8_M9!$B106:$G106)*100 -> 26.380446 | D106: =K8_M9!D106/SUM(K8_M9!$B106:$G106)*100 -> 23.246284 | E106: =K8_M9!E106/SUM(K8_M9!$B106:$G106)*100 -> 31.840399 | F106: =K8_M9!F106/SUM(K8_M9!$B106:$G106)*100 -> 0.36721472 | G106: =K8_M9!G106/SUM(K8_M9!$B106:$G106)*100 -> 5.6484004

Sheet K8_M11
B1: Skýrsla rannsóknarnefndar Alþingis
B2: 8. kafli - Útlán íslensku bankanna
B3: Mynd 11
A4: Fs | B4: Útlán Kaupþings banka hf.
A5: Ufs | B5: Flokkuð eftir tegund lántakanda
A6: Alm.
A7: Nm
A8: H | B8: Heimild: Seðlabanki Íslands.
A9: Vá | B9: Ma. evra
A10: Há
A11: Ath.
A12: Dagsetning | B12: Heimili | C12: Fyrirtæki | D12: Eignarhaldsfélög | E12: Erlendir aðilar | F12: Opinberir aðilar | G12: Aðrir
A13: 36891 | B13: 0.37916559 | C13: 0.92103613 | D13: 0 | E13: 0 | F13: 0.042089292 | G13: 0.014050716
A14: 36922 | B14: 0.34753895 | C14: 0.96846979 | D14: 0 | E14: 0 | F14: 0.044011944 | G14: 0.011530684
A15: 36950 | B15: 0.34881456 | C15: 0.9655214 | D15: 0 | E15: 0 | F15: 0.042359348 | G15: 0.012684242
A16: 36981 | B16: 0.35246658 | C16: 0.99453024 | D16: 0 | E16: 0 | F16: 0.044422816 | G16: 0.012189156
A17: 37011 | B17: 0.3347136 | C17: 0.97529736 | D17: 0 | E17: 0 | F17: 0.042891429 | G17: 0.012460665
A18: 37042 | B18: 0.33411117 | C18: 0.97837052 | D18: 0 | E18: 0 | F18: 0.043588598 | G18: 0.011872077
A19: 37072 | B19: 0.34006349 | C19: 1.0059069 | D19: 0 | E19: 0 | F19: 0.043928334 | G19: 0.01308915
A20: 37103 | B20: 0.34996345 | C20: 0.99936143 | D20: 0 | E20: 0 | F20: 0.043362238 | G20: 0.016434812
A21: 37134 | B21: 0.34420369 | C21: 0.99143533 | D21: 0 | E21: 0 | F21: 0.043755797 | G21: 0.018171011
A22: 37164 | B22: 0.34509293 | C22: 0.97687466 | D22: 0 | E22: 0 | F22: 0.044241506 | G22: 0.017165084
A23: 37195 | B23: 0.34928569 | C23: 1.0154562 | D23: 0 | E23: 0 | F23: 0.046237726 | G23: 0.020997688
A24: 37225 | B24: 0.34355167 | C24: 1.0151683 | D24: 0 | E24: 0 | F24: 0.049283672 | G24: 0.017837071
... A106: 39721 | B106: 1.93584 | C106: 2.6422047 | D106: 3.3533138 | E106: 11.400789 | F106: 0.032731932 | G106: 0.13076172

Sheet K8_M12
B1: Skýrsla rannsóknarnefndar Alþingis
B2: 8. kafli - Útlán íslensku bankanna
B3: Mynd 12
A4: Fs | B4: Útlán Kaupþings banka hf.
A5: Ufs | B5: Flokkuð eftir tegund lántakanda. Hlutfall af heildarútlánum móðurfélags.
A6: Alm.
A7: Nm
A8: H | B8: Heimild: Seðlabanki Íslands.
A9: Vá | B9: %
A10: Há
A11: Ath.
A12: Dagsetning | B12: Heimili | C12: Fyrirtæki | D12: Eignarhaldsfélög | E12: Erlendir aðilar | F12: Opinberir aðilar | G12: Aðrir
A13: 36891 | B13: =K8_M11!B13/SUM(K8_M11!$B13:$G13)*100 -> 27.955019 | C13: =K8_M11!C13/SUM(K8_M11!$B13:$G13)*100 -> 67.905905 | D13: =K8_M11!D13/SUM(K8_M11!$B13:$G13)*100 -> 0 | E13: =K8_M11!E13/SUM(K8_M11!$B13:$G13)*100 -> 0 | F13: =K8_M11!F13/SUM(K8_M11!$B13:$G13)*100 -> 3.1031481 | G13: =K8_M11!G13/SUM(K8_M11!$B13:$G13)*100 -> 1.0359275
A14: 36922 | B14: =K8_M11!B14/SUM(K8_M11!$B14:$G14)*100 -> 25.339113 | C14: =K8_M11!C14/SUM(K8_M11!$B14:$G14)*100 -> 70.611267 | D14: =K8_M11!D14/SUM(K8_M11!$B14:$G14)*100 -> 0 | E14: =K8_M11!E14/SUM(K8_M11!$B14:$G14)*100 -> 0 | F14: =K8_M11!F14/SUM(K8_M11!$B14:$G14)*100 -> 3.208917 | G14: =K8_M11!G14/SUM(K8_M11!$B14:$G14)*100 -> 0.84070376
A15: 36950 | B15: =K8_M11!B15/SUM(K8_M11!$B15:$G15)*100 -> 25.472453 | C15: =K8_M11!C15/SUM(K8_M11!$B15:$G15)*100 -> 70.507947 | D15: =K8_M11!D15/SUM(K8_M11!$B15:$G15)*100 -> 0 | E15: =K8_M11!E15/SUM(K8_M11!$B15:$G15)*100 -> 0 | F15: =K8_M11!F15/SUM(K8_M11!$B15:$G15)*100 -> 3.0933241 | G15: =K8_M11!G15/SUM(K8_M11!$B15:$G15)*100 -> 0.92627657
A16: 36981 | B16: =K8_M11!B16/SUM(K8_M11!$B16:$G16)*100 -> 25.111454 | C16: =K8_M11!C16/SUM(K8_M11!$B16:$G16)*100 -> 70.85523 | D16: =K8_M11!D16/SUM(K8_M11!$B16:$G16)*100 -> 0 | E16: =K8_M11!E16/SUM(K8_M11!$B16:$G16)*100 -> 0 | F16: =K8_M11!F16/SUM(K8_M11!$B16:$G16)*100 -> 3.1649001 | G16: =K8_M11!G16/SUM(K8_M11!$B16:$G16)*100 -> 0.8684155
A17: 37011 | B17: =K8_M11!B17/SUM(K8_M11!$B17:$G17)*100 -> 24.514622 | C17: =K8_M11!C17/SUM(K8_M11!$B17:$G17)*100 -> 71.431357 | D17: =K8_M11!D17/SUM(K8_M11!$B17:$G17)*100 -> 0 | E17: =K8_M11!E17/SUM(K8_M11!$B17:$G17)*100 -> 0 | F17: =K8_M11!F17/SUM(K8_M11!$B17:$G17)*100 -> 3.1413937 | G17: =K8_M11!G17/SUM(K8_M11!$B17:$G17)*100 -> 0.91262647
A18: 37042 | B18: =K8_M11!B18/SUM(K8_M11!$B18:$G18)*100 -> 24.42436 | C18: =K8_M11!C18/SUM(K8_M11!$B18:$G18)*100 -> 71.521326 | D18: =K8_M11!D18/SUM(K8_M11!$B18:$G18)*100 -> 0 | E18: =K8_M11!E18/SUM(K8_M11!$B18:$G18)*100 -> 0 | F18: =K8_M11!F18/SUM(K8_M11!$B18:$G18)*100 -> 3.1864352 | G18: =K8_M11!G18/SUM(K8_M11!$B18:$G18)*100 -> 0.86787841
A19: 37072 | B19: =K8_M11!B19/SUM(K8_M11!$B19:$G19)*100 -> 24.23852 | C19: =K8_M11!C19/SUM(K8_M11!$B19:$G19)*100 -> 71.697476 | D19: =K8_M11!D19/SUM(K8_M11!$B19:$G19)*100 -> 0 | E19: =K8_M11!E19/SUM(K8_M11!$B19:$G19)*100 -> 0 | F19: =K8_M11!F19/SUM(K8_M11!$B19:$G19)*100 -> 3.1310559 | G19: =K8_M11!G19/SUM(K8_M11!$B19:$G19)*100 -> 0.9329482
A20: 37103 | B20: =K8_M11!B20/SUM(K8_M11!$B20:$G20)*100 -> 24.835569 | C20: =K8_M11!C20/SUM(K8_M11!$B20:$G20)*100 -> 70.920863 | D20: =K8_M11!D20/SUM(K8_M11!$B20:$G20)*100 -> 0 | E20: =K8_M11!E20/SUM(K8_M11!$B20:$G20)*100 -> 0 | F20: =K8_M11!F20/SUM(K8_M11!$B20:$G20)*100 -> 3.0772524 | G20: =K8_M11!G20/SUM(K8_M11!$B20:$G20)*100 -> 1.1663158
A21: 37134 | B21: =K8_M11!B21/SUM(K8_M11!$B21:$G21)*100 -> 24.6288 | C21: =K8_M11!C21/SUM(K8_M11!$B21:$G21)*100 -> 70.940153 | D21: =K8_M11!D21/SUM(K8_M11!$B21:$G21)*100 -> 0 | E21: =K8_M11!E21/SUM(K8_M11!$B21:$G21)*100 -> 0 | F21: =K8_M11!F21/SUM(K8_M11!$B21:$G21)*100 -> 3.1308577 | G21: =K8_M11!G21/SUM(K8_M11!$B21:$G21)*100 -> 1.30019
A22: 37164 | B22: =K8_M11!B22/SUM(K8_M11!$B22:$G22)*100 -> 24.94574 | C22: =K8_M11!C22/SUM(K8_M11!$B22:$G22)*100 -> 70.61536 | D22: =K8_M11!D22/SUM(K8_M11!$B22:$G22)*100 -> 0 | E22: =K8_M11!E22/SUM(K8_M11!$B22:$G22)*100 -> 0 | F22: =K8_M11!F22/SUM(K8_M11!$B22:$G22)*100 -> 3.1980868 | G22: =K8_M11!G22/SUM(K8_M11!$B22:$G22)*100 -> 1.2408128
A23: 37195 | B23: =K8_M11!B23/SUM(K8_M11!$B23:$G23)*100 -> 24.391845 | C23: =K8_M11!C23/SUM(K8_M11!$B23:$G23)*100 -> 70.912871 | D23: =K8_M11!D23/SUM(K8_M11!$B23:$G23)*100 -> 0 | E23: =K8_M11!E23/SUM(K8_M11!$B23:$G23)*100 -> 0 | F23: =K8_M11!F23/SUM(K8_M11!$B23:$G23)*100 -> 3.2289426 | G23: =K8_M11!G23/SUM(K8_M11!$B23:$G23)*100 -> 1.4663422
A24: 37225 | B24: =K8_M11!B24/SUM(K8_M11!$B24:$G24)*100 -> 24.094674 | C24: =K8_M11!C24/SUM(K8_M11!$B24:$G24)*100 -> 71.197875 | D24: =K8_M11!D24/SUM(K8_M11!$B24:$G24)*100 -> 0 | E24: =K8_M11!E24/SUM(K8_M11!$B24:$G24)*100 -> 0 | F24: =K8_M11!F24/SUM(K8_M11!$B24:$G24)*100 -> 3.4564641 | G24: =K8_M11!G24/SUM(K8_M11!$B24:$G24)*100 -> 1.2509863
... A106: 39721 | B106: =K8_M11!B106/SUM(K8_M11!$B106:$G106)*100 -> 9.9296041 | C106: =K8_M11!C106/SUM(K8_M11!$B106:$G106)*100 -> 13.552798 | D106: =K8_M11!D106/SUM(K8_M11!$B106:$G106)*100 -> 17.200326 | E106: =K8_M11!E106/SUM(K8_M11!$B106:$G106)*100 -> 58.478656 | F106: =K8_M11!F106/SUM(K8_M11!$B106:$G106)*100 -> 0.16789359 | G106: =K8_M11!G106/SUM(K8_M11!$B106:$G106)*100 -> 0.67072285

Sheet K8_M13
B1: Skýrsla rannsóknarnefndar Alþingis
B2: 8. kafli - Útlán íslensku bankanna
B3: Mynd 13
A4: Fs | B4: Útlán Landsbanka Íslands hf.
A5: Ufs | B5: Flokkuð eftir tegund lántakanda
A6: Alm.
A7: Nm
A8: H | B8: Heimild: Seðlabanki Íslands.
A9: Vá | B9: Ma. evra
A10: Há
A11: Ath.
A12: Dagsetning | B12: Heimili | C12: Fyrirtæki | D12: Eignarhaldsfélög | E12: Erlendir aðilar | F12: Opinberir aðilar | G12: Aðrir
A13: 36891 | B13: 0.59222366 | C13: 1.3673697 | D13: 0 | E13: 0 | F13: 0.085651958 | G13: 0.061806037
A14: 36922 | B14: 0.60289856 | C14: 1.3892523 | D14: 0 | E14: 0 | F14: 0.081441014 | G14: 0.037238384
A15: 36950 | B15: 0.60082909 | C15: 1.3858326 | D15: 0 | E15: 0 | F15: 0.073996681 | G15: 0.038927607
A16: 36981 | B16: 0.59316676 | C16: 1.4042339 | D16: 0 | E16: 0 | F16: 0.079705699 | G16: 0.033353732
A17: 37011 | B17: 0.54346906 | C17: 1.3793418 | D17: 0 | E17: 0 | F17: 0.066130542 | G17: 0.031665236
A18: 37042 | B18: 0.52273847 | C18: 1.4221285 | D18: 0 | E18: 0 | F18: 0.052467375 | G18: 0.016918339
A19: 37072 | B19: 0.51918255 | C19: 1.4275387 | D19: 0 | E19: 0 | F19: 0.055434356 | G19: 0.055642393
A20: 37103 | B20: 0.53638534 | C20: 1.4083318 | D20: 0 | E20: 0 | F20: 0.054833605 | G20: 0.055081676
A21: 37134 | B21: 0.49601611 | C21: 1.401579 | D21: 0 | E21: 0 | F21: 0.057114585 | G21: 0.054944638
A22: 37164 | B22: 0.51074919 | C22: 1.3582533 | D22: 0 | E22: 0 | F22: 0.063688912 | G22: 0.052341334
A23: 37195 | B23: 0.51527227 | C23: 1.3511623 | D23: 0 | E23: 0 | F23: 0.068826337 | G23: 0.050692797
A24: 37225 | B24: 0.4978864 | C24: 1.361228 | D24: 0 | E24: 0 | F24: 0.064783746 | G24: 0.045487239
... A106: 39721 | B106: 1.8099831 | C106: 5.6464134 | D106: 3.4148984 | E106: 6.3799788 | F106: 0.030714089 | G106: 0.055667776

Sheet K8_M14
B1: Skýrsla rannsóknarnefndar Alþingis
B2: 8. kafli - Útlán íslensku bankanna
B3: Mynd 14
A4: Fs | B4: Útlán Landsbanka Íslands hf.
A5: Ufs | B5: Flokkuð eftir tegund lántakanda. Hlutfall af heildarútlánum móðurfélags.
A6: Alm.
A7: Nm
A8: H | B8: Heimild: Seðlabanki Íslands.
A9: Vá | B9: %
A10: Há
A11: Ath.
A12: Dagsetning | B12: Heimili | C12: Fyrirtæki | D12: Eignarhaldsfélög | E12: Erlendir aðilar | F12: Opinberir aðilar | G12: Aðrir
A13: 36891 | B13: =K8_M13!B13/SUM(K8_M13!$B13:$G13)*100 -> 28.10675 | C13: =K8_M13!C13/SUM(K8_M13!$B13:$G13)*100 -> 64.89494 | D13: =K8_M13!D13/SUM(K8_M13!$B13:$G13)*100 -> 0 | E13: =K8_M13!E13/SUM(K8_M13!$B13:$G13)*100 -> 0 | F13: =K8_M13!F13/SUM(K8_M13!$B13:$G13)*100 -> 4.0650152 | G13: =K8_M13!G13/SUM(K8_M13!$B13:$G13)*100 -> 2.9332952
A14: 36922 | B14: =K8_M13!B14/SUM(K8_M13!$B14:$G14)*100 -> 28.562152 | C14: =K8_M13!C14/SUM(K8_M13!$B14:$G14)*100 -> 65.815444 | D14: =K8_M13!D14/SUM(K8_M13!$B14:$G14)*100 -> 0 | E14: =K8_M13!E14/SUM(K8_M13!$B14:$G14)*100 -> 0 | F14: =K8_M13!F14/SUM(K8_M13!$B14:$G14)*100 -> 3.8582455 | G14: =K8_M13!G14/SUM(K8_M13!$B14:$G14)*100 -> 1.7641581
A15: 36950 | B15: =K8_M13!B15/SUM(K8_M13!$B15:$G15)*100 -> 28.616551 | C15: =K8_M13!C15/SUM(K8_M13!$B15:$G15)*100 -> 66.005042 | D15: =K8_M13!D15/SUM(K8_M13!$B15:$G15)*100 -> 0 | E15: =K8_M13!E15/SUM(K8_M13!$B15:$G15)*100 -> 0 | F15: =K8_M13!F15/SUM(K8_M13!$B15:$G15)*100 -> 3.5243463 | G15: =K8_M13!G15/SUM(K8_M13!$B15:$G15)*100 -> 1.8540611
A16: 36981 | B16: =K8_M13!B16/SUM(K8_M13!$B16:$G16)*100 -> 28.10604 | C16: =K8_M13!C16/SUM(K8_M13!$B16:$G16)*100 -> 66.536861 | D16: =K8_M13!D16/SUM(K8_M13!$B16:$G16)*100 -> 0 | E16: =K8_M13!E16/SUM(K8_M13!$B16:$G16)*100 -> 0 | F16: =K8_M13!F16/SUM(K8_M13!$B16:$G16)*100 -> 3.7766978 | G16: =K8_M13!G16/SUM(K8_M13!$B16:$G16)*100 -> 1.580401
A17: 37011 | B17: =K8_M13!B17/SUM(K8_M13!$B17:$G17)*100 -> 26.896331 | C17: =K8_M13!C17/SUM(K8_M13!$B17:$G17)*100 -> 68.263747 | D17: =K8_M13!D17/SUM(K8_M13!$B17:$G17)*100 -> 0 | E17: =K8_M13!E17/SUM(K8_M13!$B17:$G17)*100 -> 0 | F17: =K8_M13!F17/SUM(K8_M13!$B17:$G17)*100 -> 3.2728063 | G17: =K8_M13!G17/SUM(K8_M13!$B17:$G17)*100 -> 1.5671153
A18: 37042 | B18: =K8_M13!B18/SUM(K8_M13!$B18:$G18)*100 -> 25.951981 | C18: =K8_M13!C18/SUM(K8_M13!$B18:$G18)*100 -> 70.603282 | D18: =K8_M13!D18/SUM(K8_M13!$B18:$G18)*100 -> 0 | E18: =K8_M13!E18/SUM(K8_M13!$B18:$G18)*100 -> 0 | F18: =K8_M13!F18/SUM(K8_M13!$B18:$G18)*100 -> 2.604806 | G18: =K8_M13!G18/SUM(K8_M13!$B18:$G18)*100 -> 0.83993132
A19: 37072 | B19: =K8_M13!B19/SUM(K8_M13!$B19:$G19)*100 -> 25.230006 | C19: =K8_M13!C19/SUM(K8_M13!$B19:$G19)*100 -> 69.372149 | D19: =K8_M13!D19/SUM(K8_M13!$B19:$G19)*100 -> 0 | E19: =K8_M13!E19/SUM(K8_M13!$B19:$G19)*100 -> 0 | F19: =K8_M13!F19/SUM(K8_M13!$B19:$G19)*100 -> 2.6938678 | G19: =K8_M13!G19/SUM(K8_M13!$B19:$G19)*100 -> 2.7039775
A20: 37103 | B20: =K8_M13!B20/SUM(K8_M13!$B20:$G20)*100 -> 26.106146 | C20: =K8_M13!C20/SUM(K8_M13!$B20:$G20)*100 -> 68.544222 | D20: =K8_M13!D20/SUM(K8_M13!$B20:$G20)*100 -> 0 | E20: =K8_M13!E20/SUM(K8_M13!$B20:$G20)*100 -> 0 | F20: =K8_M13!F20/SUM(K8_M13!$B20:$G20)*100 -> 2.6687793 | G20: =K8_M13!G20/SUM(K8_M13!$B20:$G20)*100 -> 2.680853
A21: 37134 | B21: =K8_M13!B21/SUM(K8_M13!$B21:$G21)*100 -> 24.681663 | C21: =K8_M13!C21/SUM(K8_M13!$B21:$G21)*100 -> 69.742293 | D21: =K8_M13!D21/SUM(K8_M13!$B21:$G21)*100 -> 0 | E21: =K8_M13!E21/SUM(K8_M13!$B21:$G21)*100 -> 0 | F21: =K8_M13!F21/SUM(K8_M13!$B21:$G21)*100 -> 2.8420103 | G21: =K8_M13!G21/SUM(K8_M13!$B21:$G21)*100 -> 2.7340342
A22: 37164 | B22: =K8_M13!B22/SUM(K8_M13!$B22:$G22)*100 -> 25.730013 | C22: =K8_M13!C22/SUM(K8_M13!$B22:$G22)*100 -> 68.42473 | D22: =K8_M13!D22/SUM(K8_M13!$B22:$G22)*100 -> 0 | E22: =K8_M13!E22/SUM(K8_M13!$B22:$G22)*100 -> 0 | F22: =K8_M13!F22/SUM(K8_M13!$B22:$G22)*100 -> 3.2084565 | G22: =K8_M13!G22/SUM(K8_M13!$B22:$G22)*100 -> 2.6367996
A23: 37195 | B23: =K8_M13!B23/SUM(K8_M13!$B23:$G23)*100 -> 25.945835 | C23: =K8_M13!C23/SUM(K8_M13!$B23:$G23)*100 -> 68.035942 | D23: =K8_M13!D23/SUM(K8_M13!$B23:$G23)*100 -> 0 | E23: =K8_M13!E23/SUM(K8_M13!$B23:$G23)*100 -> 0 | F23: =K8_M13!F23/SUM(K8_M13!$B23:$G23)*100 -> 3.4656566 | G23: =K8_M13!G23/SUM(K8_M13!$B23:$G23)*100 -> 2.5525669
A24: 37225 | B24: =K8_M13!B24/SUM(K8_M13!$B24:$G24)*100 -> 25.281308 | C24: =K8_M13!C24/SUM(K8_M13!$B24:$G24)*100 -> 69.119433 | D24: =K8_M13!D24/SUM(K8_M13!$B24:$G24)*100 -> 0 | E24: =K8_M13!E24/SUM(K8_M13!$B24:$G24)*100 -> 0 | F24: =K8_M13!F24/SUM(K8_M13!$B24:$G24)*100 -> 3.2895413 | G24: =K8_M13!G24/SUM(K8_M13!$B24:$G24)*100 -> 2.3097175
... A106: 39721 | B106: =K8_M13!B106/SUM(K8_M13!$B106:$G106)*100 -> 10.439607 | C106: =K8_M13!C106/SUM(K8_M13!$B106:$G106)*100 -> 32.567341 | D106: =K8_M13!D106/SUM(K8_M13!$B106:$G106)*100 -> 19.696425 | E106: =K8_M13!E106/SUM(K8_M13!$B106:$G106)*100 -> 36.798394 | F106: =K8_M13!F106/SUM(K8_M13!$B106:$G106)*100 -> 0.17715249 | G106: =K8_M13!G106/SUM(K8_M13!$B106:$G106)*100 -> 0.32108018

Sheet K8_M15
B1: Skýrsla rannsóknarnefndar Alþingis
B2: 8. kafli - Útlán íslensku bankanna
B3: Mynd 15
A4: Fs | B4: Útlán stóru bankanna þriggja
A5: Ufs | B5: Flokkuð eftir tegund lántakanda
A6: Alm.
A7: Nm
A8: H | B8: Heimild: Seðlabanki Íslands.
A9: Vá | B9: Ma. evra
A10: Há
A11: Ath.
A12: Dagsetning | B12: Heimili | C12: Fyrirtæki | D12: Eignarhaldsfélög | E12: Erlendir aðilar | F12: Opinberir aðilar | G12: Aðrir
A13: 36891 | B13: 1.3789164 | C13: 4.4264919 | D13: 0 | E13: 0 | F13: 0.22092619 | G13: 0.11714696
A14: 36922 | B14: 1.3768107 | C14: 4.4812439 | D14: 0 | E14: 0 | F14: 0.22420584 | G14: 0.086611383
A15: 36950 | B15: 1.3791238 | C15: 4.4877685 | D15: 0 | E15: 0 | F15: 0.2103961 | G15: 0.092676273
A16: 36981 | B16: 1.3830907 | C16: 4.6003386 | D16: 0 | E16: 0 | F16: 0.21925057 | G16: 0.089701488
A17: 37011 | B17: 1.2921714 | C17: 4.2957475 | D17: 0 | E17: 0.26532875 | F17: 0.20063685 | G17: 0.096334531
A18: 37042 | B18: 1.2637798 | C18: 4.3463941 | D18: 0 | E18: 0.31723318 | F18: 0.17831811 | G18: 0.070944681
A19: 37072 | B19: 1.2652953 | C19: 4.3786183 | D19: 0 | E19: 0.30679391 | F19: 0.18181634 | G19: 0.11006674
A20: 37103 | B20: 1.2514312 | C20: 4.371162 | D20: 0 | E20: 0.29004746 | F20: 0.18775003 | G20: 0.10813888
A21: 37134 | B21: 1.2506327 | C21: 4.2523095 | D21: 0 | E21: 0.24712698 | F21: 0.19239525 | G21: 0.10929119
A22: 37164 | B22: 1.264119 | C22: 4.1796961 | D22: 0 | E22: 0.24018647 | F22: 0.20272266 | G22: 0.11076612
A23: 37195 | B23: 1.2609022 | C23: 4.2216589 | D23: 0 | E23: 0.24498376 | F23: 0.20945412 | G23: 0.1101539
A24: 37225 | B24: 1.2340689 | C24: 4.2169568 | D24: 0 | E24: 0.26826813 | F24: 0.20740762 | G24: 0.11197318
... A106: 39721 | B106: 5.5515373 | C106: 12.094208 | D106: 10.121674 | E106: 22.374 | F106: 0.11641968 | G106: 1.0012564

Sheet K8_M16
B1: Skýrsla rannsóknarnefndar Alþingis
B2: 8. kafli - Útlán íslensku bankanna
B3: Mynd 16
A4: Fs | B4: Útlán stóru bankanna þriggja
A5: Ufs | B5: Flokkuð eftir tegund lántakanda. Hlutfall af heildarútlánum móðurfélags.
A6: Alm.
A7: Nm
A8: H | B8: Heimild: Seðlabanki Íslands.
A9: Vá | B9: %
A10: Há
A11: Ath.
A12: Dagsetning | B12: Heimili | C12: Fyrirtæki | D12: Eignarhaldsfélög | E12: Erlendir aðilar | F12: Opinberir aðilar | G12: Aðrir
A13: 36891 | B13: =K8_M15!B13/SUM(K8_M15!$B13:$G13)*100 -> 22.445195 | C13: =K8_M15!C13/SUM(K8_M15!$B13:$G13)*100 -> 72.051848 | D13: =K8_M15!D13/SUM(K8_M15!$B13:$G13)*100 -> 0 | E13: =K8_M15!E13/SUM(K8_M15!$B13:$G13)*100 -> 0 | F13: =K8_M15!F13/SUM(K8_M15!$B13:$G13)*100 -> 3.5961074 | G13: =K8_M15!G13/SUM(K8_M15!$B13:$G13)*100 -> 1.9068497
A14: 36922 | B14: =K8_M15!B14/SUM(K8_M15!$B14:$G14)*100 -> 22.318679 | C14: =K8_M15!C14/SUM(K8_M15!$B14:$G14)*100 -> 72.642843 | D14: =K8_M15!D14/SUM(K8_M15!$B14:$G14)*100 -> 0 | E14: =K8_M15!E14/SUM(K8_M15!$B14:$G14)*100 -> 0 | F14: =K8_M15!F14/SUM(K8_M15!$B14:$G14)*100 -> 3.6344708 | G14: =K8_M15!G14/SUM(K8_M15!$B14:$G14)*100 -> 1.4040068
A15: 36950 | B15: =K8_M15!B15/SUM(K8_M15!$B15:$G15)*100 -> 22.352216 | C15: =K8_M15!C15/SUM(K8_M15!$B15:$G15)*100 -> 72.735724 | D15: =K8_M15!D15/SUM(K8_M15!$B15:$G15)*100 -> 0 | E15: =K8_M15!E15/SUM(K8_M15!$B15:$G15)*100 -> 0 | F15: =K8_M15!F15/SUM(K8_M15!$B15:$G15)*100 -> 3.4100049 | G15: =K8_M15!G15/SUM(K8_M15!$B15:$G15)*100 -> 1.5020552
A16: 36981 | B16: =K8_M15!B16/SUM(K8_M15!$B16:$G16)*100 -> 21.980401 | C16: =K8_M15!C16/SUM(K8_M15!$B16:$G16)*100 -> 73.10966 | D16: =K8_M15!D16/SUM(K8_M15!$B16:$G16)*100 -> 0 | E16: =K8_M15!E16/SUM(K8_M15!$B16:$G16)*100 -> 0 | F16: =K8_M15!F16/SUM(K8_M15!$B16:$G16)*100 -> 3.4843815 | G16: =K8_M15!G16/SUM(K8_M15!$B16:$G16)*100 -> 1.4255571
A17: 37011 | B17: =K8_M15!B17/SUM(K8_M15!$B17:$G17)*100 -> 21.010169 | C17: =K8_M15!C17/SUM(K8_M15!$B17:$G17)*100 -> 69.847065 | D17: =K8_M15!D17/SUM(K8_M15!$B17:$G17)*100 -> 0 | E17: =K8_M15!E17/SUM(K8_M15!$B17:$G17)*100 -> 4.3141349 | F17: =K8_M15!F17/SUM(K8_M15!$B17:$G17)*100 -> 3.2622716 | G17: =K8_M15!G17/SUM(K8_M15!$B17:$G17)*100 -> 1.5663593
A18: 37042 | B18: =K8_M15!B18/SUM(K8_M15!$B18:$G18)*100 -> 20.460537 | C18: =K8_M15!C18/SUM(K8_M15!$B18:$G18)*100 -> 70.36792 | D18: =K8_M15!D18/SUM(K8_M15!$B18:$G18)*100 -> 0 | E18: =K8_M15!E18/SUM(K8_M15!$B18:$G18)*100 -> 5.1359905 | F18: =K8_M15!F18/SUM(K8_M15!$B18:$G18)*100 -> 2.8869619 | G18: =K8_M15!G18/SUM(K8_M15!$B18:$G18)*100 -> 1.1485911
A19: 37072 | B19: =K8_M15!B19/SUM(K8_M15!$B19:$G19)*100 -> 20.268753 | C19: =K8_M15!C19/SUM(K8_M15!$B19:$G19)*100 -> 70.141045 | D19: =K8_M15!D19/SUM(K8_M15!$B19:$G19)*100 -> 0 | E19: =K8_M15!E19/SUM(K8_M15!$B19:$G19)*100 -> 4.9145288 | F19: =K8_M15!F19/SUM(K8_M15!$B19:$G19)*100 -> 2.9125143 | G19: =K8_M15!G19/SUM(K8_M15!$B19:$G19)*100 -> 1.7631581
A20: 37103 | B20: =K8_M15!B20/SUM(K8_M15!$B20:$G20)*100 -> 20.156643 | C20: =K8_M15!C20/SUM(K8_M15!$B20:$G20)*100 -> 70.405754 | D20: =K8_M15!D20/SUM(K8_M15!$B20:$G20)*100 -> 0 | E20: =K8_M15!E20/SUM(K8_M15!$B20:$G20)*100 -> 4.6717577 | F20: =K8_M15!F20/SUM(K8_M15!$B20:$G20)*100 -> 3.024066 | G20: =K8_M15!G20/SUM(K8_M15!$B20:$G20)*100 -> 1.7417793
A21: 37134 | B21: =K8_M15!B21/SUM(K8_M15!$B21:$G21)*100 -> 20.665619 | C21: =K8_M15!C21/SUM(K8_M15!$B21:$G21)*100 -> 70.265717 | D21: =K8_M15!D21/SUM(K8_M15!$B21:$G21)*100 -> 0 | E21: =K8_M15!E21/SUM(K8_M15!$B21:$G21)*100 -> 4.0835584 | F21: =K8_M15!F21/SUM(K8_M15!$B21:$G21)*100 -> 3.1791642 | G21: =K8_M15!G21/SUM(K8_M15!$B21:$G21)*100 -> 1.8059419
A22: 37164 | B22: =K8_M15!B22/SUM(K8_M15!$B22:$G22)*100 -> 21.077467 | C22: =K8_M15!C22/SUM(K8_M15!$B22:$G22)*100 -> 69.690751 | D22: =K8_M15!D22/SUM(K8_M15!$B22:$G22)*100 -> 0 | E22: =K8_M15!E22/SUM(K8_M15!$B22:$G22)*100 -> 4.0047829 | F22: =K8_M15!F22/SUM(K8_M15!$B22:$G22)*100 -> 3.3801248 | G22: =K8_M15!G22/SUM(K8_M15!$B22:$G22)*100 -> 1.8468745
A23: 37195 | B23: =K8_M15!B23/SUM(K8_M15!$B23:$G23)*100 -> 20.851171 | C23: =K8_M15!C23/SUM(K8_M15!$B23:$G23)*100 -> 69.812339 | D23: =K8_M15!D23/SUM(K8_M15!$B23:$G23)*100 -> 0 | E23: =K8_M15!E23/SUM(K8_M15!$B23:$G23)*100 -> 4.0512248 | F23: =K8_M15!F23/SUM(K8_M15!$B23:$G23)*100 -> 3.4636816 | G23: =K8_M15!G23/SUM(K8_M15!$B23:$G23)*100 -> 1.8215828
A24: 37225 | B24: =K8_M15!B24/SUM(K8_M15!$B24:$G24)*100 -> 20.436088 | C24: =K8_M15!C24/SUM(K8_M15!$B24:$G24)*100 -> 69.832489 | D24: =K8_M15!D24/SUM(K8_M15!$B24:$G24)*100 -> 0 | E24: =K8_M15!E24/SUM(K8_M15!$B24:$G24)*100 -> 4.4425002 | F24: =K8_M15!F24/SUM(K8_M15!$B24:$G24)*100 -> 3.4346547 | G24: =K8_M15!G24/SUM(K8_M15!$B24:$G24)*100 -> 1.8542675
... A106: 39721 | B106: =K8_M15!B106/SUM(K8_M15!$B106:$G106)*100 -> 10.830346 | C106: =K8_M15!C106/SUM(K8_M15!$B106:$G106)*100 -> 23.594268 | D106: =K8_M15!D106/SUM(K8_M15!$B106:$G106)*100 -> 19.746104 | E106: =K8_M15!E106/SUM(K8_M15!$B106:$G106)*100 -> 43.648838 | F106: =K8_M15!F106/SUM(K8_M15!$B106:$G106)*100 -> 0.22712004 | G106: =K8_M15!G106/SUM(K8_M15!$B106:$G106)*100 -> 1.9533244

Sheet K8_M17
B1: Skýrsla rannsóknarnefndar Alþingis
B2: 8. kafli - Útlán íslensku bankanna
B3: Mynd 17
A4: Fs | B4: Útlán Glitnis banka hf.
A5: Ufs | B5: Flokkuð eftir tegund lántakanda
A6: Alm.
A7: Nm | B7: Ísl: Stendur fyrir félög sem rannsóknarnefnd Alþingis taldi ljóst að væru í endanlegri meirihlutaeigu íslenskra einstaklinga. Erl: Stendur fyrir félög sem rannsóknarnefnd Alþingis taldi ekki ljóst að væru í endanlegri meirihlutaeigu íslenskra einstaklinga.
A8: H | B8: Heimild: Glitnir banki hf.
A9: Vá | B9: Ma. evra
A10: Há
A11: Ath.
A12: Dagsetning | B12: Eignarhaldsfélög - Erl | C12: Einstaklingar | D12: Fyrirtæki með erlent heimilisfang - Erl | E12: Aðilar án íslenskrar kennitölu - Erl | F12: Eignarhaldsfélög - Ísl | G12: Fyrirtæki - Erl | H12: Fyrirtæki með erlent heimilisfang - Ísl | I12: Fyrirtæki - Ísl | J12: Aðilar án íslenskrar kennitölu - Ísl
A13: 38383 | B13: 0.22986502 | C13: 1.1332026 | D13: 0.79628762 | E13: 1.5947328 | F13: 0.68044715 | G13: 1.0658129 | H13: 0.013473798 | I13: 1.7212493 | J13: 0
A14: 38411 | B14: 0.20506698 | C14: 1.2103424 | D14: 0.76699778 | E14: 1.6441442 | F14: 0.80947487 | G14: 1.1040129 | H14: 0.0281857 | I14: 1.7676505 | J14: 0
A15: 38442 | B15: 0.22133858 | C15: 1.3033843 | D15: 0.63630557 | E15: 1.5691552 | F15: 0.84939334 | G15: 1.0523466 | H15: 0.028441055 | I15: 1.8653354 | J15: 0
A16: 38472 | B16: 0.2032543 | C16: 1.3181978 | D16: 0.6168841 | E16: 1.8339192 | F16: 0.79161182 | G16: 1.0075466 | H16: 0.014684224 | I16: 1.8857469 | J16: 0.0018180334
A17: 38503 | B17: 0.25040271 | C17: 1.4253959 | D17: 0.5835842 | E17: 1.4704753 | F17: 0.83787702 | G17: 0.97301147 | H17: 0.014834533 | I17: 1.9520732 | J17: 0.0018702771
A18: 38533 | B18: 0.22658893 | C18: 1.5091953 | D18: 0.66568129 | E18: 2.1076019 | F18: 0.85787117 | G18: 1.2654518 | H18: 0.051867914 | I18: 2.1485638 | J18: 0.0018971791
A19: 38564 | B19: 0.18449996 | C19: 1.5646358 | D19: 0.69859006 | E19: 1.8170347 | F19: 1.2093127 | G19: 1.1785484 | H19: 0.051918492 | I19: 2.1743122 | J19: 0.00079268356
A20: 38595 | B20: 0.21080433 | C20: 1.6472941 | D20: 0.67984955 | E20: 2.0941857 | F20: 1.3227017 | G20: 1.2446059 | H20: 0.052120028 | I20: 2.1551423 | J20: 0.0008063594
A21: 38625 | B21: 0.21414329 | C21: 1.7975455 | D21: 0.6578534 | E21: 2.0369964 | F21: 1.7271901 | G21: 1.2962063 | H21: 0.052244957 | I21: 2.2090976 | J21: 0.00083517725
A22: 38656 | B22: 0.12993362 | C22: 1.8590924 | D22: 0.65410244 | E22: 1.9376118 | F22: 1.8496166 | G22: 1.4775325 | H22: 0.014929681 | I22: 2.2899265 | J22: 0.00080107492
A23: 38686 | B23: 0.13016705 | C23: 1.9022474 | D23: 0.84767335 | E23: 1.9300281 | F23: 2.0573037 | G23: 1.6062849 | H23: 0.014932681 | I23: 2.4005607 | J23: 0.00079012632
A24: 38717 | B24: 0.12721554 | C24: 1.9333711 | D24: 0.77428691 | E24: 2.1157462 | F24: 1.9701269 | G24: 1.4420839 | H24: 0.015013719 | I24: 2.6130432 | J24: 0.00078938591
... A57: 39721 | B57: 0.59875207 | C57: 2.0918975 | D57: 0.5335115 | E57: 3.3621556 | F57: 4.2208969 | G57: 1.2457154 | H57: 0.24094907 | I57: 2.9972829 | J57: 0.058247896

Sheet K8_M18
B1: Skýrsla rannsóknarnefndar Alþingis
B2: 8. kafli - Útlán íslensku bankanna
B3: Mynd 18
A4: Fs | B4: Útlán Kaupþings banka hf.
A5: Ufs | B5: Flokkuð eftir tegund lántakanda
A6: Alm.
A7: Nm | B7: Ísl: Stendur fyrir félög sem rannsóknarnefnd Alþingis taldi ljóst að væru í endanlegri meirihlutaeigu íslenskra einstaklinga. Erl: Stendur fyrir félög sem rannsóknarnefnd Alþingis taldi ekki ljóst að væru í endanlegri meirihlutaeigu íslenskra einstaklinga.
A8: H | B8: Heimild: Kaupþing banki hf.
A9: Vá | B9: Ma. evra
A10: Há
A11: Ath.
A12: Dagsetning | B12: Eignarhaldsfélög - Erl | C12: Einstaklingar | D12: Fyrirtæki með erlent heimilisfang - Erl | E12: Aðilar án íslenskrar kennitölu - Erl | F12: Eignarhaldsfélög - Ísl | G12: Fyrirtæki - Erl | H12: Fyrirtæki með erlent heimilisfang - Ísl | I12: Fyrirtæki - Ísl | J12: Aðilar án íslenskrar kennitölu - Ísl
A13: 38383 | B13: 0.23055977 | C13: 1.2653486 | D13: 0.23608747 | E13: 0.37335218 | F13: 0.57426595 | G13: 0.58668237 | H13: 0.11617954 | I13: 1.3502507
A14: 38411 | B14: 0.23254427 | C14: 1.324974 | D14: 0.67160921 | E14: 0.43426077 | F14: 0.66692437 | G14: 0.59065365 | H14: 0.11566443 | I14: 1.3548509
A15: 38442 | B15: 0.23907256 | C15: 1.4654332 | D15: 0.66467604 | E15: 0.43032044 | F15: 0.69002404 | G15: 0.66774101 | H15: 0.11677611 | I15: 1.470486
A16: 38472 | B16: 0.23773691 | C16: 1.4864644 | D16: 0.66026218 | E16: 0.40469966 | F16: 0.82003254 | G16: 0.65211301 | H16: 0.11252098 | I16: 1.4617831
A17: 38503 | B17: 0.35452284 | C17: 1.5666887 | D17: 0.73947916 | E17: 0.44075069 | F17: 0.84219789 | G17: 0.71949753 | H17: 0.11423591 | I17: 1.4922285
A18: 38533 | B18: 0.33232644 | C18: 1.666438 | D18: 0.96106462 | E18: 0.4979433 | F18: 0.82441419 | G18: 0.6821427 | H18: 0.11536064 | I18: 1.5870574
A19: 38564 | B19: 0.32056284 | C19: 1.7022657 | D19: 1.0040724 | E19: 0.4718679 | F19: 0.8965656 | G19: 0.70026398 | H19: 0.11541252 | I19: 1.6371763
A20: 38595 | B20: 0.29801763 | C20: 1.8565055 | D20: 1.0933131 | E20: 0.59180348 | F20: 0.9089407 | G20: 0.95321206 | H20: 0.10781611 | I20: 1.7185148
A21: 38625 | B21: 0.26489334 | C21: 1.9901746 | D21: 1.1470843 | E21: 0.6172388 | F21: 1.0046745 | G21: 1.4883336 | H21: 0.10833457 | I21: 1.7008828
A22: 38656 | B22: 0.25650402 | C22: 2.0482046 | D22: 1.1596506 | E22: 0.59737832 | F22: 1.1242671 | G22: 1.3514434 | H22: 0.10880016 | I22: 1.7404015
A23: 38686 | B23: 0.24653968 | C23: 1.9963816 | D23: 1.1815891 | E23: 0.61889481 | F23: 1.1602535 | G23: 1.367745 | H23: 0.10965751 | I23: 1.856293
A24: 38717 | B24: 0.25328781 | C24: 2.0451194 | D24: 1.2564983 | E24: 0.93191041 | F24: 1.366699 | G24: 1.2943592 | H24: 0.10973395 | I24: 1.9411238
... A57: 39721 | B57: 0.69898213 | C57: 2.1620429 | D57: 4.5420027 | E57: 2.0726889 | F57: 3.3034916 | G57: 0.73941844 | H57: 1.4179838 | I57: 1.7181287

Sheet K8_M19
B1: Skýrsla rannsóknarnefndar Alþingis
B2: 8. kafli - Útlán íslensku bankanna
B3: Mynd 19
A4: Fs | B4: Útlán Landsbanka Íslands hf.
A5: Ufs | B5: Flokkuð eftir tegund lántakanda
A6: Alm.
A7: Nm | B7: Ísl: Stendur fyrir félög sem rannsóknarnefnd Alþingis taldi ljóst að væru í endanlegri meirihlutaeigu íslenskra einstaklinga. Erl: Stendur fyrir félög sem rannsóknarnefnd Alþingis taldi ekki ljóst að væru í endanlegri meirihlutaeigu íslenskra einstaklinga.
A8: H | B8: Heimild: Landsbanki Íslands hf.
A9: Vá | B9: Ma. evra
A10: Há
A11: Ath.
A12: Dagsetning | B12: Eignarhaldsfélög - Erl | C12: Einstaklingar | D12: Fyrirtæki með erlent heimilisfang - Erl | E12: Aðilar án íslenskrar kennitölu - Erl | F12: Eignarhaldsfélög - Ísl | G12: Fyrirtæki - Erl | H12: Fyrirtæki með erlent heimilisfang - Ísl | I12: Fyrirtæki - Ísl | J12: Aðilar án íslenskrar kennitölu - Ísl
A13: 38383 | B13: 0.27251077 | C13: 1.1797652 | D13: 0.27335484 | E13: 0.086201496 | F13: 1.415123 | G13: 0.56001274 | H13: 0.053824274 | I13: 1.9833517
A14: 38411 | B14: 0.42416382 | C14: 1.2523673 | D14: 0.33161749 | E14: 0.046885761 | F14: 1.5435493 | G14: 0.53557224 | H14: 0.057381642 | I14: 1.9423531
A15: 38442 | B15: 0.48476623 | C15: 1.3395416 | D15: 0.30534855 | E15: 0.1554826 | F15: 1.5843302 | G15: 0.56865959 | H15: 0.058625625 | I15: 2.0311574
A16: 38472 | B16: 0.45702617 | C16: 1.3919441 | D16: 0.2907436 | E16: 0.076018981 | F16: 1.5766962 | G16: 0.64623541 | H16: 0.061883519 | I16: 2.080534
A17: 38503 | B17: 0.4620679 | C17: 1.484375 | D17: 0.33796113 | E17: 0.26957432 | F17: 1.7201036 | G17: 0.71103021 | H17: 0.055676579 | I17: 2.2164237
A18: 38533 | B18: 0.50962856 | C18: 1.5686264 | D18: 0.40480064 | E18: 1.1815957 | F18: 1.9710117 | G18: 0.66955014 | H18: 0.055949292 | I18: 2.2994643
A19: 38564 | B19: 0.5167644 | C19: 1.6318739 | D19: 0.38713571 | E19: 1.4041485 | F19: 1.9798125 | G19: 0.60535555 | H19: 0.14472079 | I19: 2.2580633
A20: 38595 | B20: 0.4417114 | C20: 1.7242443 | D20: 0.40215565 | E20: 1.0604765 | F20: 2.1130138 | G20: 0.6078955 | H20: 0.14355318 | I20: 2.3412341
A21: 38625 | B21: 0.44867563 | C21: 1.891413 | D21: 0.41874259 | E21: 1.0357706 | F21: 2.2288585 | G21: 0.76710154 | H21: 0.14428789 | I21: 2.490656 | J21: 0.033327903
A22: 38656 | B22: 0.44755594 | C22: 1.9906426 | D22: 0.42773605 | E22: 1.1388698 | F22: 2.6073623 | G22: 0.78480664 | H22: 0.14489279 | I22: 2.653755 | J22: 0.033489638
A23: 38686 | B23: 0.48992369 | C23: 2.0812515 | D23: 0.44484186 | E23: 1.405821 | F23: 2.7803559 | G23: 0.8164353 | H23: 0.14550442 | I23: 2.8428432 | J23: 0.033739073
A24: 38717 | B24: 0.46160612 | C24: 2.0923589 | D24: 0.49958436 | E24: 1.7258256 | F24: 2.8066954 | G24: 0.82545578 | H24: 0.14600914 | I24: 2.8889635 | J24: 0.040451275
A25: 38748 | B25: 0.3714143 | C25: 2.1705118 | D25: 0.42622151 | E25: 1.6585409 | F25: 2.900548 | G25: 0.85172061 | H25: 0.16852022 | I25: 2.9704268 | J25: 0.04257696
A26: 38776 | B26: 0.39230816 | C26: 2.1550965 | D26: 0.43689094 | E26: 1.7993497 | F26: 3.0494715 | G26: 0.99649504 | H26: 0.17902644 | I26: 3.0262057 | J26: 0.042487637
A27: 38807 | B27: 0.45900424 | C27: 2.0383206 | D27: 0.41722707 | E27: 1.648477 | F27: 2.8944423 | G27: 0.9388073 | H27: 0.17129352 | I27: 2.9764061 | J27: 0.043319508
A28: 38837 | B28: 0.37443781 | C28: 1.8980123 | D28: 0.42483261 | E28: 1.8278548 | F28: 2.7382021 | G28: 0.82435366 | H28: 0.18327615 | I28: 2.8926481 | J28: 0.06189738
A29: 38868 | B29: 0.33491556 | C29: 1.9302121 | D29: 0.45012858 | E29: 1.6267005 | F29: 2.8001588 | G29: 0.84723929 | H29: 0.18660536 | I29: 2.9100313 | J29: 0.061895487
A30: 38898 | B30: 0.32217612 | C30: 1.8665996 | D30: 0.43982825 | E30: 1.5951661 | F30: 2.7864404 | G30: 0.61812256 | H30: 0.18239847 | I30: 2.8772334 | J30: 0.061663779
A31: 38929 | B31: 0.31409176 | C31: 1.9602849 | D31: 0.46838256 | E31: 1.5047446 | F31: 2.9762237 | G31: 0.64087931 | H31: 0.18697068 | I31: 2.9873359 | J31: 0.061221997
A32: 38960 | B32: 0.31541583 | C32: 2.0941841 | D32: 0.46469976 | E32: 1.5174964 | F32: 3.0559572 | G32: 0.66560757 | H32: 0.1926341 | I32: 3.2271287 | J32: 0.061318696
... A57: 39721 | B57: 0.63201957 | C57: 1.9694709 | D57: 0.45221525 | E57: 4.0825672 | F57: 4.5998336 | G57: 0.65959952 | H57: 0.24723841 | I57: 3.9532964 | J57: 0.11996452

Sheet K8_M20
B1: Skýrsla rannsóknarnefndar Alþingis
B2: 8. kafli - Útlán íslensku bankanna
B3: Mynd 20
A4: Fs | B4: Útlán stóru bankanna þriggja
A5: Ufs | B5: Flokkuð eftir tegund lántakanda
A6: Alm.
A7: Nm | B7: Ísl: Stendur fyrir félög sem rannsóknarnefnd Alþingis taldi ljóst að væru í endanlegri meirihlutaeigu íslenskra einstaklinga. Erl: Stendur fyrir félög sem rannsóknarnefnd Alþingis taldi ekki ljóst að væru í endanlegri meirihlutaeigu íslenskra einstaklinga.
A8: H | B8: Heimild: Glitnir banki hf., Kaupþing banki hf. og Landsbanki Íslands hf.
A9: Vá | B9: Ma. evra
A10: Há
A11: Ath.
A12: Dagsetning | B12: Eignarhaldsfélög - Erl | C12: Einstaklingar | D12: Fyrirtæki með erlent heimilisfang - Erl | E12: Aðilar án íslenskrar kennitölu - Erl | F12: Eignarhaldsfélög - Ísl | G12: Fyrirtæki - Erl | H12: Fyrirtæki með erlent heimilisfang - Ísl | I12: Fyrirtæki - Ísl | J12: Aðilar án íslenskrar kennitölu - Ísl
A13: 38383 | B13: 0.73293557 | C13: 3.5783163 | D13: 1.3057299 | E13: 2.0542865 | F13: 2.6698361 | G13: 2.212508 | H13: 0.18347761 | I13: 5.0548517 | J13: 0
A14: 38411 | B14: 0.86177507 | C14: 3.7876837 | D14: 1.7702245 | E14: 2.1252907 | F14: 3.0199486 | G14: 2.2302388 | H14: 0.20123177 | I14: 5.0648545 | J14: 0
A15: 38442 | B15: 0.94517737 | C15: 4.108359 | D15: 1.6063302 | E15: 2.1549582 | F15: 3.1237476 | G15: 2.2887472 | H15: 0.20384279 | I15: 5.3669788 | J15: 0
A16: 38472 | B16: 0.89801738 | C16: 4.1966063 | D16: 1.5678899 | E16: 2.3146379 | F16: 3.1883406 | G16: 2.305895 | H16: 0.18908872 | I16: 5.428064 | J16: 0.0018180334
A17: 38503 | B17: 1.0669934 | C17: 4.4764596 | D17: 1.6610245 | E17: 2.1808003 | F17: 3.4001785 | G17: 2.4035392 | H17: 0.18474702 | I17: 5.6607253 | J17: 0.0018702771
A18: 38533 | B18: 1.0685439 | C18: 4.7442597 | D18: 2.0315465 | E18: 3.7871409 | F18: 3.653297 | G18: 2.6171446 | H18: 0.22317784 | I18: 6.0350856 | J18: 0.0018971791
A19: 38564 | B19: 1.0218272 | C19: 4.8987753 | D19: 2.0897982 | E19: 3.6930511 | F19: 4.0856908 | G19: 2.4841679 | H19: 0.3120518 | I19: 6.0695518 | J19: 0.00079268356
A20: 38595 | B20: 0.95053335 | C20: 5.2280439 | D20: 2.1753183 | E20: 3.7464657 | F20: 4.3446562 | G20: 2.8057135 | H20: 0.30348932 | I20: 6.2148913 | J20: 0.0008063594
A21: 38625 | B21: 0.92771226 | C21: 5.6791331 | D21: 2.2236802 | E21: 3.6900059 | F21: 4.9607232 | G21: 3.5516414 | H21: 0.30486741 | I21: 6.4006363 | J21: 0.03416308
A22: 38656 | B22: 0.83399359 | C22: 5.8979396 | D22: 2.2414891 | E22: 3.6738599 | F22: 5.5812461 | G22: 3.6137825 | H22: 0.26862263 | I22: 6.684083 | J22: 0.034290713
A23: 38686 | B23: 0.86663042 | C23: 5.9798806 | D23: 2.4741043 | E23: 3.9547438 | F23: 5.9979131 | G23: 3.7904652 | H23: 0.27009461 | I23: 7.0996969 | J23: 0.034529199
A24: 38717 | B24: 0.84210947 | C24: 6.0708494 | D24: 2.5303696 | E24: 4.7734822 | F24: 6.1435214 | G24: 3.5618989 | H24: 0.2707568 | I24: 7.4431305 | J24: 0.04124066
... A57: 39721 | B57: 1.9297538 | C57: 6.2234112 | D57: 5.5277294 | E57: 9.5174117 | F57: 12.124222 | G57: 2.6447334 | H57: 1.9061713 | I57: 8.668708 | J57: 0.17821242

Sheet K8_M21
B1: Skýrsla rannsóknarnefndar Alþingis
B2: 8. kafli - Útlán íslensku bankanna
B3: Mynd 21
A4: Fs | B4: Útlán Straums-Burðaráss hf.
A5: Ufs | B5: Flokkuð eftir tegund lántakanda
A6: Alm.
A7: Nm | B7: Ísl: Stendur fyrir félög sem rannsóknarnefnd Alþingis taldi ljóst að væru í endanlegri meirihlutaeigu íslenskra einstaklinga. Erl: Stendur fyrir félög sem rannsóknarnefnd Alþingis taldi ekki ljóst að væru í endanlegri meirihlutaeigu íslenskra einstaklinga.
A8: H | B8: Heimild: Straumur-Burðarás hf.
A9: Vá | B9: Ma. evra
A10: Há
A11: Ath.
A12: Dagsetning | B12: Eignarhaldsfélög - Erl | C12: Einstaklingar | D12: Fyrirtæki með erlent heimilisfang - Erl | E12: Aðilar án íslenskrar kennitölu - Erl | F12: Eignarhaldsfélög - Ísl | G12: Fyrirtæki - Erl | H12: Fyrirtæki með erlent heimilisfang - Ísl | I12: Fyrirtæki - Ísl | J12: Aðilar án íslenskrar kennitölu - Ísl
A13: 38595 | B13: 0.058884386 | C13: 0.0042311308 | D13: 0.034657409 | E13: 0.055507463 | F13: 0.31382401 | G13: 0.056058322 | H13: 0.055676672 | I13: 0.010139809 | J13: 0.025652725
A14: 38625 | B14: 0.051947242 | C14: 0.0043151137 | D14: 0.033268459 | E14: 0.055857815 | F14: 0.32418592 | G14: 0.087945368 | H14: 0.055846223 | I14: 0.01072943 | J14: 0.02550239
A15: 38656 | B15: 0.051107242 | C15: 0.0041102255 | D15: 0.033463861 | E15: 0.058970597 | F15: 0.38817239 | G15: 0.10178023 | H15: 0.18722058 | I15: 0.010891848 | J15: 0.025625408
A16: 38686 | B16: 0.012206237 | C16: 0.0042172711 | D16: 0.060219637 | E16: 0.063107006 | F16: 0.40097485 | G16: 0.11419769 | H16: 0.094190339 | I16: 0.090994941 | J16: 0.025784212
A17: 38717 | B17: 0.01229969 | C17: 0.0042393272 | D17: 0.060080311 | E17: 0.11563757 | F17: 0.38779499 | G17: 0.10857782 | H17: 0.094568738 | I17: 0.090991381 | J17: 0.025661349
A18: 38748 | B18: 0.012285396 | C18: 0.0040146004 | D18: 0.052314407 | E18: 0.11518817 | F18: 0.70793023 | G18: 0.1180594 | H18: 0.094951381 | I18: 0.11786361 | J18: 0.025778105
A19: 38776 | B19: 0.0097998511 | C19: 0.0039854846 | D19: 0.052709946 | E19: 0.12473067 | F19: 0.70469369 | G19: 0.071220884 | H19: 0.095322866 | I19: 0.053988007 | J19: 0.025908251
A20: 38807 | B20: 0 | C20: 0.018594955 | D20: 0.052213603 | E20: 0.15631496 | F20: 0.75279485 | G20: 0.070753398 | H20: 0.10462357 | I20: 0.049184513 | J20: 0.025803541
A21: 38837 | B21: 0 | C21: 0.017276583 | D21: 0.052649589 | E21: 0.16266454 | F21: 0.69124218 | G21: 0.10767512 | H21: 0.10435395 | I21: 0.049468703 | J21: 0.02594254
A22: 38868 | B22: 0.0021867607 | C22: 0.017708463 | D22: 0.053148885 | E22: 0.15033621 | F22: 0.7098222 | G22: 0.10587001 | H22: 0.10500372 | I22: 0.050743733 | J22: 0.026098919
A23: 38898 | B23: 0.0052106223 | C23: 0.017013187 | D23: 0.053213856 | E23: 0.16784129 | F23: 0.78675127 | G23: 0.1050118 | H23: 0.10507133 | I23: 0.056497932 | J23: 0.025971083
A24: 38929 | B24: 0 | C24: 0.017955715 | D24: 0.053896147 | E24: 0.14019686 | F24: 0.80725399 | G24: 0.10608123 | H24: 0.10601516 | I24: 0.051318979 | J24: 0.026113139
... A50: 39721 | B50: 0.020526982 | C50: 0.0089121162 | D50: 0.12215815 | E50: 0.79403753 | F50: 0.56298123 | G50: 0.067859862 | H50: 0 | I50: 0.16148325 | J50: 0.15320958

Sheet K8_M22
B1: Skýrsla rannsóknarnefndar Alþingis
B2: 8. kafli - Útlán íslensku bankanna
B3: Mynd 22
A4: Fs | B4: Útlán Glitnis banka hf.
A5: Ufs | B5: Flokkuð eftir mynt. Hlutfall af heildarútlánum móðurfélags.
A6: Alm.
A7: Nm
A8: H | B8: Heimild: Glitnir banki hf.
A9: Vá | B9: %
A10: Há
A11: Ath.
A12: Dagsetning | B12: Evra | C12: USD | D12: CHF | E12: GBP | F12: JPY | G12: NOK | H12: DKK | I12: CAD | J12: SEK | K12: Aðrar erlendar myntir
A13: 38383 | B13: 17.362817 | C13: 9.366563 | D13: 6.1050699 | E13: 7.2126615 | F13: 3.3835104 | G13: 3.623364 | H13: 1.6123442 | I13: 1.8116192 | J13: 1.4391009 | K13: 2.0417207
A14: 38411 | B14: 17.621779 | C14: 9.1209466 | D14: 6.085836 | E14: 7.6145128 | F14: 3.4280624 | G14: 3.5406761 | H14: 1.6143098 | I14: 1.6792015 | J14: 1.4841882 | K14: 1.9942395
A15: 38442 | B15: 18.343398 | C15: 9.9381093 | D15: 6.5937847 | E15: 7.8437296 | F15: 3.7286625 | G15: 3.9938999 | H15: 1.7300921 | I15: 1.7300085 | J15: 1.4193659 | K15: 1.9946402
A16: 38472 | B16: 19.198238 | C16: 10.273639 | D16: 6.5978191 | E16: 8.7636149 | F16: 3.5371055 | G16: 3.2423288 | H16: 1.6724743 | I16: 1.8536326 | J16: 1.2446396 | K16: 0.93327131
A17: 38503 | B17: 18.844366 | C17: 8.7773194 | D17: 7.1122476 | E17: 7.3342027 | F17: 3.788477 | G17: 2.7078435 | H17: 1.6663406 | I17: 0.24938915 | J17: 2.3203829 | K17: 0.90291184
A18: 38533 | B18: 20.680799 | C18: 9.2778113 | D18: 5.6404375 | E18: 11.024307 | F18: 3.1931084 | G18: 2.2360461 | H18: 1.5398459 | I18: 2.0792431 | J18: 1.8837725 | K18: 0.76965037
A19: 38564 | B19: 18.462941 | C19: 9.0333203 | D19: 6.6824694 | E19: 10.662798 | F19: 3.7428736 | G19: 1.6817783 | H19: 2.0872115 | I19: 2.0936339 | J19: 1.8487447 | K19: 0.61047984
A20: 38595 | B20: 18.603082 | C20: 8.929781 | D20: 6.3959765 | E20: 11.795483 | F20: 3.5755258 | G20: 2.2669594 | H20: 1.9817261 | I20: 1.9956771 | J20: 1.899716 | K20: 0.57772554
A21: 38625 | B21: 18.328816 | C21: 9.2408818 | D21: 6.2457104 | E21: 11.963496 | F21: 3.3999332 | G21: 1.8852701 | H21: 1.9832954 | I21: 1.9007327 | J21: 1.8511958 | K21: 0.55085287
A22: 38656 | B22: 18.145578 | C22: 9.0934468 | D22: 5.9028012 | E22: 11.985194 | F22: 3.4133117 | G22: 2.1052908 | H22: 0.90184832 | I22: 1.6760753 | J22: 0.75408325 | K22: 0.54276027
A23: 38686 | B23: 17.054357 | C23: 9.5254863 | D23: 5.9184059 | E23: 11.34702 | F23: 3.443368 | G23: 2.9798959 | H23: 0.8345459 | I23: 1.5921102 | J23: 0.61770018 | K23: 0.45008907
A24: 38717 | B24: 17.168217 | C24: 9.99876 | D24: 6.0121576 | E24: 11.598367 | F24: 3.5606751 | G24: 2.9923467 | H24: 1.7079472 | I24: 1.7966553 | J24: 0.85302674 | K24: 0.76953183
... A57: 39721 | B57: 21.723516 | C57: 9.5858188 | D57: 5.9726937 | E57: 7.2683835 | F57: 4.2222774 | G57: 4.1245785 | H57: 1.4966758 | I57: 1.0436395 | J57: 0.75967476 | K57: 0.47440125

Sheet K8_M23
B1: Skýrsla rannsóknarnefndar Alþingis
B2: 8. kafli - Útlán íslensku bankanna
B3: Mynd 23
A4: Fs | B4: Útlán Glitnis banka hf. til einstaklinga
A5: Ufs | B5: Flokkuð eftir mynt. Hlutfall af heildarútlánum móðurfélags til einstaklinga.
A6: Alm.
A7: Nm
A8: H | B8: Heimild: Glitnir banki hf.
A9: Vá | B9: %
A10: Há
A11: Ath.
A12: Dagsetning | B12: Evra | C12: USD | D12: CHF | E12: GBP | F12: JPY | G12: NOK | H12: DKK | I12: CAD | J12: SEK | K12: Aðrar erlendar myntir
A13: 38383 | B13: 2.1811427 | C13: 1.5279626 | D13: 1.2972443 | E13: 0.079447273 | F13: 1.1737719 | K13: 0.67608859
A14: 38411 | B14: 1.5598351 | C14: 1.2541577 | D14: 1.0762029 | E14: 0.070395927 | F14: 0.7998274 | K14: 0.55990216
A15: 38442 | B15: 1.3120638 | C15: 1.1085629 | D15: 1.060411 | E15: 0.22437443 | F15: 0.8204057 | H15: 0.078401312 | K15: 0.52918767
A16: 38472 | B16: 1.5941406 | C16: 1.0264722 | D16: 1.1459116 | E16: 0.27552739 | F16: 0.91001602 | H16: 0.070301188 | K16: 0.20862031
A17: 38503 | B17: 1.275827 | C17: 0.87088984 | D17: 1.0172057 | E17: 0.30594589 | F17: 0.70219406 | H17: 0.063712357 | K17: 0.19197289
A18: 38533 | B18: 1.2035917 | C18: 0.94647101 | D18: 0.76714048 | E18: 0.43537754 | F18: 0.66661344 | H18: 0.058306452 | K18: 0.17792103
A19: 38564 | B19: 1.3266386 | C19: 0.81252216 | D19: 0.95498293 | E19: 0.096645093 | F19: 0.6658594 | H19: 0.053995683 | K19: 0.16805699
A20: 38595 | B20: 1.4990849 | C20: 0.74094996 | D20: 1.0080742 | E20: 0.070794685 | F20: 0.74876371 | J20: 0.17033714 | K20: 0.16111982
A21: 38625 | B21: 1.3645567 | C21: 1.3561299 | D21: 0.99199743 | E21: 0.064992219 | F21: 0.76429349 | J21: 0.2487424 | K21: 0.1459462
A22: 38656 | B22: 1.3665777 | C22: 0.68367735 | D22: 1.1088939 | E22: 0.06169077 | F22: 1.2904572 | J22: 0.24090656 | K22: 0.14206105
A23: 38686 | B23: 1.2956362 | C23: 1.1483008 | D23: 1.1195997 | E23: 0.058688297 | F23: 1.3916257 | J23: 0.18464759 | K23: 0.13544891
A24: 38717 | B24: 1.2453842 | C24: 1.1298171 | D24: 1.1662128 | E24: 0.057690872 | F24: 1.3389792 | J24: 0.18157751 | K24: 0.1334875
A25: 38748 | B25: 1.1746605 | C25: 0.49282766 | D25: 1.1524142 | E25: 0.073166472 | F25: 1.3523112 | I25: 0.018268679 | J25: 0.17010094 | K25: 0.12535756
A26: 38776 | B26: 1.4828955 | C26: 0.51047369 | D26: 1.3524201 | E26: 0.069656169 | F26: 1.742797 | G26: 0.035682436 | I26: 0.017431103 | J26: 0.16212778 | K26: 0.12006095
A27: 38807 | B27: 1.3369744 | C27: 0.46950323 | D27: 1.4147543 | E27: 0.077906216 | F27: 1.6537263 | G27: 0.033621162 | I27: 0.058269626 | J27: 0.19329792 | K27: 0.11299454
A28: 38837 | B28: 1.3600881 | C28: 0.48783566 | D28: 1.5269054 | E28: 0.52219531 | F28: 1.7443151 | G28: 0.043912669 | I28: 0.016316041 | J28: 0.13437917 | K28: 0.073512828
A29: 38868 | B29: 1.3023203 | C29: 0.43323266 | D29: 1.6824815 | E29: 0.075473856 | F29: 1.8239914 | G29: 0.131905 | I29: 0.015702892 | J29: 0.15211674 | K29: 0.072438616
A30: 38898 | B30: 1.3258416 | C30: 0.39257918 | D30: 1.7663441 | E30: 0.092086452 | F30: 1.8956753 | G30: 0.12842575 | I30: 0.015335157 | J30: 0.14790584 | K30: 0.070758642
A31: 38929 | B31: 1.3798626 | C31: 0.37546454 | D31: 1.7690025 | E31: 0.093891989 | F31: 1.8744326 | G31: 0.13017675 | I31: 0.015595268 | J31: 0.15063127 | K31: 0.072028477
A32: 38960 | B32: 1.4388833 | C32: 0.57526247 | D32: 1.6960575 | E32: 0.092430239 | F32: 1.7230733 | G32: 0.031188638 | I32: 0.015144238 | J32: 0.14965557 | K32: 0.071468876
A33: 38990 | B33: 1.3528087 | C33: 0.34338658 | D33: 2.1425843 | E33: 0.075024302 | F33: 1.8006486 | G33: 0.030856744 | H33: 0.030614155 | I33: 0.014986149 | J33: 0.14803453 | K33: 0.070898935
A34: 39021 | B34: 1.3097594 | C34: 0.33561287 | D34: 1.9815491 | E34: 0.12520654 | F34: 1.743036 | G34: 0.030369491 | H34: 0.030003156 | I34: 0.01475546 | J34: 0.14515993
A35: 39051 | B35: 1.3779562 | C35: 0.33944309 | D35: 2.7761731 | E35: 0.094670936 | F35: 1.8724674 | G35: 0.029742776 | H35: 0.029816201 | I35: 0.014405813 | J35: 0.14475168
A36: 39082 | B36: 1.5320624 | C36: 0.26590663 | D36: 2.0259374 | E36: 0.016158434 | F36: 1.8495908 | G36: 0.03804327 | H36: 0.028693353 | I36: 0.013927135 | J36: 0.13958718
A37: 39113 | B37: 1.4771374 | C37: 0.27095876 | D37: 1.9802999 | E37: 0.016001834 | F37: 1.8609849 | G37: 0.052119615 | H37: 0.042329835 | I37: 0.014106006 | J37: 0.1415079
A38: 39141 | B38: 1.5156792 | C38: 0.30392697 | D38: 2.2306337 | E38: 0.016002153 | F38: 2.0579049 | G38: 0.046095104 | H38: 0.042102935 | I38: 0.013776937 | J38: 0.13665001
A39: 39172 | B39: 1.6702004 | C39: 0.35178441 | D39: 2.3792922 | E39: 0.016449909 | F39: 1.9983401 | G39: 0.13319642 | H39: 0.085330867 | I39: 0.03234559 | J39: 0.14043606
A40: 39202 | B40: 1.8336913 | C40: 0.41372868 | D40: 2.8643276 | E40: 0.016055345 | F40: 2.0174706 | G40: 0.047178379 | H40: 0.084660284 | I40: 0.032253364 | J40: 0.13652872
A41: 39233 | B41: 1.7580628 | C41: 0.35086585 | D41: 3.9146637 | E41: 2.6203568 | F41: 1.9725633 | G41: 0.043401868 | H41: 0.10327484 | I41: 0.029754063 | J41: 0.12701694 | K41: 0.049257767
A42: 39263 | B42: 1.680222 | C42: 0.3555307 | D42: 4.0027323 | E42: 2.5149616 | F42: 1.9584591 | G42: 0.04149871 | H42: 0.18925909 | I42: 0.028182395 | J42: 0.12170741 | K42: 0.070443036
A43: 39294 | B43: 2.351012 | C43: 0.4423311 | D43: 3.3467503 | E43: 2.6135095 | F43: 2.2801818 | G43: 0.49804745 | H43: 0.47409125 | I43: 0.028335422 | J43: 0.71286146 | K43: 0.070020764
A44: 39325 | B44: 2.0637598 | C44: 0.48074861 | D44: 3.7702236 | E44: 3.3660496 | F44: 2.6118181 | G44: 0.843922 | H44: 0.32901813 | I44: 0.02754452 | J44: 0.026865399 | K44: 0.068909947
A45: 39355 | B45: 1.9969755 | C45: 0.51523378 | D45: 4.618996 | E45: 2.4887839 | F45: 2.4238071 | G45: 0.86100496 | H45: 0.27744207 | I45: 0.026380704 | J45: 0.051012094 | K45: 0.57755029
A46: 39386 | B46: 4.5337522 | C46: 0.51352354 | D46: 3.5881892 | E46: 2.4160211 | F46: 2.2661444 | G46: 0.40727024 | H46: 0.2799126 | I46: 0.025548909 | J46: 0.44426403 | K46: 0.55644601
A47: 39416 | B47: 4.9494678 | C47: 0.70369423 | D47: 4.0640058 | E47: 2.4232297 | F47: 2.6252909 | G47: 0.70580946 | H47: 0.2267013 | I47: 0.025573095 | J47: 0.33203 | K47: 0.48926898
A48: 39447 | B48: 5.5003488 | C48: 0.79827067 | D48: 4.4150245 | E48: 2.3408849 | F48: 2.6215391 | G48: 0.1102706 | H48: 0.091642632 | I48: 0.024200511 | J48: 0.17450771 | K48: 0.59486099
A49: 39478 | B49: 5.5006201 | C49: 0.79954123 | D49: 4.9454237 | E49: 2.2056868 | F49: 3.1761411 | G49: 0.14124507 | H49: 0.090695019 | I49: 0.023894012 | J49: 0.18466736 | K49: 0.52238018
A50: 39507 | B50: 5.855755 | C50: 0.62496191 | D50: 4.1698389 | E50: 2.1760413 | F50: 3.1850987 | G50: 0.10175443 | H50: 0.088766573 | I50: 0.023173772 | J50: 0.1422676 | K50: 0.51200291
A51: 39538 | B51: 6.3599118 | C51: 0.61428377 | D51: 5.0511089 | E51: 2.0572237 | F51: 3.6835451 | G51: 0.080882235 | H51: 0.089264614 | I51: 0.021758161 | J51: 0.13399832 | K51: 0.450515
A52: 39568 | B52: 5.8654568 | C52: 0.50428209 | D52: 4.8652221 | E52: 2.104564 | F52: 3.6058767 | G52: 0.26447632 | H52: 0.093069655 | I52: 0.022482053 | J52: 0.11881012 | K52: 0.46205923
... A57: 39721 | B57: 6.823074 | C57: 5.2575069 | D57: 4.9540419 | E57: 3.5829763 | F57: 3.8266778 | G57: 0.073818306 | H57: 0.093039881 | I57: 0.028715613 | J57: 0.062363115 | K57: 0.0094831983

Sheet K8_M24
B1: Skýrsla rannsóknarnefndar Alþingis
B2: 8. kafli - Útlán íslensku bankanna
B3: Mynd 24
A4: Fs | B4: Útlán Kaupþings banka hf.
A5: Ufs | B5: Flokkuð eftir mynt. Hlutfall af heildarútlánum móðurfélags.
A6: Alm.
A7: Nm
A8: H | B8: Heimild: Kaupþing banki hf.
A9: Vá | B9: %
A10: Há
A11: Ath.
A12: Dagsetning | B12: Evra | C12: USD | D12: CHF | E12: GBP | F12: JPY | G12: NOK | H12: DKK | I12: CAD | J12: SEK | K12: Aðrar erlendar myntir
A13: 38383 | B13: 18.801688 | C13: 16.107462 | D13: 4.937806 | E13: 14.51135 | F13: 3.7696142 | G13: 0.3565909 | H13: 1.157862 | I13: 0.0043984218 | J13: 2.9634159
A14: 38411 | B14: 16.533645 | C14: 15.611677 | D14: 4.389311 | E14: 23.470006 | F14: 3.2796532 | G14: 0.28653117 | H14: 0.95518454 | I14: 0.0036729419 | J14: 2.4687627
A15: 38442 | B15: 16.187372 | C15: 14.850422 | D15: 4.4285155 | E15: 22.926393 | F15: 3.2416926 | G15: 0.25495287 | H15: 0.91690098 | I15: 0.0035416662 | J15: 2.3501672
A16: 38472 | B16: 15.568481 | C16: 14.340243 | D16: 5.1637026 | E16: 21.661505 | F16: 3.264259 | G16: 0.26532886 | H16: 0.88337698 | I16: 0.0034254802 | J16: 2.3464849
A17: 38503 | B17: 17.285875 | C17: 13.878916 | D17: 4.8444414 | E17: 21.536239 | F17: 3.000159 | G17: 0.24618185 | H17: 1.2795029 | I17: 0.0032403841 | J17: 2.2035342
A18: 38533 | B18: 16.650196 | C18: 14.123425 | D18: 5.0032148 | E18: 20.802538 | F18: 3.0059092 | G18: 0.24913287 | H18: 1.5075011 | I18: 0.0028397676 | J18: 3.7603427 | K18: 0.027152763
A19: 38564 | B19: 15.954155 | C19: 12.981353 | D19: 5.1000562 | E19: 21.899996 | F19: 2.9952533 | G19: 0.2372801 | H19: 1.4694253 | I19: 0.0027407186 | J19: 4.478322 | K19: 0.028513752
A20: 38595 | B20: 16.205832 | C20: 15.202978 | D20: 4.8475133 | E20: 22.909257 | F20: 2.8462707 | G20: 0.23586685 | H20: 1.2776817 | J20: 4.2466687 | K20: 0.27849141
A21: 38625 | B21: 18.847806 | C21: 15.59593 | D21: 4.3045514 | E21: 21.41112 | F21: 2.4312871 | G21: 0.19453386 | H21: 1.5677046 | J21: 4.1828157 | K21: 0.23993888
A22: 38656 | B22: 19.143721 | C22: 14.355971 | D22: 4.6548151 | E22: 21.415726 | F22: 2.5434904 | G22: 0.1937176 | H22: 1.5916069 | J22: 4.0184703 | K22: 0.25302928
A23: 38686 | B23: 19.978637 | C23: 13.968453 | D23: 4.6586368 | E23: 21.038086 | F23: 2.3011301 | G23: 0.36912631 | H23: 1.8787879 | I23: 0.068731104 | J23: 4.079209 | K23: 0.024377546
A24: 38717 | B24: 17.019116 | C24: 13.129134 | D24: 5.4820386 | E24: 20.722386 | F24: 2.7787887 | G24: 0.46333154 | H24: 3.277346 | I24: 0.053183413 | J24: 4.0363972 | K24: 0.022033745
A25: 38748 | B25: 16.999707 | C25: 12.67883 | D25: 5.54511 | E25: 20.54998 | F25: 2.8593937 | G25: 0.47910247 | H25: 3.5426721 | I25: 0.052565211 | J25: 4.4922278 | K25: 0.012066068
A26: 38776 | B26: 17.868263 | C26: 11.144712 | D26: 5.442031 | E26: 19.213478 | F26: 2.7671211 | G26: 0.45512362 | H26: 4.0305471 | I26: 0.05197056 | J26: 4.2940952 | K26: 0.0017486722
A27: 38807 | B27: 15.646659 | C27: 10.228804 | D27: 5.8605769 | E27: 22.609739 | F27: 3.0576725 | G27: 1.7360056 | H27: 3.6717783 | I27: 0.087184226 | J27: 3.7890326
A28: 38837 | B28: 15.340084 | C28: 9.8676646 | D28: 6.010649 | E28: 22.566931 | F28: 3.0910242 | G28: 1.7217904 | H28: 3.6965624 | I28: 0.084514382 | J28: 3.7423911
A29: 38868 | B29: 18.033921 | C29: 9.4992467 | D29: 5.9237629 | E29: 20.687659 | F29: 3.2743712 | G29: 1.5571923 | H29: 3.582228 | I29: 0.080803558 | J29: 3.5284703
A30: 38898 | B30: 17.029276 | C30: 10.114411 | D30: 6.4216147 | E30: 19.990496 | F30: 3.575591 | G30: 1.7106287 | H30: 4.1695079 | I30: 0.085499827 | J30: 3.3166725
A31: 38929 | B31: 18.182143 | C31: 10.398676 | D31: 6.5967115 | E31: 17.383214 | F31: 3.5938567 | G31: 1.7695305 | H31: 4.3707781 | I31: 0.087019814 | J31: 2.9097075
A32: 38960 | B32: 15.691765 | C32: 10.464073 | D32: 6.4549625 | E32: 17.041576 | F32: 3.8470773 | G32: 1.7483536 | H32: 4.4660029 | I32: 0.085288859 | J32: 3.6740828 | K32: 0.015392223
A33: 38990 | B33: 15.098126 | C33: 9.9610818 | D33: 6.2674862 | E33: 20.193152 | F33: 3.8432506 | G33: 1.5655304 | H33: 4.2807609 | I33: 0.079188836 | J33: 3.0561944
A34: 39021 | B34: 13.793825 | C34: 9.9271276 | D34: 6.0291016 | E34: 23.777794 | F34: 3.6453603 | G34: 1.5051492 | H34: 4.1444048 | I34: 0.082508697 | J34: 3.1413392
A35: 39051 | B35: 12.860184 | C35: 9.6153934 | D35: 6.1527813 | E35: 23.217028 | F35: 3.7361865 | G35: 1.9386793 | H35: 4.4076829 | I35: 0.081516829 | J35: 3.4314977
A36: 39082 | B36: 13.615438 | C36: 9.5864309 | D36: 6.1711388 | E36: 24.048103 | F36: 3.9266549 | G36: 2.2016329 | H36: 4.2104945 | I36: 0.084984203 | J36: 3.1252127
A37: 39113 | B37: 12.857068 | C37: 8.3225234 | D37: 6.1083794 | E37: 28.36525 | F37: 3.8274751 | G37: 1.9961426 | H37: 3.5217363 | I37: 0.082329189 | J37: 3.0783475
A38: 39141 | B38: 16.041791 | C38: 7.952699 | D38: 6.5471241 | E38: 26.378956 | F38: 4.0743 | G38: 1.627006 | H38: 3.2868694 | I38: 0.63579366 | J38: 2.9773778 | K38: 0.16264966
A39: 39172 | B39: 14.253369 | C39: 7.1456953 | D39: 7.1009614 | E39: 29.835088 | F39: 4.0835045 | G39: 1.4241165 | H39: 3.0816068 | I39: 0.58250641 | J39: 2.4525397 | K39: 0.24819637
A40: 39202 | B40: 15.440787 | C40: 7.4660337 | D40: 8.750581 | E40: 27.122379 | F40: 4.9989902 | G40: 1.4304101 | H40: 2.5807995 | I40: 0.11211669 | J40: 2.3831851 | K40: 0.38213674
A41: 39233 | B41: 16.928128 | C41: 7.0601753 | D41: 8.3786324 | E41: 26.869716 | F41: 4.7886364 | G41: 1.4651572 | H41: 2.4984099 | I41: 0.10582366 | J41: 2.4272315 | K41: 0.32533962
A42: 39263 | B42: 18.583896 | C42: 6.8620055 | D42: 8.1188466 | E42: 27.037116 | F42: 4.915961 | G42: 1.6011473 | H42: 2.8524389 | I42: 1.47264 | J42: 2.3914667 | K42: 0.25713783
A43: 39294 | B43: 16.588384 | C43: 6.1863493 | D43: 8.6835547 | E43: 28.052253 | F43: 4.8109863 | G43: 1.6427199 | H43: 2.7686297 | I43: 0.084126114 | J43: 2.4775182 | K43: 0.336138
A44: 39325 | B44: 15.899864 | C44: 8.2368279 | D44: 8.3455676 | E44: 27.083284 | F44: 4.6488266 | G44: 1.6954787 | H44: 2.5539792 | I44: 0.081045185 | J44: 3.5658256 | K44: 0.28607708
A45: 39355 | B45: 18.966457 | C45: 7.497557 | D45: 7.2435772 | E45: 27.817362 | F45: 3.8681935 | G45: 1.4527342 | H45: 3.2727059 | I45: 0.079727197 | J45: 3.1077064 | K45: 0.31193303
A46: 39386 | B46: 19.595676 | C46: 7.1239325 | D46: 7.4053275 | E46: 27.368867 | F46: 3.9826443 | G46: 1.5285728 | H46: 2.4715145 | I46: 0.079769225 | J46: 3.3812897 | K46: 0.36051988
A47: 39416 | B47: 20.313384 | C47: 7.0223844 | D47: 7.4236686 | E47: 27.578389 | F47: 4.320544 | G47: 1.4578443 | H47: 2.6779437 | I47: 0.11042922 | J47: 3.271412 | K47: 0.38634317
A48: 39447 | B48: 19.656068 | C48: 9.7858469 | D48: 6.7811545 | E48: 25.991595 | F48: 4.1527984 | G48: 0.93586376 | H48: 2.8176105 | I48: 0.2891478 | J48: 2.6596093 | K48: 0.30790718
A49: 39478 | B49: 20.337361 | C49: 9.6961103 | D49: 6.3298358 | E49: 25.754458 | F49: 3.9672122 | G49: 1.0073949 | H49: 2.8190832 | I49: 0.27644394 | J49: 2.5929948 | K49: 0.30835729
... A57: 39721 | B57: 18.177306 | C57: 12.711081 | D57: 5.3291263 | E57: 27.173824 | F57: 3.7055034 | G57: 0.78972285 | H57: 1.7719895 | I57: 0.40240937 | J57: 2.240653 | K57: 0.10812432

Sheet K8_M25
B1: Skýrsla rannsóknarnefndar Alþingis
B2: 8. kafli - Útlán íslensku bankanna
B3: Mynd 25
A4: Fs | B4: Útlán Kaupþings banka hf. til einstaklinga
A5: Ufs | B5: Flokkuð eftir mynt. Hlutfall af heildarútlánum móðurfélags til einstaklinga.
A6: Alm.
A7: Nm
A8: H | B8: Heimild: Kaupþing banki hf.
A9: Vá | B9: %
A10: Há
A11: Ath.
A12: Dagsetning | B12: Evra | C12: USD | D12: CHF | E12: GBP | F12: JPY | G12: NOK | H12: DKK | I12: CAD | J12: SEK | K12: Aðrar erlendar myntir
A13: 38383 | B13: 0.89596406 | C13: 1.0423509 | D13: 0.29084582 | F13: 0.23582755 | G13: 0.030653885 | J13: 7.9219147
A14: 38411 | B14: 0.87135528 | C14: 1.0106152 | D14: 0.40130329 | F14: 0.21412495 | G14: 0.027697259 | H14: 0.024890607 | J14: 7.1609302
A15: 38442 | B15: 0.68184503 | C15: 0.8630575 | D15: 0.3619814 | F15: 0.34444876 | G15: 0.024583656 | H15: 0.022517746 | J15: 6.4193631
A16: 38472 | B16: 0.72543382 | C16: 0.79690261 | D16: 0.35001047 | F16: 0.3708641 | G16: 0.022696707 | H16: 0.020724421 | J16: 5.9844866
A17: 38503 | B17: 0.7176114 | C17: 0.80764623 | D17: 0.41747887 | F17: 0.53561871 | G17: 0.02218567 | H17: 0.020196066 | J17: 5.7976874
A18: 38533 | B18: 0.66193484 | C18: 0.67787831 | D18: 0.51686464 | F18: 0.51199404 | G18: 0.020041885 | H18: 0.018595707 | J18: 5.3564711 | K18: 0.18311953
A19: 38564 | B19: 0.8981499 | C19: 0.72058455 | D19: 0.6546242 | E19: 0.13661988 | F19: 0.60535408 | G19: 0.019657767 | H19: 0.024217606 | J19: 5.228652 | K19: 0.1957287
A20: 38595 | B20: 1.2252821 | C20: 0.70361459 | D20: 1.2262716 | E20: 0.12231458 | F20: 1.116944 | G20: 0.017558929 | H20: 0.021560902 | J20: 4.6761756 | K20: 1.86663
A21: 38625 | B21: 1.2708832 | C21: 0.63763928 | D21: 1.32315 | E21: 0.15316469 | F21: 1.0977477 | G21: 0.01630635 | H21: 0.020416399 | J21: 4.3688042 | K21: 1.6945973
A22: 38656 | B22: 1.2351563 | C22: 0.61174733 | D22: 2.1455373 | E22: 0.16593638 | F22: 1.2335185 | G22: 0.032579364 | H22: 0.036438647 | J22: 4.3041749 | K22: 1.7459675
A23: 38686 | B23: 0.80961916 | C23: 0.50242945 | D23: 1.0886913 | E23: 0.28839175 | F23: 0.81377212 | G23: 0.049502981 | H23: 0.03845518 | J23: 4.5560303 | K23: 0.18159584
A24: 38717 | B24: 0.82714059 | C24: 0.51554438 | D24: 1.0771824 | E24: 0.16736433 | F24: 0.74474927 | G24: 0.066644217 | H24: 0.01979786 | J24: 3.8081231 | K24: 0.16891014
A25: 38748 | B25: 0.80144181 | C25: 0.66792686 | D25: 1.3423279 | E25: 0.41763252 | F25: 0.77798683 | G25: 0.071524465 | H25: 0.018809049 | J25: 3.6493676 | K25: 0.07574699
A26: 38776 | B26: 0.48257607 | C26: 0.35521414 | D26: 0.65346931 | E26: 0.33772015 | F26: 0.59047154 | G26: 0.064531536 | H26: 0.030073911 | J26: 3.3067107
A27: 38807 | B27: 1.5862696 | C27: 1.1504466 | D27: 2.6300625 | E27: 0.2909189 | F27: 1.8684575 | G27: 0.063651831 | H27: 0.24028967 | J27: 2.8087462
A28: 38837 | B28: 1.5222618 | C28: 1.1995261 | D28: 3.279008 | E28: 0.27994209 | F28: 1.8171069 | G28: 0.051803511 | H28: 0.24994683 | J28: 2.7165653
A29: 38868 | B29: 1.6906947 | C29: 1.4208667 | D29: 3.5582647 | E29: 0.39574143 | F29: 2.7162902 | G29: 0.037401987 | H29: 0.27700208 | J29: 2.5860168
A30: 38898 | B30: 1.3242315 | C30: 1.2134377 | D30: 3.4734608 | E30: 0.39293314 | F30: 2.7007482 | G30: 0.036834535 | H30: 0.27324755 | J30: 2.543691
A31: 38929 | B31: 1.3013569 | C31: 1.1914537 | D31: 3.4931843 | E31: 0.38827102 | F31: 2.7026556 | G31: 0.047102763 | H31: 0.25892249 | J31: 2.5311635
A32: 38960 | B32: 1.3303877 | C32: 1.1450186 | D32: 3.4105717 | E32: 0.3768955 | F32: 2.6384317 | G32: 0.046827408 | H32: 0.25789469 | J32: 2.5210312 | K32: 0.09488734
A33: 38990 | B33: 1.6591264 | C33: 1.1814814 | D33: 3.7770913 | E33: 0.380719 | F33: 2.7208974 | G33: 0.047010253 | H33: 0.25857795 | J33: 0.0082914054
A34: 39021 | B34: 0.9311408 | C34: 1.1624807 | D34: 3.8245423 | E34: 0.37920183 | F34: 2.7634716 | G34: 0.091786666 | H34: 0.25758071 | I34: 0.036801289 | J34: 0.01598719
A35: 39051 | B35: 0.85328931 | C35: 0.84409093 | D35: 3.8523969 | E35: 0.42209409 | F35: 2.5847406 | G35: 0.046221502 | H35: 0.25643535 | I35: 0.036497494 | J35: 0.047355841
A36: 39082 | B36: 1.156376 | C36: 0.95472539 | D36: 4.2527111 | E36: 0.41261985 | F36: 3.4282107 | G36: 0.035374812 | H36: 0.35906089 | I36: 0.089135608 | J36: 0.19420009
A37: 39113 | B37: 1.2109294 | C37: 0.91351398 | D37: 4.0341885 | E37: 0.23679012 | F37: 3.5866688 | G37: 0.21998986 | H37: 0.36016486 | I37: 0.10228524 | J37: 0.16678619
A38: 39141 | B38: 1.4507992 | C38: 0.94842133 | D38: 4.6825687 | E38: 0.28378748 | F38: 3.9635518 | G38: 0.21881099 | H38: 0.36364751 | I38: 0.090783854 | J38: 0.32933283 | K38: 0.83940184
A39: 39172 | B39: 1.6210042 | C39: 0.96458784 | D39: 5.1065575 | E39: 0.17761428 | F39: 4.393326 | G39: 0.23878878 | H39: 0.35965069 | I39: 0.091159458 | J39: 0.29646099 | K39: 0.92644162
A40: 39202 | B40: 1.8952305 | C40: 1.0425237 | D40: 5.0888628 | E40: 0.12275609 | F40: 4.4612424 | G40: 0.17479477 | H40: 0.32154759 | I40: 0.087569301 | J40: 0.34197227 | K40: 1.727367
A41: 39233 | B41: 2.8959117 | C41: 1.0043696 | D41: 5.0776578 | E41: 0.11925361 | F41: 5.5072005 | G41: 0.21003706 | H41: 0.31074554 | I41: 0.084372855 | J41: 0.37098054 | K41: 1.9261597
A42: 39263 | B42: 2.729187 | C42: 1.0426672 | D42: 5.0166596 | E42: 0.12044707 | F42: 5.5909102 | G42: 0.20113495 | H42: 0.33754238 | I42: 0.084500504 | J42: 0.29594375 | K42: 1.4150816
A43: 39294 | B43: 3.6217624 | C43: 0.92963818 | D43: 5.3812306 | E43: 0.26035978 | F43: 5.7961254 | G43: 0.23904626 | H43: 0.32871998 | I43: 0.081272028 | J43: 0.27828037 | K43: 0.42528096
A44: 39325 | B44: 2.0909916 | C44: 0.99119811 | D44: 5.6770179 | E44: 0.22179533 | F44: 5.9225782 | G44: 0.26500277 | H44: 0.34234619 | I44: 0.082332326 | J44: 0.32568352 | K44: 0.40089715
A45: 39355 | B45: 1.7590182 | C45: 0.96232894 | D45: 5.772826 | E45: 0.31141612 | F45: 6.3079538 | G45: 0.25409902 | H45: 0.33717205 | I45: 0.081955362 | J45: 0.37852968 | K45: 0.54366236
A46: 39386 | B46: 1.5812712 | C46: 0.89925449 | D46: 5.6956109 | E46: 0.35784864 | F46: 6.1023544 | G46: 0.16012718 | H46: 0.31496612 | I46: 0.079561052 | J46: 0.62724736 | K46: 0.65712991
A47: 39416 | B47: 1.6096364 | C47: 0.91416327 | D47: 5.3358785 | E47: 0.1027576 | F47: 6.0598259 | G47: 0.11049271 | H47: 0.30341145 | I47: 0.078675498 | J47: 0.52405782 | K47: 0.47183077
A48: 39447 | B48: 1.5181588 | C48: 0.80004532 | D48: 5.2641571 | E48: 0.18244417 | F48: 6.2741246 | G48: 0.14441604 | H48: 0.31275542 | I48: 0.016013446 | J48: 0.39336949 | K48: 0.21916899
A49: 39478 | B49: 0.9721137 | C49: 0.74569754 | D49: 4.8652594 | E49: 0.30397838 | F49: 6.0087149 | G49: 0.078550953 | H49: 0.31198606 | I49: 0.015986134 | J49: 0.28231019 | K49: 0.19142299
... A57: 39721 | B57: 1.7372366 | C57: 0.54007737 | D57: 7.3822595 | E57: 0.26433863 | F57: 7.0650891 | G57: 0.042455869 | H57: 0.25232277 | I57: 0.015604357 | J57: 0.12773849 | K57: 0.016741339

Sheet K8_M26
B1: Skýrsla rannsóknarnefndar Alþingis
B2: 8. kafli - Útlán íslensku bankanna
B3: Mynd 26
A4: Fs | B4: Útlán Landsbanka Íslands hf.
A5: Ufs | B5: Flokkuð eftir mynt. Hlutfall af heildarútlánum móðurfélags
A6: Alm.
A7: Nm
A8: H | B8: Heimild: Landsbanki Íslands hf.
A9: Vá | B9: %
A10: Há
A11: Ath.
A12: Dagsetning | B12: Evra | C12: USD | D12: CHF | E12: GBP | F12: JPY | G12: NOK | H12: DKK | I12: CAD | J12: SEK | K12: Aðrar erlendar myntir
A13: 38383 | B13: 19.725768 | C13: 14.796001 | D13: 8.4344972 | E13: 8.1780661 | F13: 5.1823434 | G13: 0.85226434 | H13: 1.0317812 | I13: 0.30244266 | J13: 0.38592996
A14: 38411 | B14: 18.721479 | C14: 14.581596 | D14: 8.251676 | E14: 8.2560097 | F14: 5.5522675 | G14: 0.78776637 | H14: 1.0190289 | I14: 0.28619655 | J14: 0.34601899
A15: 38442 | B15: 18.608394 | C15: 14.250273 | D15: 8.5908218 | E15: 7.2578458 | F15: 5.6558339 | G15: 0.81492073 | H15: 1.2801384 | I15: 0.30287593 | J15: 1.1496791
A16: 38472 | B16: 18.397602 | C16: 13.818916 | D16: 7.856878 | E16: 6.5146651 | F16: 5.5558213 | G16: 0.87250802 | H16: 1.2856069 | I16: 0.29006464 | J16: 1.0899809
A17: 38503 | B17: 17.698436 | C17: 13.233913 | D17: 7.9549724 | E17: 7.7741612 | F17: 5.3224142 | G17: 0.82747618 | H17: 1.2086056 | I17: 0.2729657 | J17: 1.0360047
A18: 38533 | B18: 18.609493 | C18: 13.131995 | D18: 7.2078 | E18: 11.942328 | F18: 4.8946076 | G18: 0.89236412 | H18: 1.0783196 | I18: 0.23006805 | J18: 1.1005759
A19: 38564 | B19: 18.522 | C19: 12.766825 | D19: 7.1805409 | E19: 11.772381 | F19: 4.9895292 | G19: 1.0136498 | H19: 1.1238526 | I19: 0.24894365 | J19: 1.1876728
A20: 38595 | B20: 19.417568 | C20: 13.082947 | D20: 7.2723417 | E20: 12.602151 | F20: 4.8224189 | G20: 0.9892127 | H20: 1.0948806 | I20: 0.23899835 | J20: 1.1990237
A21: 38625 | B21: 20.323656 | C21: 12.646668 | D21: 6.8982336 | E21: 11.763034 | F21: 4.7203056 | G21: 0.96224651 | H21: 1.0390975 | I21: 0.2479354 | J21: 1.3102084
A22: 38656 | B22: 21.526136 | C22: 13.559326 | D22: 6.9683158 | E22: 11.457349 | F22: 4.5693369 | G22: 0.96504201 | H22: 1.01135 | I22: 0.34430132 | J22: 1.4994709
A23: 38686 | B23: 20.938547 | C23: 13.475956 | D23: 6.9126298 | E23: 11.294948 | F23: 4.2866259 | G23: 0.89782871 | H23: 1.1858685 | I23: 0.32178467 | J23: 1.4007794
A24: 38717 | B24: 20.002908 | C24: 13.555909 | D24: 7.453712 | E24: 11.434402 | F24: 4.5416563 | G24: 0.69742475 | H24: 1.1663078 | I24: 0.31649288 | J24: 1.3005491
A25: 38748 | B25: 20.386329 | C25: 13.152986 | D25: 7.7863438 | E25: 10.516622 | F25: 4.6022606 | G25: 0.65129084 | H25: 1.2203024 | I25: 0.30773065 | J25: 0.7827989 | K25: 0.019956931
A26: 38776 | B26: 19.824923 | C26: 12.760467 | D26: 7.8158809 | E26: 11.455696 | F26: 4.440942 | G26: 0.63670807 | H26: 1.9927406 | I26: 0.57060595 | J26: 0.72398812 | K26: 0.018291475
A27: 38807 | B27: 18.877447 | C27: 13.035467 | D27: 8.1455381 | E27: 11.7499 | F27: 4.3430168 | G27: 0.64289943 | H27: 1.5730857 | I27: 0.53151522 | J27: 0.77982583 | K27: 0.016595739
A28: 38837 | B28: 19.08111 | C28: 12.515173 | D28: 7.5480543 | E28: 10.650383 | F28: 4.1651015 | G28: 0.65576682 | H28: 1.4263332 | I28: 0.43042319 | J28: 0.53706296 | K28: 0.014628839
A29: 38868 | B29: 19.824111 | C29: 12.780279 | D29: 7.9362937 | E29: 10.743925 | F29: 4.291899 | G29: 0.67262984 | H29: 0.95682427 | I29: 0.46068259 | J29: 0.53071367 | K29: 0.030157619
A30: 38898 | B30: 19.021026 | C30: 12.287042 | D30: 7.7035538 | E30: 10.602013 | F30: 3.9728384 | G30: 0.74576459 | H30: 0.97274989 | I30: 0.46306448 | J30: 0.4957005 | K30: 0.029060247
A31: 38929 | B31: 19.083527 | C31: 11.992647 | D31: 7.612311 | E31: 10.688826 | F31: 3.9561054 | G31: 0.78070179 | H31: 1.0737959 | I31: 0.4611247 | J31: 0.49712046 | K31: 0.031480062
A32: 38960 | B32: 20.619877 | C32: 11.862412 | D32: 7.456579 | E32: 10.601402 | F32: 3.9778604 | G32: 0.70462131 | H32: 1.0522845 | I32: 0.43317764 | J32: 0.47914249 | K32: 0.081088362
A33: 38990 | B33: 18.732989 | C33: 11.76012 | D33: 8.6255553 | E33: 10.253489 | F33: 4.2365522 | G33: 0.69167693 | H33: 1.3238188 | I33: 0.44170572 | J33: 0.47784168 | K33: 0.080602359
A34: 39021 | B34: 17.692986 | C34: 12.310936 | D34: 8.2387989 | E34: 10.584692 | F34: 4.4911695 | G34: 1.0361471 | H34: 1.3313737 | I34: 0.42908823 | J34: 0.56821062 | K34: 0.065118542
A35: 39051 | B35: 15.795415 | C35: 11.92059 | D35: 8.1095002 | E35: 10.855569 | F35: 4.6691083 | G35: 1.0101827 | H35: 1.3398614 | I35: 0.4350161 | J35: 0.57923748 | K35: 0.047737963
A36: 39082 | B36: 17.766211 | C36: 11.702491 | D36: 8.5390302 | E36: 9.1982726 | F36: 4.8856627 | G36: 0.96834414 | H36: 1.2917698 | I36: 0.49558452 | J36: 0.62127221 | K36: 0.054069522
... A57: 39721 | B57: 19.450564 | C57: 12.294943 | D57: 9.6203567 | E57: 12.985149 | F57: 7.0776787 | G57: 0.54958074 | H57: 2.2157191 | I57: 1.3649177 | J57: 0.77743087 | K57: 1.8325772

Sheet K8_M27
B1: Skýrsla rannsóknarnefndar Alþingis
B2: 8. kafli - Útlán íslensku bankanna
B3: Mynd 27
A4: Fs | B4: Útlán Landsbanka Íslands hf. til einstaklinga
A5: Ufs | B5: Flokkuð eftir mynt. Hlutfall af heildarútlánum móðurfélags til einstaklinga
A6: Alm.
A7: Nm
A8: H | B8: Heimild: Landsbanki Íslands hf.
A9: Vá | B9: %
A10: Há
A11: Ath.
A12: Dagsetning | B12: Evra | C12: USD | D12: CHF | E12: GBP | F12: JPY | G12: NOK | H12: DKK | I12: CAD | J12: SEK | K12: Aðrar erlendar myntir
A13: 38383 | B13: 2.0407727 | C13: 0.96111696 | D13: 1.5538097 | E13: 0.074049284 | F13: 1.2006497 | H13: 0.33994591
A14: 38411 | B14: 1.7015791 | C14: 0.79233718 | D14: 1.6905083 | E14: 0.031612636 | F14: 1.1566767 | H14: 0.30379817
A15: 38442 | B15: 1.560196 | C15: 0.65814244 | D15: 1.6206402 | E15: 0.028547361 | F15: 1.1797998 | H15: 0.27633177
A16: 38472 | B16: 1.6182184 | C16: 0.93926492 | D16: 1.7386282 | E16: 0.024751957 | F16: 1.3036466 | H16: 0.24149812
A17: 38503 | B17: 1.5085202 | C17: 0.9616452 | D17: 1.7247604 | E17: 0.023073601 | F17: 1.3658751 | H17: 0.22691941
A18: 38533 | B18: 1.43162 | C18: 1.2510262 | D18: 1.2967666 | E18: 0.021558286 | F18: 1.2665202 | H18: 0.28350637
A19: 38564 | B19: 1.4040823 | C19: 1.0350343 | D19: 1.2898835 | E19: 0.020012317 | F19: 1.3539297 | H19: 0.26827896
A20: 38595 | B20: 0.81571496 | C20: 0.4868081 | D20: 0.94069024 | E20: 0.16558108 | F20: 1.0011998 | H20: 0.25269587
A21: 38625 | B21: 0.83320556 | C21: 0.4704787 | D21: 1.0160871 | E21: 0.22739476 | F21: 1.1652703 | H21: 0.22903982 | J21: 0.023201459
A22: 38656 | B22: 0.80229945 | C22: 0.51464302 | D22: 1.5825816 | E22: 0.19766074 | F22: 1.4145404 | H22: 0.21447777 | J22: 0.021079787
A23: 38686 | B23: 0.75476097 | C23: 0.51127842 | D23: 1.6518041 | E23: 0.19051419 | F23: 1.4222025 | H23: 0.20716191 | J23: 0.020777988
A24: 38717 | B24: 0.75380541 | C24: 0.53717483 | D24: 1.8467698 | E24: 0.18925607 | F24: 1.4268056 | H24: 0.20518727 | J24: 0.036891912
A25: 38748 | B25: 0.80745593 | C25: 0.51211512 | D25: 1.8584402 | E25: 0.024856535 | F25: 1.4813867 | H25: 0.20246997 | J25: 0.035318125
A26: 38776 | B26: 0.82344484 | C26: 0.58329785 | D26: 1.8387259 | E26: 0.03726192 | F26: 1.4362102 | H26: 0.17704285 | J26: 0.031610764
A27: 38807 | B27: 1.6517314 | C27: 0.96061954 | D27: 2.2624075 | E27: 0.11706941 | F27: 1.7145696 | H27: 0.19093844 | J27: 0.30873955
A28: 38837 | B28: 1.524 | C28: 0.79567902 | D28: 2.2214924 | E28: 0.11570757 | F28: 1.6615508 | H28: 0.18823912 | J28: 0.28228707
A29: 38868 | B29: 1.4918693 | C29: 0.77235537 | D29: 2.3735831 | E29: 0.11637563 | F29: 1.7477263 | H29: 0.16275769 | J29: 0.29581895
A30: 38898 | B30: 1.5028985 | C30: 0.78269727 | D30: 2.3678876 | E30: 0.1139332 | F30: 1.7807188 | H30: 0.21747476 | J30: 0.29098141
A31: 38929 | B31: 1.4433426 | C31: 0.76778729 | D31: 2.3333487 | E31: 0.12252307 | F31: 1.7291103 | H31: 0.19177553 | J31: 0.28687076
A32: 38960 | B32: 1.4938433 | C32: 0.72962799 | D32: 2.2006866 | E32: 0.13476363 | F32: 1.687044 | H32: 0.18881737 | J32: 0.2807836
A33: 38990 | B33: 1.6665577 | C33: 0.67388289 | D33: 2.411253 | E33: 0.15809565 | F33: 2.0042441 | H33: 0.18402244 | J33: 0.27384242
A34: 39021 | B34: 1.671998 | C34: 0.62882256 | D34: 2.5893559 | E34: 0.19546904 | F34: 2.294823 | H34: 0.18185681 | I34: 0.0088372067 | J34: 0.27072662
A35: 39051 | B35: 1.8460646 | C35: 1.2777667 | D35: 2.9781321 | E35: 0.19545244 | F35: 2.6306355 | H35: 0.18132202 | I35: 0.0087413713 | J35: 0.26975505
A36: 39082 | B36: 1.6204483 | C36: 0.92847704 | D36: 2.8806248 | E36: 0.19298378 | F36: 2.5713677 | H36: 0.17955964 | I36: 0.0085373559 | J36: 0.2688745
A37: 39113 | B37: 1.7923847 | C37: 0.87451562 | D37: 3.0286486 | E37: 0.16791894 | F37: 2.8270197 | H37: 0.18243856 | J37: 0.26998491
A38: 39141 | B38: 1.9026723 | C38: 0.92042997 | D38: 3.193368 | E38: 0.12384007 | F38: 2.980437 | H38: 0.17611752 | J38: 0.24534168
A39: 39172 | B39: 1.9987569 | C39: 1.0678056 | D39: 3.882179 | E39: 0.14282749 | F39: 3.6872018 | H39: 0.17886337 | J39: 0.248427
A40: 39202 | B40: 1.8953415 | C40: 1.7805276 | D40: 4.0472147 | E40: 0.13949902 | F40: 3.8208056 | H40: 0.17425927 | J40: 0.25186643
A41: 39233 | B41: 2.0315014 | C41: 1.6300219 | D41: 4.2977328 | E41: 0.13636426 | F41: 4.0530517 | H41: 0.17018924 | I41: 0.069233033 | J41: 0.24512796
A42: 39263 | B42: 2.2858915 | C42: 1.6039118 | D42: 4.6765933 | E42: 0.13008099 | F42: 4.3465159 | H42: 0.16028914 | I42: 0.079594138 | J42: 0.25345354
A43: 39294 | B43: 2.2823453 | C43: 1.5607478 | D43: 5.3242397 | E43: 0.12642494 | F43: 4.8276196 | H43: 0.17938563 | I43: 0.053757183 | J43: 0.24952341
A44: 39325 | B44: 2.3438004 | C44: 1.6120258 | D44: 5.5975395 | E44: 0.099328262 | F44: 5.3581935 | H44: 0.17600147 | I44: 0.055951906 | J44: 0.26186472
A45: 39355 | B45: 2.361044 | C45: 1.5628433 | D45: 5.8730087 | E45: 0.096976235 | F45: 5.2755194 | H45: 0.17906785 | I45: 0.054587961 | J45: 0.25201772
A46: 39386 | B46: 2.5094391 | C46: 1.5213622 | D46: 6.0408592 | E46: 0.11080893 | F46: 5.374513 | H46: 0.17813432 | I46: 0.019213015 | J46: 0.2488363
A47: 39416 | B47: 2.5186123 | C47: 1.5254323 | D47: 6.5068393 | E47: 0.1285691 | F47: 5.9872965 | H47: 0.17633868 | I47: 0.018805287 | J47: 0.27411856
A48: 39447 | B48: 2.5989342 | C48: 1.5190048 | D48: 6.783533 | E48: 0.13516379 | F48: 5.9664831 | G48: 0.0068360551 | H48: 0.17498745 | I48: 0.018480466 | J48: 0.27117509 | K48: 0.78247567
A49: 39478 | B49: 2.6938682 | C49: 1.5389226 | D49: 7.1004242 | E49: 0.13440382 | F49: 6.7037431 | G49: 0.0067959675 | H49: 0.20097161 | I49: 0.018074228 | J49: 0.23932269 | K49: 0.91278994
A50: 39507 | B50: 2.8000997 | C50: 1.5509224 | D50: 7.7753989 | E50: 0.1226135 | F50: 7.1380503 | G50: 0.0066294708 | H50: 0.19837145 | I50: 0.06850921 | J50: 0.23175043 | K50: 0.95762927
A51: 39538 | B51: 2.825546 | C51: 1.4498215 | D51: 7.9714046 | E51: 0.13165322 | F51: 7.6314822 | G51: 0.0063883634 | H51: 0.14158765 | I51: 0.027341125 | J51: 0.23928977 | K51: 1.1087527
A52: 39568 | B52: 2.7921417 | C52: 1.4985083 | D52: 7.9038862 | E52: 0.13481966 | F52: 7.545127 | G52: 0.0065289845 | H52: 0.14420509 | I52: 0.029158027 | J52: 0.23432225 | K52: 1.0384368
A53: 39599 | B53: 2.7037745 | C53: 1.4479948 | D53: 7.6275725 | E53: 0.12958955 | F53: 7.1667398 | G53: 0.0060446753 | H53: 0.13920946 | I53: 0.027966157 | J53: 0.22606907 | K53: 0.97606648
A54: 39629 | B54: 2.7337424 | C54: 1.4516558 | D54: 7.4489297 | E54: 0.12777278 | F54: 7.2228647 | G54: 0.0059455983 | H54: 0.13680757 | I54: 0.027303892 | J54: 0.22145956 | K54: 1.0168164
A55: 39660 | B55: 2.7320739 | C55: 1.4550876 | D55: 7.3206501 | E55: 0.12777301 | F55: 7.1705159 | G55: 0.005987153 | H55: 0.13622392 | I55: 0.027326404 | J55: 0.2224241 | K55: 1.0454721
A56: 39691 | B56: 2.6773498 | C56: 1.5526532 | D56: 7.2395086 | E56: 0.12730077 | F56: 7.2927339 | G56: 0.0052004779 | H56: 0.13608509 | I56: 0.0268678 | J56: 0.22113526 | K56: 1.0468179
A57: 39721 | B57: 2.5469031 | C57: 1.660225 | D57: 7.7417816 | E57: 0.12858517 | F57: 8.0380683 | G57: 0.0091683926 | H57: 0.14468299 | I57: 0.042880251 | J57: 0.2346991 | K57: 1.1171191

Sheet K8_M28
B1: Skýrsla rannsóknarnefndar Alþingis
B2: 8. kafli - Útlán íslensku bankanna
B3: Mynd 28
A4: Fs | B4: Útlán Straums-Burðaráss hf.
A5: Ufs | B5: Flokkuð eftir mynt. Hlutfall af heildarútlánum
A6: Alm.
A7: Nm
A8: H | B8: Heimild: Straumur-Burðarás hf.
A9: Vá | B9: %
A10: Há
A11: Ath.
A12: Dagsetning | B12: Evra | C12: USD | D12: CHF | E12: GBP | F12: JPY | G12: NOK | H12: DKK | I12: CAD | J12: SEK | K12: Aðrar erlendar myntir
A13: 39721 | B13: 29.206543 | C13: 11.627326 | D13: 11.077548 | E13: 1.6390767 | F13: 0.79663057 | G13: 22.700186 | H13: 0.38061175 | I13: 0.67219066 | J13: 2.3186808
A14: 39691 | B14: 30.031656 | C14: 11.558648 | D14: 11.157746 | E14: 1.6470708 | F14: 0.78160931 | G14: 21.351601 | H14: 0.37869953 | I14: 0.84468909 | J14: 2.3315441
A15: 39660 | B15: 29.754022 | C15: 11.479404 | D15: 10.750765 | E15: 1.63848 | F15: 0.78218053 | G15: 22.075725 | H15: 0.37749071 | I15: 0.83450727 | J15: 2.3136054
A16: 39629 | B16: 30.741327 | C16: 11.330798 | D16: 10.539815 | E16: 1.615604 | F16: 0.77280651 | G16: 21.955166 | H16: 0.37126064 | I16: 0.81367437 | J16: 2.2331247
A17: 39599 | B17: 29.147684 | C17: 12.30468 | D17: 13.509904 | E17: 1.6879785 | F17: 0.79927299 | G17: 21.462626 | H17: 0.38227319 | I17: 0.6943479 | J17: 2.1191977
A18: 39568 | B18: 29.074611 | C18: 12.607705 | D18: 12.980081 | E18: 1.8035182 | F18: 0.87169576 | G18: 21.241774 | H18: 0.39032196 | I18: 0.70240848 | J18: 2.1553282
A19: 39538 | B19: 29.703748 | C19: 12.752187 | D19: 13.212092 | E19: 1.8471118 | F19: 0.89175297 | G19: 20.161669 | H19: 0.33626481 | I19: 0.67159356 | J19: 1.9916426
A20: 39507 | B20: 29.201529 | C20: 12.374805 | D20: 12.834986 | E20: 1.8155139 | F20: 0.87146534 | G20: 19.651716 | H20: 0.32213807 | I20: 0.64603156 | J20: 1.9629442
A21: 39478 | B21: 30.285919 | C21: 12.385922 | D21: 12.014979 | E21: 1.7665777 | F21: 0.88338027 | G21: 19.542341 | H21: 0.32378409 | I21: 0.61715434 | J21: 1.9676139
A22: 39447 | B22: 29.914235 | C22: 13.370055 | D22: 6.8384515 | E22: 1.6638881 | F22: 0.83151176 | G22: 21.935155 | H22: 0.35782338 | I22: 0.67451853 | J22: 2.168945
A23: 39416 | B23: 28.286482 | C23: 12.149609 | D23: 6.5437686 | E23: 1.618946 | F23: 0.81083125 | G23: 20.904941 | I23: 0.62126824 | J23: 4.2745333
A24: 39386 | B24: 26.156996 | C24: 12.496897 | D24: 6.9746599 | E24: 1.37571 | F24: 0.64614705 | G24: 22.518677 | H24: 0.099739147 | I24: 0.63449219 | J24: 4.7216543
A25: 39355 | B25: 21.885191 | C25: 11.188888 | D25: 7.7228959 | E25: 2.5872305 | F25: 1.0258913 | G25: 22.337697 | H25: 0.045918384 | I25: 0.66045968 | J25: 4.6546316
A26: 39325 | B26: 16.671708 | C26: 13.204041 | D26: 8.730523 | E26: 2.9424246 | F26: 1.1670933 | G26: 21.062659 | I26: 0.7378601 | J26: 5.0947287
A27: 39294 | B27: 18.34516 | C27: 14.011506 | D27: 9.545533 | E27: 3.1998861 | F27: 1.2234676 | G27: 18.041225 | I27: 0.79581086 | J27: 5.4168404
A28: 39263 | B28: 23.684993 | C28: 11.748047 | D28: 8.3006466 | E28: 2.7897545 | F28: 1.0682951 | G28: 16.3844 | I28: 0.68569476 | J28: 4.7042309
A29: 39233 | B29: 23.020412 | C29: 11.38737 | D29: 8.058732 | E29: 2.7110368 | F29: 1.039537 | G29: 16.249702 | I29: 0.65851508 | J29: 4.5537061
A30: 39202 | B30: 15.882699 | C30: 12.944548 | D30: 8.104665 | E30: 2.727947 | F30: 1.0553875 | G30: 16.312335 | I30: 0.65431133 | J30: 3.3166256
A31: 39172 | B31: 15.056401 | C31: 12.812251 | D31: 6.7184144 | E31: 3.8359205 | F31: 2.2107673 | G31: 15.291869 | I31: 0.61393092 | J31: 0.25589672
A32: 39141 | B32: 14.967457 | C32: 13.904446 | D32: 6.9874777 | E32: 3.4343516 | F32: 1.9318318 | G32: 15.541053 | I32: 0.068870916 | J32: 0.26547513
A33: 39113 | B33: 15.764754 | C33: 13.058116 | D33: 6.1250316 | E33: 3.6266911 | F33: 2.0413742 | G33: 16.20662 | I33: 0.072519485 | J33: 0.2797381
A34: 39082 | B34: 17.964459 | C34: 13.879231 | D34: 5.7164707 | E34: 1.7239787 | F34: 1.4252357 | G34: 19.656927
A35: 39051 | B35: 11.772292 | C35: 12.60816 | D35: 6.7162318 | E35: 2.3341439 | F35: 2.2318548 | G35: 18.892768
A36: 39021 | B36: 14.467709 | C36: 10.066252 | D36: 7.0070456 | E36: 2.4480912 | F36: 2.3338455 | G36: 18.067174
A37: 38990 | B37: 15.150629 | C37: 10.59932 | D37: 7.3602541 | E37: 1.0049567 | F37: 0.92975175 | G37: 19.389241
A38: 38960 | B38: 15.450812 | C38: 9.752114 | D38: 7.5064072 | E38: 1.0385514 | F38: 0.95617465 | G38: 18.611814
A39: 38929 | B39: 14.902954 | C39: 9.5594331 | D39: 10.949401 | E39: 1.0030106 | F39: 0.92446543 | G39: 18.445855
A40: 38898 | B40: 15.424418 | C40: 9.9867727 | D40: 12.529558 | E40: 2.0239341 | F40: 1.2808227 | G40: 17.889976
A41: 38868 | B41: 16.427264 | C41: 10.746044 | D41: 8.7535194 | E41: 2.1717224 | F41: 2.2307366 | G41: 18.112383
A42: 38837 | B42: 16.959763 | C42: 12.259259 | D42: 9.0264687 | E42: 2.2593268 | F42: 2.3150596 | G42: 17.787833
A43: 38807 | B43: 18.620537 | C43: 10.052271 | D43: 10.460241 | E43: 3.3807442 | F43: 2.9303122 | G43: 17.657514 | J43: 0.10852972
A44: 38776 | B44: 22.916811 | C44: 8.8093363 | D44: 13.156759 | E44: 4.5042658 | F44: 3.9170933 | G44: 11.781255 | J44: 0.12970509
A45: 38748 | B45: 20.856859 | C45: 10.519213 | D45: 13.48673 | E45: 4.1128071 | F45: 4.6770873 | G45: 10.725498 | J45: 0.11840922
A46: 38717 | B46: 24.757542 | C46: 13.548809 | D46: 14.856512 | E46: 2.295684 | F46: 3.3284297 | G46: 14.492004 | J46: 0.15977061
A47: 38686 | B47: 28.47822 | C47: 13.428285 | D47: 12.991761 | E47: 1.0347163 | F47: 2.7349001 | G47: 13.953922 | J47: 0.17485193
A48: 38656 | B48: 40.983189 | C48: 9.4502843 | D48: 10.287076 | E48: 1.0295903 | F48: 0.48520577 | G48: 13.761738 | J48: 0.17292526
A49: 38625 | B49: 30.371283 | C49: 10.857323 | D49: 13.917155 | E49: 0.77554501 | F49: 0.57729985 | G49: 12.810186
A50: 38595 | B50: 28.704458 | C50: 12.894041 | D50: 13.001982 | E50: 0.81116386 | F50: 0.60426065 | G50: 13.41735

Sheet K8_M29
B1: Skýrsla rannsóknarnefndar Alþingis
B2: 8. kafli - Útlán íslensku bankanna
B3: Mynd 29
A4: Fs | B4: Útlán Landsbanka Íslands hf. til einstaklinga
A5: Ufs | B5: Flokkuð eftir afborgunarfyrirkomulagi. Hlutfall af heildarútlánum móðurfélags.
A6: Alm.
A7: Nm
A8: H | B8: Heimild: Landsbanki Íslands hf.
A9: Vá | B9: %
A10: Há
A11: Ath.
A12: Dags. | B12: Jafnar greiðslur | C12: Jafnar afborganir | D12: Eingreiðslulán | E12: Á ekki við
A13: 38017 | B13: 37.212913 | C13: 23.512621 | D13: 7.9126385 | E13: 31.361827
A14: 38046 | B14: 37.087225 | C14: 24.320289 | D14: 7.0898547 | E14: 31.502632
A15: 38077 | B15: 34.727786 | C15: 24.365973 | D15: 8.3955967 | E15: 32.510644
A16: 38107 | B16: 41.327674 | C16: 27.338276 | D16: 10.206302 | E16: 21.127748
A17: 38138 | B17: 44.627479 | C17: 23.559247 | D17: 13.711737 | E17: 18.101536
A18: 38168 | B18: 46.487561 | C18: 23.45769 | D18: 13.832511 | E18: 16.222238
A19: 38199 | B19: 47.738397 | C19: 24.879518 | D19: 12.729981 | E19: 14.652105
A20: 38230 | B20: 48.516297 | C20: 24.95094 | D20: 12.966858 | E20: 13.565905
A21: 38260 | B21: 49.201134 | C21: 24.712763 | D21: 12.410038 | E21: 13.676066
A22: 38291 | B22: 49.885971 | C22: 24.474585 | D22: 11.853217 | E22: 13.786227
A23: 38321 | B23: 50.570808 | C23: 24.236408 | D23: 11.296396 | E23: 13.896387
A24: 38352 | B24: 51.255645 | C24: 23.998231 | D24: 10.739576 | E24: 14.006548
... A69: 39721 | B69: 62.465382 | C69: 14.282393 | D69: 9.6221935 | E69: 13.630032

Sheet K8_M30
B1: Skýrsla rannsóknarnefndar Alþingis
B2: 8. kafli - Útlán íslensku bankanna
B3: Mynd 30
A4: Fs | B4: Útlán Landsbanka Íslands hf. til íslenskra fyrirtækja
A5: Ufs | B5: Flokkuð eftir afborgunarfyrirkomulagi. Hlutfall af heildarútlánum móðurfélags
A6: Alm.
A7: Nm
A8: H | B8: Heimild: Landsbanki Íslands hf.
A9: Vá | B9: %
A10: Há
A11: Ath.
A12: Dags. | B12: Jafnar greiðslur | C12: Jafnar afborganir | D12: Eingreiðslulán | E12: Á ekki við
A13: 38017 | B13: 5.6276654 | C13: 11.658154 | D13: 9.4114226 | E13: 73.302758
A14: 38046 | B14: 5.5195809 | C14: 11.560049 | D14: 9.3882002 | E14: 73.53217
A15: 38077 | B15: 5.823134 | C15: 11.092759 | D15: 9.6835924 | E15: 73.400515
A16: 38107 | B16: 16.394103 | C16: 36.299925 | D16: 19.772827 | E16: 27.533145
A17: 38138 | B17: 47.700668 | C17: 12.521032 | D17: 29.912975 | E17: 9.8653245
A18: 38168 | B18: 47.946674 | C18: 12.154248 | D18: 27.444293 | E18: 12.454786
A19: 38199 | B19: 48.427519 | C19: 11.491448 | D19: 29.942644 | E19: 10.13839
A20: 38230 | B20: 49.21625 | C20: 11.043341 | D20: 29.983464 | E20: 9.7569458
A21: 38260 | B21: 61.038808 | C21: 0 | D21: 38.922378 | E21: 0.038813811
A22: 38291 | B22: 45.379322 | C22: 11.253939 | D22: 29.037314 | E22: 14.329425
A23: 38321 | B23: 44.38806 | C23: 11.449048 | D23: 32.076696 | E23: 12.086196
A24: 38352 | B24: 45.471274 | C24: 11.391416 | D24: 31.673712 | E24: 11.463598
... A69: 39721 | B69: 39.24556 | C69: 6.5716388 | D69: 43.105053 | E69: 11.077748

Sheet K8_M31
B1: Skýrsla rannsóknarnefndar Alþingis
B2: 8. kafli - Útlán íslensku bankanna
B3: Mynd 31
A4: Fs | B4: Útlán Landsbanka Íslands hf. til íslenskra eignarhaldsfélaga
A5: Ufs | B5: Flokkuð eftir afborgunarfyrirkomulagi. Hlutfall af heildarútlánum móðurfélags
A6: Alm.
A7: Nm
A8: H | B8: Heimild: Landsbanki Íslands hf.
A9: Vá | B9: %
A10: Há
A11: Ath.
A12: Dags. | B12: Jafnar greiðslur | C12: Jafnar afborganir | D12: Eingreiðslulán | E12: Á ekki við
A13: 38017 | B13: 0.2332811 | C13: 16.245181 | D13: 15.163058 | E13: 68.358479
A14: 38046 | B14: 0.19851395 | C14: 15.357158 | D14: 16.075001 | E14: 68.369327
A15: 38077 | B15: 0.20899018 | C15: 14.784846 | D15: 15.493401 | E15: 69.512762
A16: 38107 | B16: 0.49455292 | C16: 39.253694 | D16: 35.936602 | E16: 24.31515
A17: 38138 | B17: 14.565999 | C17: 13.527219 | D17: 63.476325 | E17: 8.430457
A18: 38168 | B18: 17.433866 | C18: 13.113826 | D18: 61.342548 | E18: 8.1097609
A19: 38199 | B19: 23.000686 | C19: 8.069222 | D19: 60.49749 | E19: 8.4326021
A20: 38230 | B20: 21.983905 | C20: 4.1467743 | D20: 66.055065 | E20: 7.8142557
A21: 38260 | B21: 24.836569 | C21: 0 | D21: 75.129462 | E21: 0.033968725
A22: 38291 | B22: 22.433026 | C22: 1.525927 | D22: 67.49947 | E22: 8.5415764
A23: 38321 | B23: 20.801184 | C23: 1.3355057 | D23: 68.148575 | E23: 9.7147355
A24: 38352 | B24: 19.76167 | C24: 1.5157831 | D24: 70.317581 | E24: 8.4049661
... A69: 39721 | B69: 6.6902173 | C69: 1.1695447 | D69: 85.05133 | E69: 7.0889075

Sheet K8_M32
B1: Skýrsla rannsóknarnefndar Alþingis
B2: 8. kafli - Útlán íslensku bankanna
B3: Mynd 32
A4: Fs | B4: Útlán Landsbanka Íslands hf. til erlendra félaga með íslenska kennitölu
A5: Ufs | B5: Flokkuð eftir afborgunarfyrirkomulagi. Hlutfall af heildarútlánum móðurfélags
A6: Alm.
A7: Nm
A8: H | B8: Heimild: Landsbanki Íslands hf.
A9: Vá | B9: %
A10: Há
A11: Ath.
A12: Dags. | B12: Jafnar greiðslur | C12: Jafnar afborganir | D12: Eingreiðslulán | E12: Á ekki við
A13: 38017 | B13: 0 | C13: 0.10335445 | D13: 10.778669 | E13: 89.117977
A14: 38046 | B14: 0 | C14: 0.10783364 | D14: 11.395125 | E14: 88.497041
A15: 38077 | B15: 0 | C15: 0.10192276 | D15: 11.35659 | E15: 88.541487
A16: 38107 | B16: 0 | C16: 0.88202653 | D16: 94.896303 | E16: 4.2216705
A17: 38138 | B17: 48.558318 | C17: 0.10863441 | D17: 50.877691 | E17: 0.45535682
A18: 38168 | B18: 34.6769 | C18: 0.077806527 | D18: 60.804443 | E18: 4.4408504
A19: 38199 | B19: 35.007196 | C19: 0.080326766 | D19: 64.50935 | E19: 0.40312798
A20: 38230 | B20: 31.365471 | C20: 0.078866381 | D20: 68.138771 | E20: 0.41689123
A21: 38260 | B21: 43.319794 | C21: 0 | D21: 56.594868 | E21: 0.08533799
A22: 38291 | B22: 31.932927 | C22: 0.032775438 | D22: 66.002651 | E22: 2.0316468
A23: 38321 | B23: 32.183588 | C23: 0.034395662 | D23: 66.892515 | E23: 0.8895012
A24: 38352 | B24: 27.363213 | C24: 0.03388371 | D24: 71.76257 | E24: 0.84033366
... A69: 39721 | B69: 12.04502 | C69: 0 | D69: 60.470945 | E69: 27.484035

Sheet K8_M33
B1: Skýrsla rannsóknarnefndar Alþingis
B2: 8. kafli - Útlán íslensku bankanna
B3: Mynd 33
A4: Fs | B4: Útlán Landsbanka Íslands hf. til aðila án íslenskrar kennitölu
A5: Ufs | B5: Flokkuð eftir afborgunarfyrirkomulagi. Hlutfall af heildarútlánum móðurfélags
A6: Alm.
A7: Nm
A8: H | B8: Heimild: Landsbanki Íslands hf.
A9: Vá | B9: %
A10: Há
A11: Ath.
A12: Dags. | B12: Jafnar greiðslur | C12: Jafnar afborganir | D12: Eingreiðslulán | E12: Á ekki við
A13: 38046 | B13: 0 | C13: 0 | D13: 0 | E13: 100
A14: 38077 | B14: 0 | C14: 0 | D14: 0 | E14: 100
A15: 38291 | B15: 0 | C15: 0 | D15: 0 | E15: 100
A16: 38321 | B16: 0 | C16: 0 | D16: 0 | E16: 100
A17: 38352 | B17: 0 | C17: 0 | D17: 0 | E17: 100
A18: 38383 | B18: 0 | C18: 0 | D18: 0 | E18: 100
A19: 38411 | B19: 0 | C19: 0 | D19: 0 | E19: 100
A20: 38442 | B20: 0 | C20: 0 | D20: 0 | E20: 100
A21: 38472 | B21: 0 | C21: 0 | D21: 0 | E21: 100
A22: 38503 | B22: 0 | C22: 0 | D22: 0 | E22: 100
A23: 38533 | B23: 50.623081 | C23: 0 | D23: 43.349067 | E23: 6.0278526
A24: 38564 | B24: 48.673623 | C24: 0 | D24: 50.134217 | E24: 1.1921599
... A62: 39721 | B62: 38.842007 | C62: 0 | D62: 48.763331 | E62: 12.394661

Sheet K8_M34
B1: Skýrsla rannsóknarnefndar Alþingis
B2: 8. kafli - Útlán íslensku bankanna
B3: Mynd 34
A4: Fs | B4: Útlán Landsbanka Íslands hf.
A5: Ufs | B5: Flokkuð eftir afborgunarfyrirkomulagi
A6: Alm.
A7: Nm
A8: H | B8: Heimild: Landsbanki Íslands hf.
A9: Vá | B9: Ma. evra
A10: Há
A11: Ath.
A12: Dags. | B12: Jafnar greiðslur | C12: Jafnar afborganir | D12: Eingreiðslulán | E12: Á ekki við
A13: 38383 | B13: 2.3836875 | C13: 0.42910209 | D13: 2.0632039 | E13: 0.57820816
A14: 38411 | B14: 2.4273511 | C14: 0.44213833 | D14: 2.2674432 | E14: 0.68713395
A15: 38442 | B15: 2.5491881 | C15: 0.47798388 | D15: 2.4922409 | E15: 0.66075299
A16: 38472 | B16: 2.5481853 | C16: 0.48241137 | D16: 2.493199 | E16: 0.64302509
A17: 38503 | B17: 2.7524604 | C17: 0.50771003 | D17: 2.7342661 | E17: 0.81583345
A18: 38533 | B18: 3.5046473 | C18: 0.5437278 | D18: 3.5260275 | E18: 0.668588
A19: 38564 | B19: 3.5564186 | C19: 0.5714201 | D19: 3.6583221 | E19: 0.61246259
A20: 38595 | B20: 3.4861743 | C20: 0.62719698 | D20: 3.5470142 | E20: 0.61187879
A21: 38625 | B21: 3.6278059 | C21: 0.66349221 | D21: 3.849479 | E21: 0.67670968
A22: 38656 | B22: 3.8536889 | C22: 0.69204357 | D22: 4.2124063 | E22: 0.65361973
A23: 38686 | B23: 4.0402002 | C23: 0.8280453 | D23: 4.4012175 | E23: 0.84957919
A24: 38717 | B24: 3.9379191 | C24: 1.1444171 | D24: 4.1678461 | E24: 1.269644
... A57: 39721 | B57: 5.2370235 | C57: 0.51883153 | D57: 8.8396345 | E57: 1.6758684

Sheet K8_M35
B1: Skýrsla rannsóknarnefndar Alþingis
B2: 8. kafli - Útlán íslensku bankanna
B3: Mynd 35
A4: Fs | B4: Útlán Glitnis banka hf. - nálgun á dreifingu
A5: Ufs | B5: Flokkuð eftir afborgunarfyrirkomulagi (nálgað)
A6: Alm.
A7: Nm
A8: H | B8: Heimild: Glitnir banki hf., Landsbanki Íslands hf.
A9: Vá | B9: Ma. evra
A10: Há
A11: Ath.
A12: Dags. | B12: Jafnar greiðslur | C12: Jafnar afborganir | D12: Eingreiðslulán | E12: Á ekki við
A13: 38383 | B13: 2.1720459 | C13: 0.41223209 | D13: 1.4114588 | E13: 1.6415165
A14: 38411 | B14: 2.2395273 | C14: 0.43304035 | D14: 1.4567064 | E14: 1.7550938
A15: 38442 | B15: 2.3775906 | C15: 0.46932736 | D15: 1.6209103 | E15: 1.7821449
A16: 38472 | B16: 2.3000653 | C16: 0.45680214 | D16: 1.5654288 | E16: 2.1043728
A17: 38503 | B17: 2.4368096 | C17: 0.4672187 | D17: 1.6481835 | E17: 1.6892707
A18: 38533 | B18: 3.6197699 | C18: 0.52688843 | D18: 2.6405927 | E18: 0.60789395
A19: 38564 | B19: 3.5161767 | C19: 0.5613866 | D19: 2.7455712 | E19: 0.53661755
A20: 38595 | B20: 3.734566 | C20: 0.59394056 | D20: 2.9307584 | E20: 0.54148717
A21: 38625 | B21: 3.7941127 | C21: 0.61780609 | D21: 3.3177199 | E21: 0.59463861
A22: 38656 | B22: 3.8431645 | C22: 0.62681244 | D22: 3.3074169 | E22: 0.5613101
A23: 38686 | B23: 3.8580839 | C23: 0.72981444 | D23: 3.3999277 | E23: 0.66770799
A24: 38717 | B24: 3.7605932 | C24: 1.0164471 | D24: 3.2952269 | E24: 0.97388832
... A57: 39721 | B57: 4.5919801 | C57: 0.46153587 | D57: 7.1999008 | E57: 1.3745305

Sheet K8_M36
B1: Skýrsla rannsóknarnefndar Alþingis
B2: 8. kafli - Útlán íslensku bankanna
B3: Mynd 36
A4: Fs | B4: Útlán Kaupþings banka hf. - nálgun á dreifingu
A5: Ufs | B5: Flokkuð eftir afborgunarfyrirkomulagi (nálgað)
A6: Alm.
A7: Nm
A8: H | B8: Heimild: Kaupþing banki hf., Landsbanki Íslands hf.
A9: Vá | B9: Ma. evra
A10: Há
A11: Ath.
A12: Dags. | B12: Jafnar greiðslur | C12: Jafnar afborganir | D12: Eingreiðslulán | E12: Á ekki við
A13: 38383 | B13: 2.0651532 | C13: 0.35382972 | D13: 1.4200187 | E13: 0.73782454
A14: 38411 | B14: 2.1758557 | C14: 0.36383765 | D14: 1.8184218 | E14: 0.87403376
A15: 38442 | B15: 2.3799013 | C15: 0.40391866 | D15: 1.9365716 | E15: 0.82242373
A16: 38472 | B16: 2.3409829 | C16: 0.3977498 | D16: 1.9559397 | E16: 0.84515688
A17: 38503 | B17: 2.4803545 | C17: 0.41490726 | D17: 2.1924554 | E17: 0.87032003
A18: 38533 | B18: 2.9278959 | C18: 0.44417189 | D18: 2.5241793 | E18: 0.47698739
A19: 38564 | B19: 2.9577925 | C19: 0.48007781 | D19: 2.5995489 | E19: 0.46858839
A20: 38595 | B20: 3.2122448 | C20: 0.55403436 | D20: 2.7789935 | E20: 0.50844212
A21: 38625 | B21: 3.4527707 | C21: 0.61911021 | D21: 3.1234159 | E21: 0.61737163
A22: 38656 | B22: 3.3738428 | C22: 0.60859789 | D22: 3.2744206 | E22: 0.557051
A23: 38686 | B23: 3.2950506 | C23: 0.71984895 | D23: 3.1248442 | E23: 0.83793083
A24: 38717 | B24: 3.173997 | C24: 0.97740745 | D24: 2.9161238 | E24: 1.4643816
... A57: 39721 | B57: 4.1629278 | C57: 0.38658754 | D57: 8.5336305 | E57: 2.2300634

Sheet K8_M37
B1: Skýrsla rannsóknarnefndar Alþingis
B2: 8. kafli - Útlán íslensku bankanna
B3: Mynd 37
A4: Fs | B4: 90 daga vanskil
A5: Ufs | B5: Hlutfall af heildarlánum
A6: Alm.
A7: Nm
A8: H | B8: Heimild: Höfundur
A9: Vá | B9: %
A10: Há
A11: Ath.
A12: Dags. | B12: Greiðsla í vanskilum - banki 1 | C12: Heildarskuldir vanskilaaðila - banki 1 | D12: Greiðsla í vanskilum - banki 2 | E12: Heildarskuldir vanskilaaðila - banki 2
A13: 38017 | B13: 0.16813457 | C13: 1.3665504
A14: 38046 | B14: 0.22432437 | C14: 1.3087522
A15: 38077 | B15: 0.20289346 | C15: 1.1760596
A16: 38107 | B16: 0.22498435 | C16: 1.1760881
A17: 38138 | B17: 0.20892773 | C17: 1.3242907
A18: 38168 | B18: 0.10241164 | C18: 0.87778073
A19: 38199 | B19: 0.096240859 | C19: 0.89125333
A20: 38230 | B20: 0.099719974 | C20: 0.90634731 | D20: 1.5560896 | E20: 7.1109171
A21: 38260 | B21: 0.18772114 | C21: 1.6869718 | D21: 0.01857183 | E21: 2.0018689
A22: 38291 | B22: 0.081662708 | C22: 0.75800593 | D22: 1.1474674 | E22: 6.9421466
A23: 38321 | B23: 0.073449122 | C23: 0.88529796 | D23: 1.0157696 | E23: 5.5144282
A24: 38352 | B24: 0.06682618 | C24: 1.0241511 | D24: 0.72309523 | E24: 5.1149327
A25: 38383 | B25: 0.048361428 | C25: 0.62850212 | D25: 0.68974545 | E25: 5.1652593
A26: 38411 | B26: 0.06156862 | C26: 1.1160572 | D26: 0.65639567 | E26: 5.215586
A27: 38442 | B27: 0.059244344 | C27: 1.1012788 | D27: 0.51378277 | E27: 4.6110198
A28: 38472 | B28: 0.04390627 | C28: 0.65052887 | D28: 0.49065169 | E28: 4.0019154
A29: 38503 | B29: 0.05456052 | C29: 0.79937207 | D29: 0.46752062 | E29: 3.3928111
A30: 38533 | B30: 0.030465872 | C30: 0.57066478 | D30: 0.38632694 | E30: 3.100488
A31: 38564 | B31: 0.032844893 | C31: 0.60228398 | D31: 0.4408156 | E31: 4.0808196
... A69: 39721 | B69: 0.27059207 | C69: 1.56092 | D69: 0.73997919 | E69: 5.5108512

Sheet K8_M38
B1: Skýrsla rannsóknarnefndar Alþingis
B2: 8. kafli - Útlán íslensku bankanna
B3: Mynd 38
A4: Fs | B4: Heildarverðmæti helstu skráðra hlutabréfa í handveði hjá Glitni
A5: Ufs | B5: Veð tekin af Glitni banka hf.
A6: Alm.
A7: Nm
A8: H | B8: Heimild: Glitnir banki hf.
A9: Vá | B9: Ma. kr.
A10: Há
A11: Ath.
A12: Dagsetning | B12: GLB | C12: KAUP | D12: FL | E12: LAIS | F12: EXISTA | G12: A | H12: ICEAIR | I12: STRB | J12: BAKK | K12: TEYMI | L12: MARL | M12: OSSR | N12: HFEIM | O12: ATOR
A13: 39051 | B13: 17.16374 | C13: 29.276261 | D13: 34.138989 | E13: 26.793755 | F13: 17.824159 | G13: 6.5957588 | H13: 4.0830001 | I13: 9.8956309 | J13: 14.875071 | K13: 1.5611444 | L13: 0.78146578 | M13: 2.1456337 | N13: 1.1702829 | O13: 0.081224224
A14: 39082 | B14: 21.194375 | C14: 39.662716 | D14: 24.839771 | E14: 25.117628 | F14: 14.138257 | G14: 6.3110771 | H14: 4.5095373 | I14: 4.5469347 | J14: 15.421048 | K14: 2.9000062 | L14: 0.9577799 | M14: 1.4736171 | N14: 1.2244986 | O14: 0.087154882
A15: 39113 | B15: 23.780497 | C15: 64.992058 | D15: 47.629967 | E15: 32.286213 | F15: 21.247896 | G15: 6.2724373 | H15: 8.6970736 | I15: 15.515651 | J15: 16.584661 | K15: 3.9753058 | L15: 0.92009611 | M15: 1.9646207 | N15: 1.2310947 | O15: 0.084576335
A16: 39141 | B16: 29.404117 | C16: 67.729412 | D16: 48.892664 | E16: 30.890684 | F16: 24.076073 | G16: 6.0783974 | H16: 8.4491449 | I16: 12.688911 | J16: 15.319201 | K16: 3.2089055 | L16: 0.92303079 | M16: 1.5477488 | N16: 1.4052375 | O16: 0.089867153
A17: 39172 | B17: 29.059514 | C17: 70.412804 | D17: 48.292901 | E17: 31.455677 | F17: 22.549247 | G17: 7.7535355 | H17: 8.6768036 | I17: 15.574931 | J17: 16.684955 | K17: 3.4343228 | L17: 0.91359675 | M17: 1.7880101 | N17: 1.204452 | O17: 0.084022135
A18: 39202 | B18: 16.344317 | C18: 75.306068 | D18: 47.397215 | E18: 34.404602 | F18: 25.483892 | G18: 7.8114856 | H18: 8.690355 | I18: 15.186242 | J18: 17.277788 | K18: 3.2315384 | L18: 0.94314193 | M18: 1.7478971 | N18: 1.1869212 | O18: 0.12831364
A19: 39233 | B19: 18.700573 | C19: 76.376122 | D19: 48.060163 | E19: 36.088737 | F19: 27.409498 | G19: 8.4518687 | H19: 9.1379025 | I19: 12.768961 | J19: 18.360783 | K19: 3.5966394 | L19: 1.057395 | M19: 1.570054 | N19: 1.4414336 | O19: 0.14118373
A20: 39263 | B20: 17.534394 | C20: 55.445312 | D20: 48.056746 | E20: 36.781854 | F20: 37.284102 | G20: 8.8540008 | H20: 10.44349 | I20: 9.8223263 | J20: 17.987465 | K20: 3.5576382 | L20: 1.1954039 | M20: 1.7877126 | N20: 1.3598636 | O20: 0.14727301
A21: 39294 | B21: 16.806 | C21: 61.031559 | D21: 45.678486 | E21: 38.452434 | F21: 33.163371 | G21: 9.5050637 | H21: 11.097939 | I21: 9.585017 | J21: 17.624409 | K21: 3.9948601 | L21: 1.3628584 | M21: 1.836767 | N21: 1.359101 | O21: 0.14923061
A22: 39325 | B22: 10.826704 | C22: 27.633528 | D22: 44.707071 | E22: 35.938404 | F22: 29.398403 | G22: 9.5804059 | H22: 10.333044 | I22: 9.2388174 | J22: 0.47194451 | K22: 4.2789401 | L22: 1.3096177 | M22: 1.7344931 | N22: 1.3628244 | O22: 0.14793736
A23: 39355 | B23: 9.9756699 | C23: 27.060897 | D23: 41.692818 | E23: 35.864258 | F23: 28.696696 | G23: 17.036653 | H23: 11.855518 | I23: 8.9539982 | J23: 0.49765414 | K23: 4.7075111 | L23: 1.4159594 | M23: 1.601827 | N23: 1.3401523 | O23: 0.15657643
A24: 39386 | B24: 11.222909 | C24: 17.252918 | D24: 50.207452 | E24: 38.963805 | F24: 28.918325 | G24: 17.324562 | H24: 10.987181 | I24: 8.6274308 | J24: 1.032657 | K24: 4.8579863 | L24: 1.4389521 | M24: 1.6497026 | N24: 1.412202 | O24: 0.17289406
... A35: 39721 | B35: 8.3210257 | C35: 21.977516 | D35: 12.432736 | E35: 21.885412 | F35: 2.2768092 | G35: 14.941403 | H35: 8.627191 | I35: 0.31648499 | J35: 0.1799588 | K35: 0.75639413 | L35: 7.1925041 | M35: 1.4607631 | N35: 0.1406094 | O35: 0.064951792

Sheet K8_M39
B1: Skýrsla rannsóknarnefndar Alþingis
B2: 8. kafli - Útlán íslensku bankanna
B3: Mynd 39
A4: Fs | B4: Heildarverðmæti helstu skráðra hlutabréfa í handveði hjá Kaupþingi
A5: Ufs | B5: Veð tekin af Kaupþingi banka hf.
A6: Alm.
A7: Nm
A8: H | B8: Heimild: Kaupþing banki hf.
A9: Vá | B9: Ma. kr.
A10: Há
A11: Ath.
A12: Dagsetning | B12: KAUP | C12: KAUP SS | D12: EXISTA | E12: BAKK | F12: LAIS | G12: GLB | H12: FL | I12: STRB | J12: A | K12: MARL | L12: OSSR | M12: HFEIM | N12: TEYMI | O12: ATOR | P12: ICEAIR
A13: 39051 | B13: 228.10263 | C13: 6.4522786 | D13: 114.75245 | E13: 56.624443 | F13: 65.686801 | G13: 15.382023 | H13: 20.243289 | I13: 6.3498502 | J13: 6.4214564 | K13: 0.75329015 | L13: 2.0948437 | M13: 0.010628877 | N13: 0.0021913067 | O13: 0.01942605 | P13: 0
A14: 39082 | B14: 237.22771 | C14: 8.1224222 | D14: 131.73979 | E14: 59.240166 | F14: 52.679771 | G14: 13.517997 | H14: 24.954989 | I14: 3.060053 | J14: 6.2451098 | K14: 0.7419613 | L14: 2.0934312 | M14: 0.01051791 | N14: 0.0028092345 | O14: 0.12562446 | P14: 0
A15: 39113 | B15: 263.24897 | C15: 11.585299 | D15: 149.79894 | E15: 63.216253 | F15: 57.424698 | G15: 14.727316 | H15: 31.656753 | I15: 0.40523305 | J15: 5.8514216 | K15: 0.71112654 | L15: 2.0563793 | M15: 0.010840377 | N15: 0.003146758 | O15: 0.10898456 | P15: 0
A16: 39141 | B16: 276.48428 | C16: 11.997079 | D16: 174.45678 | E16: 57.452311 | F16: 60.915558 | G16: 17.032329 | H16: 32.894631 | I16: 0.36960728 | J16: 5.6883098 | K16: 0.71305371 | L16: 2.425008 | M16: 0.001664674 | N16: 0.0025392156 | O16: 0.11953238 | P16: 0
A17: 39172 | B17: 283.64115 | C17: 12.500511 | D17: 171.88832 | E17: 60.739442 | F17: 60.741593 | G17: 23.63651 | H17: 26.91131 | I17: 0.40633902 | J17: 5.0847737 | K17: 0.72351172 | L17: 2.5451955 | M17: 0.001499987 | N17: 0.0025703716 | O17: 0.11175792 | P17: 0
A18: 39202 | B18: 298.00104 | C18: 13.296251 | D18: 194.5028 | E18: 59.518231 | F18: 65.664307 | G18: 74.546343 | H18: 25.054423 | I18: 0.4451308 | J18: 5.5831833 | K18: 0.72489702 | L18: 2.4734997 | M18: 2.3129099 | N18: 0.0024145916 | O18: 0.0186676 | P18: 0.0014956812
A19: 39233 | B19: 308.13375 | C19: 13.667762 | D19: 212.52378 | E19: 62.318233 | F19: 51.9397 | G19: 78.826668 | H19: 25.302166 | I19: 10.171171 | J19: 5.9826077 | K19: 0.81642921 | L19: 2.221552 | M19: 2.9380921 | N19: 0.0026690324 | O19: 0.021547744 | P19: 0.0016524918
A20: 39263 | B20: 250.60991 | C20: 12.539619 | D20: 217.12439 | E20: 58.948197 | F20: 49.711975 | G20: 43.634917 | H20: 25.865129 | I20: 10.760718 | J20: 6.284057 | K20: 0.81489413 | L20: 2.1127625 | M20: 2.8100102 | N20: 0.0026482617 | O20: 0.019013345 | P20: 7.812e-05
A21: 39294 | B21: 274.219 | C21: 13.557012 | D21: 239.94911 | E21: 56.153633 | F21: 51.472586 | G21: 46.051384 | H21: 24.887055 | I21: 10.513434 | J21: 2.3506095 | K21: 2.4158642 | L21: 2.3628167 | M21: 2.8588193 | N21: 0.0029805926 | O21: 0.02617492 | P21: 8.16075e-05
A22: 39325 | B22: 244.97329 | C22: 13.591993 | D22: 232.2361 | E22: 55.572188 | F22: 54.101134 | G22: 43.117848 | H22: 24.329847 | I22: 10.239578 | J22: 1.5484233 | K22: 2.330113 | L22: 2.2221603 | M22: 2.824692 | N22: 0.021704992 | O22: 0.027850983 | P22: 0.10887589
A23: 39355 | B23: 230.54514 | C23: 12.83586 | D23: 222.72526 | E23: 55.089753 | F23: 52.71322 | G23: 43.113626 | H23: 22.698132 | I23: 9.8462861 | J23: 0.490468 | K23: 2.5532149 | L23: 2.1000483 | M23: 2.6882291 | N23: 0.021704992 | O23: 0.0176623 | P23: 7.5888e-05
A24: 39386 | B24: 246.94566 | C24: 12.917407 | D24: 223.8144 | E24: 41.635653 | F24: 57.183678 | G24: 42.362403 | H24: 24.20264 | I24: 9.3889088 | J24: 0.504526 | K24: 2.5993111 | L24: 2.4214863 | M24: 2.840393 | N24: 0.022410845 | O24: 0.0126084 | P24: 7.0308e-05
... A35: 39721 | B35: 205.6265 | C35: 8.3311539 | D35: 51.50577 | E35: 19.092288 | F35: 12.240197 | G35: 14.431111 | H35: 8.1707576 | I35: 3.9324023 | J35: 0.60142396 | K35: 4.3668663 | L35: 2.0509535 | M35: 0.000167736 | N35: 0.43244829 | O35: 0.0085804102 | P35: 5.23125e-05

Sheet K8_M40
B1: Skýrsla rannsóknarnefndar Alþingis
B2: 8. kafli - Útlán íslensku bankanna
B3: Mynd 40
A4: Fs | B4: Heildarverðmæti helstu skráðra hlutabréfa í handveði hjá Landsbankanum
A5: Ufs | B5: Veð tekin af Landsbanka Íslands hf.
A6: Alm.
A7: Nm
A8: H | B8: Heimild: Landsbanki Íslands hf.
A9: Vá | B9: Ma. kr.
A10: Há
A11: Ath.
A12: Dagsetning | B12: LAIS | C12: FL | D12: KAUP | E12: GLB | F12: STRB | G12: ATOR | H12: BAKK | I12: HFEIM | J12: MARL | K12: AVION | L12: ICEAIR | M12: EXISTA | N12: OSSR | O12: EIMS | P12: DB | Q12: A | R12: SIFI | S12: TEYMI
A13: 38717 | B13: 10.60623 | C13: 14.779172 | D13: 16.884478 | E13: 0 | F13: 14.154538 | G13: 6.9268277 | H13: 0.12725 | I13: 0 | J13: 2.624 | K13: 0 | L13: 0 | M13: 0 | N13: 0.00342 | O13: 23.5 | P13: 6.546185 | Q13: 0 | R13: 7.1950812 | S13: 0
A14: 38748 | B14: 11.486589 | C14: 17.100508 | D14: 20.14368 | E14: 0 | F14: 17.448362 | G14: 6.7644802 | H14: 0.1375 | I14: 0 | J14: 2.792 | K14: 0 | L14: 0 | M14: 0 | N14: 0.00324 | O14: 23.5 | P14: 6.546185 | Q14: 0 | R14: 7.1950812 | S14: 0
A15: 38776 | B15: 12.115417 | C15: 20.737268 | D15: 21.388514 | E15: 0 | F15: 17.35934 | G15: 6.6021327 | H15: 0.135 | I15: 0 | J15: 2.752 | K15: 0 | L15: 0 | M15: 0 | N15: 0.003465 | O15: 23.5 | P15: 6.546185 | Q15: 0 | R15: 7.1950812 | S15: 0
A16: 38807 | B16: 11.267169 | C16: 17.192007 | D16: 16.356351 | E16: 19.878787 | F16: 34.172263 | G16: 7.2251479 | H16: 10.251537 | I16: 0 | J16: 3.1102948 | K16: 25.658687 | L16: 0 | M16: 0 | N16: 1.8817806 | O16: 0 | P16: 6.4633726 | Q16: 7.2483781 | R16: 0 | S16: 0
A17: 38837 | B17: 10.117458 | C17: 15.440969 | D17: 15.273946 | E17: 18.77441 | F17: 33.382153 | G17: 7.2251479 | H17: 9.7928104 | I17: 0 | J17: 3.0723644 | K17: 25.658687 | L17: 0 | M17: 0 | N17: 1.8003183 | O17: 0 | P17: 6.4633726 | Q17: 6.9285967 | R17: 0 | S17: 0
A18: 38868 | B18: 10.071469 | C18: 15.520562 | D18: 15.594658 | E18: 19.878787 | F18: 33.974735 | G18: 6.9241001 | H18: 9.8526443 | I18: 0 | J18: 2.9459296 | K18: 25.658687 | L18: 0 | M18: 0 | N18: 1.792172 | O18: 0 | P18: 6.4633726 | Q18: 6.964128 | R18: 0 | S18: 0
A19: 38898 | B19: 11.10346 | C19: 42.630351 | D19: 23.534909 | E19: 19.234856 | F19: 34.538901 | G19: 7.196616 | H19: 8.9442519 | I19: 0 | J19: 2.9968269 | K19: 0.4797248 | L19: 0 | M19: 0 | N19: 1.794182 | O19: 0 | P19: 5.2386647 | Q19: 0.36140748 | R19: 0 | S19: 0
A20: 38929 | B20: 11.378298 | C20: 38.641546 | D20: 22.32636 | E20: 18.046185 | F20: 31.183694 | G20: 7.0225043 | H20: 9.4223411 | I20: 0 | J20: 3.1581292 | K20: 0.4797248 | L20: 0 | M20: 0 | N20: 1.8024502 | O20: 0 | P20: 5.2386647 | Q20: 0.37044267 | R20: 0 | S20: 0
A21: 38960 | B21: 13.631971 | C21: 46.120555 | D21: 26.174635 | E21: 21.396076 | F21: 32.367884 | G21: 7.2546532 | H21: 10.796848 | I21: 0 | J21: 3.2684939 | K21: 0.4797248 | L21: 0 | M21: 0 | N21: 2.0752981 | O21: 0 | P21: 5.2386647 | Q21: 0.42194324 | R21: 0 | S21: 0
A22: 38990 | B22: 11.153696 | C22: 58.699434 | D22: 20.356181 | E22: 38.176751 | F22: 26.858224 | G22: 7.8381303 | H22: 11.459398 | I22: 0 | J22: 3.2731269 | K22: 19.360944 | L22: 0 | M22: 3.609694 | N22: 2.0608862 | O22: 0 | P22: 2.8030909 | Q22: 0.46260158 | R22: 0 | S22: 0
A23: 39021 | B23: 10.692453 | C23: 58.184527 | D23: 20.020903 | E23: 44.19476 | F23: 25.476943 | G23: 7.5487224 | H23: 11.93358 | I23: 0 | J23: 3.3800919 | K23: 19.360944 | L23: 0 | M23: 3.4385447 | N23: 1.9872832 | O23: 0 | P23: 2.8030909 | Q23: 0.44814528 | R23: 0 | S23: 0
A24: 39051 | B24: 11.111765 | C24: 59.471795 | D24: 18.847429 | E24: 42.12607 | F24: 26.551272 | G24: 7.5969571 | H24: 11.913822 | I24: 0 | J24: 3.3373059 | K24: 19.360944 | L24: 0 | M24: 3.3296316 | N24: 1.8482551 | O24: 0 | P24: 2.8030909 | Q24: 0.46079454 | R24: 0 | S24: 0
... A46: 39721 | B46: 41.134676 | C46: 17.269726 | D46: 30.009721 | E46: 3.6956499 | F46: 8.9582339 | G46: 11.589086 | H46: 0.020105219 | I46: 0.001175816 | J46: 7.5877614 | K46: 0 | L46: 4.4690316 | M46: 1.3100536 | N46: 4.8554784 | O46: 0 | P46: 0 | Q46: 0.00011791507 | R46: 0 | S46: 0.15396519

Sheet K8_M41
B1: Skýrsla rannsóknarnefndar Alþingis
B2: 8. kafli - Útlán íslensku bankanna
B3: Mynd 41
A4: Fs | B4: Heildarverðmæti helstu skráðra hlutabréfa í handveði hjá Straumi
A5: Ufs | B5: Veð tekin af Straumi-Burðarási hf.
A6: Alm.
A7: Nm
A8: H | B8: Heimild: Straumur-Burðarás hf.
A9: Vá | B9: Ma. kr.
A10: Há
A11: Ath.
A12: Dags. | B12: FL | C12: EXISTA | D12: GLB | E12: KAUP | F12: LAIS | G12: STRB | H12: TEYMI | I12: HFEIM | J12: OSSR | K12: MARL
A13: 38748 | B13: 0 | C13: 0 | D13: 24.932416 | E13: 3.4717877 | F13: 0 | G13: 0.294 | H13: 0 | I13: 0 | J13: 0 | K13: 0
A14: 38776 | B14: 0 | C14: 0 | D14: 26.86018 | E14: 3.6863363 | F14: 0 | G14: 0.0975 | H14: 0 | I14: 0 | J14: 0 | K14: 0
A15: 38807 | B15: 0 | C15: 0 | D15: 25.311169 | E15: 3.1831222 | F15: 0 | G15: 0.0865 | H15: 0 | I15: 0 | J15: 0 | K15: 0
A16: 38837 | B16: 0 | C16: 0 | D16: 22.544993 | E16: 2.286 | F16: 0 | G16: 0 | H16: 0 | I16: 0 | J16: 0 | K16: 0
A17: 38868 | B17: 0 | C17: 0 | D17: 23.871169 | E17: 2.44292 | F17: 0 | G17: 0.1376 | H17: 0 | I17: 0 | J17: 0 | K17: 0
A18: 38898 | B18: 0 | C18: 0 | D18: 27.477434 | E18: 2.415434 | F18: 0 | G18: 0.27125 | H18: 0 | I18: 0 | J18: 0 | K18: 0
A19: 38929 | B19: 0 | C19: 0 | D19: 25.77939 | E19: 2.2913982 | F19: 0 | G19: 0 | H19: 0 | I19: 0 | J19: 0 | K19: 0
A20: 38960 | B20: 0.888 | C20: 0 | D20: 32.782386 | E20: 0 | F20: 0 | G20: 5.1496 | H20: 0 | I20: 0 | J20: 0 | K20: 0
A21: 38990 | B21: 1.0944 | C21: 0 | D21: 33.610224 | E21: 0 | F21: 0 | G21: 4.445 | H21: 0 | I21: 0 | J21: 0 | K21: 0
A22: 39021 | B22: 1.0848 | C22: 0 | D22: 34.030622 | E22: 0 | F22: 15.818897 | G22: 4.2164 | H22: 0 | I22: 0 | J22: 0 | K22: 0
A23: 39051 | B23: 1.1088 | C23: 0 | D23: 32.293905 | E23: 0 | F23: 16.783746 | G23: 4.3942 | H23: 0 | I23: 0 | J23: 0 | K23: 0
A24: 39082 | B24: 1.224 | C24: 0 | D24: 36.154428 | E24: 0 | F24: 16.783746 | G24: 0 | H24: 2.617796 | I24: 0 | J24: 0 | K24: 0
... A45: 39721 | B45: 0 | C45: 1.6980863 | D45: 0.7917364 | E45: 0 | F45: 10.411118 | G45: 1.7825729 | H45: 0.67743336 | I45: 0.063321848 | J45: 0 | K45: 0

Sheet K8_M42
B1: Skýrsla rannsóknarnefndar Alþingis
B2: 8. kafli - Útlán íslensku bankanna
B3: Mynd 42
A4: Fs | B4: Heildarverðmæti annarra hlutabréfa í handveði hjá Glitni
A5: Ufs | B5: Veð tekin af Glitni banka hf.
A6: Alm.
A7: Nm
A8: H | B8: Heimild: Glitnir banki hf.
A9: Vá | B9: Ma. kr.
A10: Há
A11: Ath.
A12: Dagsetning | B12: Keops A/S | C12: Landic Property | D12: Sjóvá-Almennar tryggingar | E12: Mosaic Fashions | F12: Actavis Group | G12: Tryggingamiðstöðin | H12: Sparisjóður Norðlendinga | I12: BYR Sparisjóður | J12: Booker Group Plc | K12: Copeinca ASA | L12: BNT | M12: Geysir Green Energy | N12: N1 | O12: Gnúpur fjárfestingafélag | P12: Camposol Holding PLC | Q12: Þyrping | R12: Baugur Group | S12: Samherji | T12: Hver 01 Holding
A13: 39051 | B13: 1.4012806 | D13: 13.02 | E13: 8.4959607 | F13: 23.320632 | G13: 0.060763287 | L13: 0.8 | R13: 0.54 | S13: 1.089
A14: 39082 | B14: 1.16127 | D14: 13.02 | E14: 6.3898453 | F14: 21.597285 | G14: 4.9597378 | L14: 0.8 | R14: 0.54 | S14: 1.089
A15: 39113 | B15: 1.0971972 | C15: 0.001282006 | D15: 13.02 | E15: 7.2558902 | F15: 23.95166 | G15: 6.1247355 | L15: 0.8 | R15: 0.54 | S15: 1.089
A16: 39141 | B16: 1.0209141 | C16: 0.001282006 | D16: 13.02 | E16: 7.6364519 | F16: 23.250128 | G16: 6.5515176 | L16: 0.8 | R16: 0.54 | S16: 1.089
A17: 39172 | B17: 1.1187558 | C17: 0.001282006 | D17: 13.02 | E17: 9.7675895 | F17: 26.165108 | G17: 6.7670545 | L17: 0.8 | M17: 0.175 | R17: 0.54 | S17: 1.089
A18: 39202 | B18: 1.05165 | C18: 0.001282006 | D18: 13.02 | E18: 10.235944 | F18: 27.985059 | G18: 22.170476 | L18: 0.8 | M18: 0.175 | R18: 0.54 | S18: 1.089
A19: 39233 | B19: 1.05894 | C19: 0.001282006 | D19: 13.02 | E19: 3.5530945 | F19: 30.751706 | G19: 23.194382 | M19: 0.175 | R19: 0.54 | S19: 1.089
A20: 39263 | B20: 1.2004524 | C20: 0.001282006 | D20: 13.02 | E20: 3.5054431 | F20: 33.122498 | G20: 23.274807 | K20: 7.3528e-05 | M20: 0.175 | R20: 0.54 | S20: 1.089
A21: 39294 | B21: 1.19448 | C21: 0.001282006 | D21: 13.02 | E21: 10.686917 | F21: 0.0020331132 | G21: 23.600879 | M21: 0.875 | R21: 0.54 | S21: 1.089
A22: 39325 | B22: 7.59781 | C22: 0.63454867 | D22: 13.02 | E22: 7.2966442 | F22: 0.001649437 | G22: 23.601874 | L22: 1.75 | M22: 0.87535 | R22: 0.54 | S22: 1.089
A23: 39355 | B23: 48.849187 | C23: 15.455198 | D23: 13.02 | G23: 19.335222 | J23: 14.490415 | L23: 3.54 | M23: 1.137955 | R23: 0.54 | S23: 1.089
A24: 39386 | B24: 48.154609 | C24: 15.455198 | D24: 13.02 | G24: 19.256757 | J24: 15.468964 | K24: 10.343294 | L24: 4.0153939 | M24: 1.5925 | R24: 0.54 | S24: 1.089
A25: 39416 | B25: 50.05118 | C25: 15.455198 | D25: 13.02 | G25: 19.256757 | J25: 14.392105 | K25: 7.750455 | L25: 4.0153939 | M25: 11.35225 | R25: 0.54 | S25: 1.089
A26: 39447 | B26: 50.716644 | C26: 10.662997 | D26: 13.02 | G26: 5.6823e-05 | H26: 11.317438 | I26: 24.851879 | J26: 12.450069 | K26: 9.4601182 | L26: 5.0043878 | M26: 11.35225 | O26: 3.4951476 | Q26: 0.578655 | R26: 0.54 | S26: 1.089
A27: 39478 | B27: 53.781936 | C27: 35.453207 | D27: 13.02 | G27: 5.6823e-05 | H27: 11.317438 | I27: 24.828696 | J27: 14.34086 | K27: 7.9785252 | L27: 5.0043878 | M27: 12.65225 | N27: 6.3 | O27: 7.4407387 | P27: 3.8910659 | Q27: 2.893275 | R27: 2.4 | S27: 1.089
A28: 39507 | B28: 54.809245 | C28: 38.451807 | D28: 13.02 | E28: 16.029648 | G28: 5.6823e-05 | H28: 11.317438 | I28: 17.712169 | J28: 14.640508 | K28: 8.4382802 | L28: 4.7643878 | M28: 8.1999515 | N28: 6.3 | O28: 7.4407387 | P28: 4.2879003 | Q28: 2.893275 | R28: 2.4 | S28: 1.089
A29: 39538 | B29: 65.36932 | C29: 38.451807 | D29: 13.02 | E29: 23.225976 | G29: 5.6823e-05 | H29: 11.317438 | I29: 20.225432 | J29: 16.662955 | K29: 8.2637404 | L29: 4.7643878 | M29: 3.115 | N29: 6.3 | O29: 3.9455911 | P29: 4.8442217 | Q29: 2.893275 | R29: 2.4 | S29: 1.089
A30: 39568 | B30: 66.665949 | C30: 38.451807 | D30: 13.02 | E30: 23.225976 | G30: 5.6823e-05 | H30: 11.317438 | I30: 19.817619 | J30: 16.049111 | K30: 8.8572085 | L30: 5.1101078 | M30: 3.35195 | N30: 6.3 | O30: 3.9455911 | P30: 4.8295361 | Q30: 2.893275 | R30: 2.4 | S30: 1.089
A31: 39599 | B31: 66.657333 | C31: 38.451807 | D31: 13.02 | E31: 23.225976 | G31: 5.6823e-05 | H31: 11.273871 | I31: 12.00806 | J31: 17.656682 | K31: 10.591142 | L31: 6.6101078 | M31: 3.35195 | N31: 6.3 | O31: 3.9455911 | P31: 4.8645812 | Q31: 2.893275 | R31: 2.4 | S31: 1.089
A32: 39629 | B32: 72.184825 | C32: 38.451807 | D32: 13.02 | E32: 23.225976 | G32: 5.6823e-05 | H32: 11.267647 | I32: 11.822306 | K32: 13.0739 | L32: 6.5621078 | M32: 3.35195 | N32: 6.3 | O32: 3.9455911 | P32: 5.208356 | Q32: 5.73 | R32: 2.4 | S32: 1.089
A33: 39660 | B33: 71.305941 | C33: 38.451807 | D33: 13.02 | E33: 23.225976 | G33: 5.6823e-05 | H33: 10.172259 | I33: 13.244389 | K33: 11.447256 | L33: 6.5621078 | M33: 4.1350885 | N33: 6.3 | O33: 6.0706052 | P33: 5.1369309 | Q33: 5.73 | R33: 2.4 | S33: 1.089
A34: 39691 | B34: 70.323659 | C34: 38.451807 | D34: 13.02 | E34: 23.225976 | G34: 5.6823e-05 | H34: 10.172259 | I34: 14.703564 | K34: 10.354788 | L34: 6.5621078 | M34: 4.1350885 | N34: 6.3 | O34: 6.0706052 | P34: 3.6083095 | Q34: 5.73 | R34: 2.4 | S34: 1.089 | T34: 8.5
A35: 39721 | B35: 83.761108 | C35: 38.451807 | D35: 13.02 | E35: 23.225976 | G35: 5.6823e-05 | H35: 10.172259 | I35: 14.566591 | K35: 9.5524474 | L35: 7.3944278 | M35: 4.1350885 | N35: 5.9995 | O35: 6.0706052 | P35: 2.7940441 | Q35: 5.73 | R35: 2.4 | S35: 1.089 | T35: 8.5

Sheet K8_M43
B1: Skýrsla rannsóknarnefndar Alþingis
B2: 8. kafli - Útlán íslensku bankanna
B3: Mynd 43
A4: Fs | B4: Heildarverðmæti annarra hlutabréfa í handveði hjá Kaupþingi
A5: Ufs | B5: Veð tekin af Kaupþing banka hf.
A6: Alm.
A7: Nm
A8: H | B8: Heimild: Kaupþing banki hf.
A9: Vá | B9: Ma. kr.
A10: Há
A11: Ath.
A12: Dagsetning | B12: Síminn | C12: Actavis Group | D12: Mosaic Fashions | E12: Skipti | F12: Baugur Group | G12: Lagerinn Linen Investments | H12: HB Grandi | I12: Hagar | J12: Landic Property | K12: Samskip | L12: Síldarvinnslan | M12: Ker
A13: 39051 | B13: 67.858912 | C13: 33.394902 | D13: 13.062497 | F13: 8.6450764 | H13: 0.13226251 | I13: 5.1201331 | J13: 2.2467869 | K13: 0.000172838 | L13: 3.0742782 | M13: 1.4977738
A14: 39082 | B14: 66.820259 | C14: 32.361028 | D14: 11.831768 | F14: 8.6427756 | H14: 0.13226251 | I14: 5.1201331 | J14: 2.2467869 | K14: 0.000172838 | L14: 3.0742782 | M14: 1.4977738
A15: 39113 | B15: 66.820739 | C15: 35.565012 | D15: 11.069477 | F15: 8.6427756 | H15: 0.12591391 | I15: 5.1673668 | J15: 2.2467869 | K15: 0.000172838 | L15: 3.0742782 | M15: 1.4977738
A16: 39141 | B16: 66.822529 | C16: 34.081914 | D16: 11.712982 | F16: 8.6427756 | H16: 0.12697201 | I16: 5.1673668 | J16: 2.2467869 | K16: 6.5481932 | L16: 3.0742782 | M16: 1.4977738
A17: 39172 | B17: 66.822529 | C17: 38.009414 | D17: 12.151547 | F17: 8.6458433 | H17: 0.13226251 | I17: 3.9515157 | J17: 2.2467869 | K17: 6.5481932 | L17: 3.0742782 | M17: 1.4977738
A18: 39202 | B18: 66.824123 | C18: 38.827558 | D18: 12.295848 | F18: 8.6296433 | H18: 6.8610679 | I18: 3.9515157 | J18: 2.2467869 | K18: 6.5480203 | L18: 3.0742782 | M18: 1.4977738
A19: 39233 | B19: 66.824123 | C19: 41.100405 | D19: 12.636348 | F19: 8.6458433 | H19: 6.8610679 | I19: 3.9515157 | J19: 2.2467869 | K19: 6.5480203 | L19: 3.0742782 | M19: 1.4977738
A20: 39263 | B20: 66.79872 | C20: 43.978851 | D20: 12.470087 | F20: 8.6342504 | H20: 6.8610679 | I20: 3.9515157 | J20: 2.2467869 | K20: 6.5480203 | L20: 3.0742782 | M20: 1.4977738
A21: 39294 | B21: 66.824603 | C21: 0.016777968 | D21: 11.588687 | F21: 8.6458433 | H21: 6.2893122 | I21: 3.9515157 | J21: 2.2467869 | L21: 3.0742782 | M21: 1.4977738
A22: 39325 | B22: 0.010521264 | C22: 0.016378 | D22: 11.375 | E22: 30.047094 | F22: 8.6458433 | H22: 6.1749611 | I22: 3.9515157 | J22: 2.2467869 | L22: 3.0742782 | M22: 1.4977738
A23: 39355 | B23: 0.010521264 | C23: 0.016378 | D23: 11.375 | E23: 30.047094 | F23: 8.6290835 | H23: 6.5751901 | I23: 3.9515157 | J23: 15.346905 | L23: 3.0742782 | M23: 1.4977738
A24: 39386 | B24: 0.010362943 | C24: 0.016378 | D24: 11.375 | E24: 30.046863 | F24: 8.6290835 | H24: 6.3133802 | I24: 3.9515157 | J24: 15.346905 | K24: 3.8976311 | L24: 3.0742782 | M24: 1.4977738
A25: 39416 | B25: 0.010358966 | C25: 0.016378 | D25: 19.6 | E25: 30.045051 | F25: 8.6290835 | H25: 6.2006412 | I25: 3.9515157 | J25: 15.346905 | K25: 3.8976311 | L25: 3.0743973 | M25: 1.4977738
A26: 39447 | B26: 0.010358966 | C26: 0.016378 | D26: 19.6 | E26: 30.045051 | F26: 8.6241574 | G26: 16.5975 | H26: 5.6376936 | I26: 3.9515157 | J26: 15.346905 | K26: 3.8976311 | L26: 3.0743973 | M26: 1.4977738
A27: 39478 | B27: 0.010358966 | C27: 0.016378 | D27: 19.6 | E27: 30.045243 | F27: 8.9658314 | G27: 16.5975 | H27: 5.5805771 | I27: 7.1648172 | J27: 1.292201 | K27: 3.8976311 | L27: 3.0743973 | M27: 1.4977738
A28: 39507 | B28: 0.010358966 | C28: 0.016378 | D28: 11.375 | E28: 30.045243 | F28: 8.9658314 | G28: 16.5975 | H28: 5.0732519 | I28: 7.1648172 | J28: 1.292201 | K28: 3.8976311 | L28: 3.0743973 | M28: 1.4977738
A29: 39538 | B29: 0.01029135 | C29: 0.016378 | D29: 11.375 | E29: 0.0011281662 | F29: 8.9658314 | G29: 16.5975 | H29: 5.6369466 | I29: 7.1648172 | J29: 1.292201 | K29: 3.8976311 | L29: 3.0743973 | M29: 1.4977738
A30: 39568 | B30: 0.01029135 | C30: 0.016378 | D30: 11.375 | E30: 0.018511831 | F30: 8.9655757 | G30: 16.5975 | H30: 5.6369466 | I30: 7.1648172 | J30: 1.292201 | K30: 3.8976311 | L30: 3.0743973 | M30: 1.4977738
A31: 39599 | B31: 0.01029135 | C31: 0.016378 | D31: 11.375 | E31: 0.017836672 | F31: 8.9655757 | G31: 16.5975 | H31: 5.6369466 | I31: 7.1648172 | J31: 1.292201 | K31: 3.8976311 | L31: 3.0743973 | M31: 1.4977738
A32: 39629 | B32: 0.02777495 | C32: 0.016378 | D32: 11.375 | F32: 8.9655757 | G32: 16.5975 | H32: 5.6369466 | I32: 7.1648172 | J32: 1.2966533 | K32: 3.8976311 | L32: 3.0743973 | M32: 1.4977738
A33: 39660 | B33: 0.02777495 | C33: 0.016378 | D33: 11.375 | F33: 5.8290039 | G33: 16.5975 | H33: 5.6369466 | I33: 0.40528366 | J33: 1.2966533 | K33: 3.8976311 | L33: 3.0743973 | M33: 1.4977738
A34: 39691 | B34: 0.02777495 | C34: 0.016378 | D34: 11.375 | F34: 5.8290039 | G34: 16.5975 | H34: 5.6369466 | I34: 0.40528366 | J34: 1.2966533 | K34: 3.8976311 | L34: 3.0745392 | M34: 1.4977738
A35: 39721 | B35: 25.627728 | C35: 0.016378 | D35: 11.375 | F35: 5.8290039 | G35: 16.5975 | H35: 2.8184733 | I35: 0.40528366 | J35: 1.2966533 | K35: 3.8976311 | L35: 3.0745392 | M35: 1.4977738

Sheet K8_M44
B1: Skýrsla rannsóknarnefndar Alþingis
B2: 8. kafli - Útlán íslensku bankanna
B3: Mynd 44
A4: Fs | B4: Heildarverðmæti annarra hlutabréfa í handveði hjá Landsbankanum
A5: Ufs | B5: Veð tekin af Landsbanka Íslands hf.
A6: Alm.
A7: Nm
A8: H | B8: Heimild: Landsbanki Íslands hf.
A9: Vá | B9: Ma. kr.
A10: Há
A11: Ath.
A12: Dagsetning | B12: Tryggingamiðstöðin | C12: Stork NV | D12: Olíuverzlun Íslands | E12: Ker | F12: Húsasmiðjan | G12: HB-Grandi | H12: Icelandic Group | I12: Baugur Group | J12: Actavis Group | K12: Skeljungur | L12: Ferskur Holding B.V. | M12: Fjárfestingarfélagið Grettir | N12: Síldarvinnslan | O12: Luxco PEC Class I | P12: Samherji | Q12: AB Capital | R12: Pliva d.d. | S12: Ker | T12: BYR Sparisjóður | U12: Landic Property
A13: 38717 | B13: 2.6695389 | D13: 6.633 | E13: 11.607856 | F13: 7.6667053 | H13: 8.971513 | I13: 3.2225939 | J13: 1.8868708 | K13: 11.800809 | M13: 1.3791804 | N13: 2.7115617
A14: 38748 | B14: 2.7684107 | D14: 6.633 | E14: 11.607856 | F14: 7.6667053 | H14: 8.7846064 | I14: 3.2225939 | J14: 2.0691038 | K14: 11.800809 | M14: 1.3791804 | N14: 2.7115617
A15: 38776 | B15: 4.1526161 | D15: 6.633 | E15: 11.607856 | F15: 7.6667053 | H15: 7.7098939 | I15: 3.2225939 | J15: 2.1602203 | K15: 11.800809 | M15: 1.3791804 | N15: 2.7115617
A16: 38807 | B16: 6.3803105 | D16: 6.633 | E16: 10.904808 | F16: 5.287383 | G16: 3.966028 | H16: 8.0369804 | I16: 3.2225939 | J16: 4.6243105 | K16: 11.800809 | M16: 1.4069027 | N16: 2.7200617
A17: 38837 | B17: 6.2301855 | D17: 6.633 | E17: 10.904808 | F17: 5.287383 | G17: 3.966028 | H17: 8.2238869 | I17: 3.2225939 | J17: 4.6628464 | K17: 11.800809 | M17: 1.4069027 | N17: 2.7200617
A18: 38868 | B18: 6.0049981 | D18: 6.633 | E18: 10.904808 | F18: 5.287383 | G18: 3.966028 | H18: 7.9435271 | I18: 3.2225939 | J18: 5.0790344 | K18: 11.800809 | M18: 1.4069027 | N18: 2.7200617
A19: 38898 | B19: 5.4044983 | D19: 6.633 | E19: 10.904808 | F19: 5.287383 | G19: 4.2819063 | H19: 7.4763434 | I19: 2.4 | J19: 4.8362592 | M19: 1.4069027 | N19: 2.7200617
A20: 38929 | B20: 5.8548731 | D20: 6.633 | E20: 10.904808 | F20: 5.287383 | G20: 4.2819063 | H20: 7.3361619 | I20: 2.4 | J20: 4.7061699 | M20: 1.4069027 | N20: 2.7200617
A21: 38960 | B21: 5.5546232 | D21: 6.633 | E21: 10.904808 | F21: 5.287383 | G21: 4.2819063 | H21: 7.2894348 | I21: 2.4 | J21: 5.0505238 | M21: 1.4069027 | N21: 2.7200617
A22: 38990 | B22: 6.2862161 | D22: 6.633 | F22: 5.287383 | G22: 4.1941623 | H22: 4.595714 | I22: 3.2225939 | J22: 4.8473985 | M22: 1.4069027 | N22: 2.7200617 | R22: 9.6945226
A23: 39021 | B23: 6.0168068 | D23: 6.633 | F23: 5.287383 | G23: 4.1941623 | H23: 4.5095443 | I23: 3.2225939 | J23: 4.6740191 | M23: 1.4069027 | N23: 2.7200617 | R23: 9.6945226
A24: 39051 | B24: 5.8372007 | D24: 6.633 | F24: 5.287383 | G24: 4.1941623 | H24: 4.4520979 | I24: 3.2225939 | J24: 4.8185019 | M24: 1.4069027 | N24: 2.7200617 | R24: 9.6945226
A25: 39082 | B25: 5.6493002 | C25: 9.8713594 | D25: 6.633 | E25: 10.904808 | F25: 5.287383 | G25: 4.3871991 | H25: 10.22186 | I25: 2.6825939 | J25: 3.554647 | M25: 4.1652636 | N25: 1.7850617 | P25: 1.3915
A26: 39113 | B26: 5.2746782 | C26: 9.8713594 | D26: 6.633 | E26: 10.904808 | F26: 5.287383 | G26: 4.3871991 | H26: 9.8183653 | I26: 2.6825939 | J26: 3.9045576 | M26: 4.1652636 | N26: 1.7850617 | P26: 1.3915
A27: 39141 | B27: 5.6493002 | C27: 9.8713594 | D27: 6.633 | E27: 10.904808 | F27: 5.287383 | G27: 4.3871991 | H27: 9.616618 | I27: 2.6825939 | J27: 3.7490418 | M27: 4.1652636 | N27: 1.7850617 | P27: 1.3915
A28: 39172 | B28: 4.5587046 | C28: 9.8713594 | D28: 6.633 | E28: 10.904808 | F28: 5.287383 | G28: 4.3871991 | H28: 2.6726305 | I28: 2.6825939 | J28: 2.6706211 | M28: 8.355319 | N28: 1.7850617 | P28: 5.5015
A29: 39202 | B29: 4.4876598 | C29: 9.8713594 | D29: 6.633 | E29: 10.904808 | F29: 5.287383 | G29: 4.3871991 | H29: 2.6258107 | I29: 2.6825939 | J29: 2.7845676 | M29: 8.355319 | N29: 1.7850617 | P29: 5.5015
A30: 39233 | B30: 4.6297493 | C30: 9.8713594 | D30: 6.633 | E30: 10.904808 | F30: 5.287383 | G30: 4.3871991 | H30: 2.6375156 | I30: 2.6825939 | J30: 2.9661698 | M30: 8.355319 | N30: 1.7850617 | P30: 5.5015
A31: 39263 | B31: 4.580629 | C31: 10.725607 | D31: 6.633 | F31: 5.287383 | G31: 4.2117111 | H31: 2.1801479 | I31: 2.6825939 | J31: 3.6373553 | N31: 1.7850617 | P31: 2.783
A32: 39294 | B32: 4.6448162 | C32: 10.725607 | D32: 6.633 | F32: 5.287383 | G32: 4.2117111 | H32: 2.0779535 | I32: 2.6825939 | J32: 3.4993306 | N32: 1.7850617 | P32: 2.783
A33: 39325 | B33: 4.6448162 | C33: 10.725607 | D33: 6.633 | F33: 5.287383 | G33: 4.2117111 | H33: 2.0268562 | I33: 2.6825939 | J33: 3.6373553 | N33: 1.7850617 | P33: 2.783
A34: 39355 | B34: 4.5096083 | C34: 39.519391 | D34: 6.633 | F34: 5.287383 | G34: 2.9773042 | H34: 1.986369 | I34: 2.6825939 | N34: 1.7765617 | P34: 1.3915 | U34: 7.5071871
A35: 39386 | B35: 4.5096083 | C35: 39.519391 | D35: 6.633 | F35: 5.287383 | G35: 2.9773042 | H35: 1.9624779 | I35: 2.6825939 | N35: 1.7765617 | P35: 1.3915 | U35: 7.5071871
A36: 39416 | B36: 4.5096083 | C36: 39.519391 | D36: 6.633 | F36: 5.287383 | G36: 2.9773042 | H36: 1.8498487 | I36: 2.6825939 | N36: 1.7765617 | P36: 1.3915 | U36: 7.5071871
A37: 39447 | B37: 46.223037 | C37: 60.290503 | D37: 6.633 | F37: 5.287383 | G37: 2.8478562 | H37: 0.027035652 | I37: 2.6825939 | N37: 1.7765617 | P37: 1.3915
A38: 39478 | B38: 45.239568 | C38: 60.290503 | D38: 6.633 | F38: 5.287383 | G38: 2.8478562 | H38: 0.018041199 | I38: 2.6825939 | N38: 1.7765617 | P38: 1.3915
A39: 39507 | B39: 45.239568 | C39: 60.290503 | D39: 6.633 | F39: 5.287383 | G39: 2.8478562 | H39: 0.016472399 | I39: 2.6825939 | N39: 1.7765617 | P39: 1.3915
A40: 39538 | B40: 49.676924 | D40: 6.633 | F40: 5.287383 | G40: 2.588 | H40: 1.231208e-05 | I40: 2.6825939 | T40: 8.5945824
A41: 39568 | B41: 49.676924 | D41: 6.633 | F41: 5.287383 | G41: 2.588 | H41: 1.18512e-05 | I41: 2.6825939 | T41: 8.5945824
A42: 39599 | B42: 49.676924 | D42: 6.633 | F42: 5.287383 | G42: 2.588 | H42: 1.18512e-05 | I42: 2.6825939 | T42: 8.5945824
A43: 39629 | B43: 49.676924 | G43: 2.588 | H43: 5.655e-06 | I43: 2.6825939 | L43: 15.643622 | O43: 12.206729 | Q43: 8.918046 | S43: 6.6100423 | T43: 6.2565995
A44: 39660 | B44: 49.676924 | G44: 2.588 | H44: 5.655e-06 | I44: 2.6825939 | L44: 15.643622 | O44: 12.206729 | Q44: 8.918046 | S44: 6.6100423 | T44: 6.2565995
A45: 39691 | B45: 49.676924 | G45: 2.588 | H45: 5.655e-06 | I45: 2.6825939 | L45: 15.643622 | O45: 12.206729 | Q45: 8.918046 | S45: 6.6100423 | T45: 6.2565995
A46: 39721 | B46: 49.676924 | G46: 2.588 | H46: 5.655e-06 | I46: 2.6825939 | L46: 15.643622 | O46: 12.206729 | Q46: 8.918046 | S46: 6.6100423 | T46: 6.2565995

Sheet K8_M45
B1: Skýrsla rannsóknarnefndar Alþingis
B2: 8. kafli - Útlán íslensku bankanna
B3: Mynd 45
A4: Fs | B4: Veð í hlutabréfum bankanna, FL Group hf. og Exista hf.
A5: Ufs | B5: Veð tekin af Glitni banka hf. Hlutfall af útistandandi hlutabréfum félags
A6: Alm.
A7: Nm
A8: H | B8: Heimild: Glitnir banki hf.
A9: Vá | B9: %
A10: Há
A11: Ath.
A12: Dags. | B12: FL | C12: EXISTA | D12: GLB | E12: KAUP | F12: LAIS | G12: STRB
A13: 39113 | B13: 20.460655 | C13: 7.7179717 | D13: 6.5892282 | E13: 9.3177672 | F13: 9.765344 | G13: 7.8417452
A14: 39141 | B14: 20.444857 | C14: 7.7397104 | D14: 7.5783276 | E14: 9.2768997 | F14: 8.7867555 | G14: 6.0638588
A15: 39172 | B15: 20.466035 | C15: 7.4835594 | D15: 7.2327121 | E15: 9.2414206 | F15: 8.9756026 | G15: 7.5174791
A16: 39202 | B16: 20.500606 | C16: 7.1778709 | D16: 4.1291603 | E16: 9.3908302 | F16: 9.0487614 | G16: 7.3667057
A17: 39233 | B17: 20.505487 | C17: 7.1696163 | D17: 4.4406349 | E17: 9.3431001 | F17: 8.7557181 | G17: 5.7599387
A18: 39263 | B18: 20.504029 | C18: 9.5399291 | D18: 4.0702286 | E18: 6.6560225 | F18: 8.759924 | G18: 4.3394931
A19: 39294 | B19: 20.496783 | C19: 7.6314512 | D19: 3.7646076 | E19: 6.6957447 | F19: 8.755626 | G19: 4.3542167
A20: 39325 | B20: 21.477405 | C20: 7.655736 | D20: 2.5573525 | E20: 3.211683 | F20: 7.7463531 | G20: 4.3611313
A21: 39355 | B21: 19.158957 | C21: 7.7959097 | D21: 2.3563316 | E21: 3.3621347 | F21: 7.9117009 | G21: 4.3987627
A22: 39386 | B22: 21.810955 | C22: 7.8079215 | D22: 2.6983622 | E22: 2.0972537 | F22: 7.9478614 | G22: 4.4299592
A23: 39416 | B23: 23.342196 | C23: 8.519653 | D23: 3.8936947 | E23: 2.1303592 | F23: 8.4344421 | G23: 4.391394
A24: 39447 | B24: 16.889059 | C24: 4.4073535 | D24: 4.6062021 | E24: 1.0832887 | F24: 8.4549638 | G24: 4.8101075
... A33: 39721 | B33: 13.90928 | C33: 2.6770682 | D33: 12.289722 | E33: 4.289187 | F33: 9.5849001 | G33: 0.36588342

Sheet K8_M46
B1: Skýrsla rannsóknarnefndar Alþingis
B2: 8. kafli - Útlán íslensku bankanna
B3: Mynd 46
A4: Fs | B4: Veð í hlutabréfum bankanna, FL Group hf. og Exista hf.
A5: Ufs | B5: Veð tekin af Kaupþingi banka hf. Hlutfall af útistandandi hlutabréfum félags
A6: Alm.
A7: Nm
A8: H | B8: Heimild: Kaupþing banki hf.
A9: Vá | B9: %
A10: Há
A11: Ath.
A12: Dags. | B12: FL | C12: EXISTA | D12: GLB | E12: KAUP | F12: LAIS | G12: STRB
A13: 39113 | B13: 13.598958 | C13: 54.412162 | D13: 4.080724 | E13: 37.741421 | F13: 17.368774 | G13: 0.20480831
A14: 39141 | B14: 13.755152 | C14: 56.08244 | D14: 4.3897448 | E14: 37.87006 | F14: 17.327234 | G14: 0.17663031
A15: 39172 | B15: 11.404736 | C15: 57.045648 | D15: 5.882964 | E15: 37.226854 | F15: 17.332083 | G15: 0.19612575
A16: 39202 | B16: 10.836731 | C16: 54.784253 | D16: 18.833078 | E16: 37.161377 | F16: 17.270383 | G16: 0.21592884
A17: 39233 | B17: 10.795495 | C17: 55.590728 | D17: 18.718168 | E17: 37.694038 | F17: 12.601421 | G17: 4.5881043
A18: 39263 | B18: 11.03569 | C18: 55.555886 | D18: 10.128898 | E18: 30.084874 | F18: 11.839347 | G18: 4.7540736
A19: 39294 | B19: 11.167283 | C19: 55.216338 | D19: 10.315684 | E19: 30.084442 | F19: 11.720317 | G19: 4.7759715
A20: 39325 | B20: 11.688128 | C20: 60.477375 | D20: 10.184774 | E20: 28.47181 | F20: 11.661244 | G20: 4.8335347
A21: 39355 | B21: 10.430395 | C21: 60.506826 | D21: 10.183777 | E21: 28.643686 | F21: 11.628603 | G21: 4.8371103
A22: 39386 | B22: 10.514031 | C22: 60.429686 | D22: 10.185336 | E22: 30.018556 | F22: 11.664363 | G22: 4.8209581
A23: 39416 | B23: 11.35505 | C23: 59.562271 | D23: 10.165817 | E23: 29.152396 | F23: 11.492096 | G23: 4.8625566
A24: 39447 | B24: 9.5479613 | C24: 60.454922 | D24: 10.15564 | E24: 32.119121 | F24: 11.465162 | G24: 4.815702
... A33: 39721 | B33: 9.1411378 | C33: 60.560393 | D33: 21.314 | E33: 40.130583 | F33: 5.3606972 | G33: 4.5461897

Sheet K8_M47
B1: Skýrsla rannsóknarnefndar Alþingis
B2: 8. kafli - Útlán íslensku bankanna
B3: Mynd 47
A4: Fs | B4: Veð í hlutabréfum bankanna, FL Group hf. og Exista hf.
A5: Ufs | B5: Veð tekin af Landsbanka Íslands hf. Hlutfall af útistandandi hlutabréfum félags
A6: Alm.
A7: Nm
A8: H | B8: Heimild: Landsbanki Íslands hf.
A9: Vá | B9: %
A10: Há
A11: Ath.
A12: Dags. | B12: FL | C12: EXISTA | D12: GLB | E12: KAUP | F12: LAIS | G12: STRB
A13: 39113 | B13: 35.317872 | C13: 1.9871807 | D13: 12.70647 | E13: 3.6580723 | F13: 1.9594554 | G13: 5.4845136
A14: 39141 | B14: 35.317872 | C14: 1.9871807 | D14: 12.70647 | E14: 3.6580723 | F14: 1.9594554 | G14: 5.4845136
A15: 39172 | B15: 38.501804 | C15: 2.014407 | D15: 5.9208044 | E15: 3.9431174 | F15: 1.8961655 | G15: 7.5837774
A16: 39202 | B16: 38.501804 | C16: 1.921791 | D16: 5.9208044 | E16: 3.9431174 | F16: 1.8961655 | G16: 7.5837774
A17: 39233 | B17: 38.501804 | C17: 1.921791 | D17: 5.9208044 | E17: 3.9431174 | F17: 1.8961655 | G17: 7.5837774
A18: 39263 | B18: 38.502594 | C18: 2.0489567 | D18: 5.4223111 | E18: 4.6488056 | F18: 2.5774339 | G18: 6.673281
A19: 39294 | B19: 38.502594 | C19: 2.0489567 | D19: 5.4223111 | E19: 4.6488056 | F19: 2.5774339 | G19: 6.673281
A20: 39325 | B20: 38.502594 | C20: 2.0489567 | D20: 5.4223111 | E20: 4.6488056 | F20: 2.5378087 | G20: 6.673281
A21: 39355 | B21: 33.360276 | C21: 2.0195282 | D21: 6.3710637 | E21: 4.1737094 | F21: 1.8697357 | G21: 6.5503017
A22: 39386 | B22: 32.18363 | C22: 2.0195282 | D22: 6.3710637 | E22: 4.1737094 | F22: 1.8697357 | G22: 6.5503017
A23: 39416 | B23: 32.18363 | C23: 2.0195282 | D23: 6.3710637 | E23: 4.1737094 | F23: 1.8697357 | G23: 6.5503017
A24: 39447 | B24: 30.551856 | C24: 1.9296998 | D24: 6.3734626 | E24: 2.2118172 | F24: 2.2687376 | G24: 35.385004
... A33: 39721 | B33: 48.195798 | C33: 1.5403587 | D33: 5.4582827 | E33: 5.8567723 | F33: 18.015277 | G33: 10.356476

Sheet K8_M48
B1: Skýrsla rannsóknarnefndar Alþingis
B2: 8. kafli - Útlán íslensku bankanna
B3: Mynd 48
A4: Fs | B4: Veð í hlutabréfum bankanna, FL Group hf. og Exista hf.
A5: Ufs | B5: Veð tekin af Straumi-Burðarási hf. Hlutfall af útistandandi hlutabréfum félags
A6: Alm.
A7: Nm
A8: H | B8: Heimild: Straumur-Burðarás hf.
A9: Vá | B9: %
A10: Há
A11: Ath.
A12: Dags. | B12: FL | C12: EXISTA | D12: GLB | E12: KAUP | F12: LAIS | G12: STRB
A13: 39113 | B13: 3.0585328 | C13: 0 | D13: 10.050555 | E13: 0 | F13: 6.0826468 | G13: 0
A14: 39141 | B14: 3.0585328 | C14: 0 | D14: 9.6720013 | E14: 0 | F14: 5.6289542 | G14: 0
A15: 39172 | B15: 4.9586861 | C15: 0 | D15: 8.5447597 | E15: 0 | F15: 4.4521667 | G15: 0
A16: 39202 | B16: 5.2630491 | C16: 0 | D16: 2.6846853 | E16: 0 | F16: 5.8964967 | G16: 0
A17: 39233 | B17: 5.2630491 | C17: 2.0421838 | D17: 2.6846853 | E17: 0 | F17: 5.8964967 | G17: 0
A18: 39263 | B18: 4.9586861 | C18: 2.0421838 | D18: 0.39312663 | E18: 0 | F18: 5.6289542 | G18: 0
A19: 39294 | B19: 4.9586861 | C19: 2.0421838 | D19: 0.35011791 | E19: 0 | F19: 5.6289542 | G19: 0
A20: 39325 | B20: 4.9586861 | C20: 2.0421838 | D20: 0.35011791 | E20: 0.090485142 | F20: 5.5424152 | G20: 0
A21: 39355 | B21: 4.4173335 | C21: 2.0421838 | D21: 0.96764425 | E21: 0.090485142 | F21: 5.5424152 | G21: 0
A22: 39386 | B22: 4.2615303 | C22: 2.0421838 | D22: 0.96764425 | E22: 0.090485142 | F22: 5.5424152 | G22: 2.0608051
A23: 39416 | B23: 4.2615303 | C23: 2.4030646 | D23: 1.1095445 | E23: 0.13167614 | F23: 5.5424152 | G23: 2.0608051
A24: 39447 | B24: 2.8633635 | C24: 3.2832616 | D24: 1.0154629 | E24: 0 | F24: 5.5424152 | G24: 2.0608051
... A33: 39721 | B33: 2.5100135 | C33: 1.9966069 | D33: 1.1693535 | E33: 0 | F33: 4.5596365 | G33: 2.0608051

Sheet K8_M49
B1: Skýrsla rannsóknarnefndar Alþingis
B2: 8. kafli - Útlán íslensku bankanna
B3: Mynd 49
A4: Fs | B4: Veð í hlutabréfum bankanna, FL Group hf. og Exista hf.
A5: Ufs | B5: Veð tekin af stóru bönkunum þremur. Hlutfall af útistandandi hlutabréfum félags
A6: Alm.
A7: Nm
A8: H | B8: Heimild: Glitnir banki hf., Kaupþing banki hf. og Landsbanki Íslands hf.
A9: Vá | B9: %
A10: Há
A11: Ath.
A12: Dags. | B12: FL | C12: EXISTA | D12: GLB | E12: KAUP | F12: LAIS | G12: STRB
A13: 39113 | B13: 69.377484 | C13: 64.117314 | D13: 23.376422 | E13: 50.71726 | F13: 29.093573 | G13: 13.531067
A14: 39141 | B14: 69.517881 | C14: 65.809331 | D14: 24.674543 | E14: 50.805032 | F14: 28.073445 | G14: 11.725003
A15: 39172 | B15: 70.372576 | C15: 66.543614 | D15: 19.036481 | E15: 50.411392 | F15: 28.203851 | G15: 15.297382
A16: 39202 | B16: 69.839141 | C16: 63.883915 | D16: 28.883043 | E16: 50.495325 | F16: 28.21531 | G16: 15.166412
A17: 39233 | B17: 69.802786 | C17: 64.682136 | D17: 29.079607 | E17: 50.980255 | F17: 23.253305 | G17: 17.93182
A18: 39263 | B18: 70.042313 | C18: 67.144771 | D18: 19.621437 | E18: 41.389702 | F18: 23.176704 | G18: 15.766848
A19: 39294 | B19: 70.16666 | C19: 64.896746 | D19: 19.502603 | E19: 41.428992 | F19: 23.053377 | G19: 15.803469
A20: 39325 | B20: 71.668127 | C20: 70.182068 | D20: 18.164438 | E20: 36.332298 | F20: 21.945406 | G20: 15.867947
A21: 39355 | B21: 62.949628 | C21: 70.322264 | D21: 18.911172 | E21: 36.17953 | F21: 21.41004 | G21: 15.786175
A22: 39386 | B22: 64.508616 | C22: 70.257136 | D22: 19.254762 | E22: 36.289519 | F22: 21.48196 | G22: 15.801219
A23: 39416 | B23: 66.880877 | C23: 70.101452 | D23: 20.430575 | E23: 35.456464 | F23: 21.796274 | G23: 15.804252
A24: 39447 | B24: 56.988876 | C24: 66.791976 | D24: 21.135305 | E24: 35.414226 | F24: 22.188864 | G24: 45.010813
... A33: 39721 | B33: 71.246216 | C33: 64.77782 | D33: 39.062005 | E33: 50.276542 | F33: 32.960875 | G33: 15.268549

Sheet K8_M50
B1: Skýrsla rannsóknarnefndar Alþingis
B2: 8. kafli - Útlán íslensku bankanna
B3: Mynd 50
A4: Fs | B4: Veð í hlutabréfum bankanna, FL Group hf. og Exista hf.
A5: Ufs | B5: Veð tekin af öllum kauphallaraðilum. Hlutfall af útistandandi hlutabréfum félags
A6: Alm.
A7: Nm
A8: H | B8: Heimild: Verðbréfaskráning Íslands.
A9: Vá | B9: %
A10: Há
A11: Ath.
A12: Dags. | B12: FL | C12: EXISTA | D12: GLB | E12: KAUP | F12: LAIS | G12: STRB
A13: 38383 | B13: 39.493786 | C13: 0 | D13: 15.50121 | E13: 21.854772 | F13: 30.807563 | G13: 50.640072
A14: 38411 | B14: 39.714519 | C14: 0 | D14: 18.294158 | E14: 21.046559 | F14: 30.797833 | G14: 50.29172
A15: 38442 | B15: 35.737507 | C15: 0 | D15: 18.838698 | E15: 23.644935 | F15: 30.800176 | G15: 44.725457
A16: 38472 | B16: 35.657694 | C16: 0 | D16: 19.940238 | E16: 23.707004 | F16: 31.741841 | G16: 49.162828
A17: 38503 | B17: 35.895268 | C17: 0 | D17: 20.244377 | E17: 26.791106 | F17: 14.042698 | G17: 50.026763
A18: 38533 | B18: 36.233153 | C18: 0 | D18: 15.062166 | E18: 27.407982 | F18: 14.110647 | G18: 50.058726
A19: 38564 | B19: 35.505199 | C19: 0 | D19: 15.087807 | E19: 28.391182 | F19: 14.124529 | G19: 50.062873
A20: 38595 | B20: 39.998402 | C20: 0 | D20: 12.530781 | E20: 28.784988 | F20: 18.723213 | G20: 51.953716
A21: 38625 | B21: 40.099976 | C21: 0 | D21: 12.806349 | E21: 31.138172 | F21: 15.250416 | G21: 30.989375
A22: 38656 | B22: 39.795729 | C22: 0 | D22: 15.019576 | E22: 33.291017 | F22: 24.230563 | G22: 38.61095
A23: 38686 | B23: 25.122454 | C23: 0 | D23: 12.92749 | E23: 30.584211 | F23: 27.203353 | G23: 38.849194
A24: 38717 | B24: 24.754908 | C24: 0 | D24: 15.026723 | E24: 30.339143 | F24: 28.98215 | G24: 41.019959
... A57: 39721 | B57: 51.64007 | C57: 65.649919 | D57: 51.398059 | E57: 40.40158 | F57: 54.05731 | G57: 40.777407

Sheet K8_M51
B1: Skýrsla rannsóknarnefndar Alþingis
B2: 8. kafli - Útlán íslensku bankanna
B3: Mynd 51
A4: Fs | B4: Baugur Group hf.
A5: Ufs | B5: Heildarútlán stóru bankanna þriggja til tengdra aðila
A6: Alm.
A7: Nm
A8: H | B8: Heimild: Glitnir banki hf., Kaupþing banki hf og Landsbanki Íslands hf.
A9: Vá | B9: M. evra
A10: Há
A11: Ath:
A12: Dags. | B12: Baugur Group | C12: FL Group | D12: Önnur félög | E12: BG Capital | F12: BG Holding | G12: Eik fasteignafélag | H12: Ice Acquisition Ltd | I12: Iceland Food Group Ltd | J12: JN Group Ltd | K12: Jötunn Holding | L12: Landic Property | M12: Mosaic Fashions Finance Ltd | N12: Milton | O12: Highland Acquisitions Ltd
A13: 38383 | B13: 321.16393 | C13: 87.087471 | D13: 489.13415 | F13: 109.95692 | G13: 49.105676 | L13: 128.9646 | M13: 29.990797
A14: 38411 | B14: 361.72839 | C14: 227.76819 | D14: 499.70644 | F14: 110.21588 | G14: 46.597716 | L14: 138.74917 | M14: 27.311256
A15: 38442 | B15: 358.65339 | C15: 190.50235 | D15: 541.45996 | F15: 110.92692 | G15: 48.372755 | H15: 30.928939 | L15: 130.45108 | M15: 27.559889
A16: 38472 | B16: 328.82663 | C16: 208.95173 | D16: 559.55503 | F16: 111.70472 | G16: 49.131829 | H16: 31.691507 | L16: 138.5024 | M16: 28.249109
A17: 38503 | B17: 350.16467 | C17: 217.21707 | D17: 671.56171 | F17: 111.51163 | G17: 49.741549 | H17: 31.996978 | L17: 158.33115 | M17: 21.444236
A18: 38533 | B18: 440.78572 | C18: 201.75157 | D18: 729.32331 | F18: 113.35106 | G18: 51.261433 | H18: 108.66502 | L18: 161.82015 | M18: 21.919072
A19: 38564 | B19: 589.7545 | C19: 205.25653 | D19: 690.66499 | F19: 144.44474 | G19: 75.851727 | H19: 104.83327 | I19: 2.6854759 | L19: 164.57268 | M19: 21.095639
A20: 38595 | B20: 592.30778 | C20: 207.80059 | D20: 709.53873 | F20: 146.21442 | G20: 87.471282 | H20: 104.3485 | I20: 2.7318073 | L20: 166.48645 | M20: 19.826268
A21: 38625 | B21: 709.97636 | C21: 219.20821 | D21: 732.14038 | F21: 146.80563 | G21: 71.48752 | H21: 104.92851 | I21: 2.8294374 | L21: 170.0307 | M21: 19.937554
A22: 38656 | B22: 777.56702 | C22: 489.19575 | D22: 826.77007 | F22: 146.95963 | G22: 72.713375 | H22: 106.46048 | I22: 2.8118708 | L22: 183.30595 | M22: 20.197104
A23: 38686 | B23: 934.77276 | C23: 634.02226 | D23: 849.86005 | F23: 146.11169 | G23: 85.320086 | H23: 123.32252 | I23: 2.7734397 | L23: 182.00382 | M23: 20.151758
A24: 38717 | B24: 785.54225 | C24: 696.49651 | D24: 901.2935 | F24: 146.23424 | G24: 100.53271 | H24: 123.26125 | I24: 2.7708408 | L24: 275.25482 | M24: 20.163822
A25: 38748 | B25: 769.43998 | C25: 1036.9467 | D25: 823.2373 | F25: 146.83366 | G25: 89.44492 | H25: 124.78059 | I25: 2.787861 | L25: 274.5153 | M25: 17.43797
A26: 38776 | B26: 835.59771 | C26: 1060.9076 | D26: 824.37203 | F26: 147.99462 | G26: 87.257195 | H26: 234.62694 | I26: 2.7044436 | L26: 317.86956 | M26: 17.501681
A27: 38807 | B27: 810.51356 | C27: 767.63042 | D27: 929.39194 | F27: 145.47107 | G27: 84.293827 | H27: 229.15312 | I27: 2.4539154 | L27: 289.36745 | M27: 17.076402
A28: 38837 | B28: 837.93103 | C28: 576.58778 | D28: 886.0797 | F28: 144.34337 | G28: 81.21839 | H28: 192.88521 | I28: 2.207335 | L28: 292.83421 | M28: 19.549585
A29: 38868 | B29: 747.17341 | C29: 768.20509 | D29: 992.07623 | F29: 165.35186 | G29: 87.059332 | H29: 195.42497 | I29: 2.2415184 | L29: 249.9749 | M29: 19.895399
A30: 38898 | B30: 551.64826 | C30: 831.45311 | D30: 1025.3581 | E30: 100.74156 | F30: 164.75227 | G30: 87.120988 | H30: 115.67842 | I30: 2.1255063 | L30: 223.70111 | M30: 19.749222
A31: 38929 | B31: 567.9063 | C31: 860.27126 | D31: 1043.5688 | E31: 102.84097 | F31: 166.93244 | G31: 96.603757 | H31: 117.69531 | I31: 2.2700768 | L31: 208.13357 | M31: 18.457579
A32: 38960 | B32: 561.05743 | C32: 1039.3605 | D32: 1013.096 | E32: 104.71276 | F32: 169.13679 | G32: 101.73601 | H32: 120.14636 | I32: 2.3753104 | L32: 236.8921 | M32: 18.707426
A33: 38990 | B33: 551.03852 | C33: 909.65625 | D33: 1079.7712 | E33: 105.2683 | F33: 169.43427 | G33: 104.14305 | H33: 116.39885 | I33: 2.3720998 | L33: 248.54938 | M33: 18.622805
A34: 39021 | B34: 633.31891 | C34: 796.41969 | D34: 1049.0422 | E34: 86.338147 | F34: 168.65455 | G34: 108.05016 | H34: 116.51647 | I34: 2.4315324 | L34: 237.10826 | M34: 616.53187
A35: 39051 | B35: 670.87174 | C35: 797.45425 | D35: 1043.0346 | E35: 87.066207 | F35: 167.05952 | G35: 104.52255 | H35: 116.52635 | I35: 2.3428081 | L35: 231.126 | M35: 594.41645 | O35: 260.91426
A36: 39082 | B36: 659.13873 | C36: 636.38925 | D36: 1106.1964 | E36: 84.016815 | F36: 167.0539 | G36: 95.20483 | H36: 115.74539 | I36: 2.2259277 | L36: 271.60132 | M36: 591.75735 | O36: 211.16125
A37: 39113 | B37: 548.13819 | C37: 650.5977 | D37: 1075.4696 | E37: 146.90896 | F37: 171.00543 | G37: 100.55998 | H37: 118.19006 | I37: 2.4767645 | L37: 279.75789 | M37: 561.19024 | O37: 203.50313
A38: 39141 | B38: 472.77078 | C38: 681.05785 | D38: 1052.1295 | E38: 145.41831 | F38: 166.97531 | G38: 105.37511 | H38: 114.49354 | I38: 2.4686751 | K38: 41.066089 | L38: 276.44479 | M38: 532.609 | O38: 118.87297
A39: 39172 | B39: 486.90624 | C39: 1009.9672 | D39: 1108.6656 | E39: 146.78131 | F39: 169.648 | G39: 185.00156 | H39: 113.8816 | I39: 2.5013541 | K39: 161.37247 | L39: 329.10988 | M39: 566.75003 | O39: 119.06409
A40: 39202 | B40: 471.59201 | C40: 1014.3856 | D40: 1279.8867 | E40: 146.32356 | F40: 166.5648 | G40: 117.43816 | H40: 0 | I40: 265.31157 | K40: 256.57122 | L40: 325.51406 | M40: 556.10513 | O40: 61.706286
A41: 39233 | B41: 541.01229 | C41: 990.9729 | D41: 1382.9573 | E41: 147.05023 | F41: 80.67196 | G41: 123.48438 | H41: 0 | I41: 120.09551 | J41: 195.47828 | K41: 260.00658 | L41: 329.02814 | M41: 548.97069 | O41: 51.352736
A42: 39263 | B42: 760.40091 | C42: 696.01829 | D42: 1396.9189 | E42: 145.6197 | F42: 81.71668 | G42: 122.65068 | H42: 0 | I42: 122.28212 | J42: 201.24431 | K42: 261.648 | L42: 304.92952 | M42: 572.60897 | O42: 48.034447
A43: 39294 | B43: 973.5016 | C43: 697.53165 | D43: 1410.2623 | E43: 145.87488 | F43: 82.062043 | G43: 123.21801 | H43: 0 | I43: 123.83303 | J43: 188.04033 | K43: 263.19481 | L43: 326.22378 | M43: 553.46055 | O43: 48.799615
A44: 39325 | B44: 1018.5658 | C44: 831.11561 | D44: 1416.4907 | E44: 146.18365 | F44: 82.674249 | G44: 120.15856 | H44: 0 | I44: 123.67617 | J44: 97.888351 | K44: 263.54287 | L44: 325.15228 | M44: 553.29225 | O44: 57.110549
A45: 39355 | B45: 1124.823 | C45: 607.96925 | D45: 1495.3023 | E45: 144.16691 | F45: 81.325457 | G45: 119.42692 | H45: 0 | I45: 137.63754 | J45: 94.581139 | K45: 230.10408 | L45: 450.9648 | M45: 566.65315 | N45: 65.714048 | O45: 70.196182
A46: 39386 | B46: 1151.6997 | C46: 665.05606 | D46: 1527.3353 | E46: 156.22808 | F46: 92.962942 | G46: 120.9516 | H46: 0 | I46: 139.23466 | J46: 94.346571 | K46: 231.05244 | L46: 454.4036 | M46: 558.34857 | N46: 93.554363 | O46: 70.945534
A47: 39416 | B47: 1162.2983 | C47: 723.09306 | D47: 1496.4902 | E47: 156.62687 | F47: 92.547746 | G47: 117.7053 | H47: 0 | I47: 138.33673 | J47: 90.783067 | K47: 231.82222 | L47: 426.99347 | M47: 518.00614 | N47: 92.320514 | O47: 70.688418
A48: 39447 | B48: 1292.1818 | C48: 989.21855 | D48: 1290.4036 | E48: 165.21531 | F48: 304.81675 | G48: 116.83393 | H48: 0 | I48: 135.62545 | J48: 58.40792 | K48: 233.40025 | L48: 462.10041 | M48: 532.45716 | N48: 90.289937 | O48: 69.196868
A49: 39478 | B49: 1105.6762 | C49: 1110.6646 | D49: 1281.4539 | E49: 164.70995 | F49: 310.06212 | G49: 111.4445 | H49: 4.5790144 | I49: 131.82275 | J49: 57.243497 | K49: 234.89589 | L49: 341.90403 | M49: 453.79601 | N49: 89.515226 | O49: 68.628155
A50: 39507 | B50: 1022.1761 | C50: 962.59282 | D50: 1237.7558 | E50: 165.36077 | F50: 311.45782 | G50: 108.60484 | H50: 0 | I50: 158.23211 | J50: 55.896713 | K50: 237.74498 | L50: 425.13425 | M50: 436.90311 | N50: 87.692789 | O50: 68.259959
A51: 39538 | B51: 869.09184 | C51: 1057.4826 | D51: 1194.6743 | E51: 166.51174 | F51: 302.55146 | G51: 93.469335 | H51: 52.359846 | I51: 107.24252 | J51: 53.415551 | K51: 149.17969 | L51: 478.56144 | M51: 433.89064 | N51: 132.14756 | O51: 65.383796
A52: 39568 | B52: 905.46334 | C52: 1058.8552 | D52: 1219.173 | E52: 158.63539 | F52: 306.66505 | G52: 98.127433 | H52: 54.625054 | I52: 106.05908 | J52: 32.706511 | K52: 142.60763 | L52: 486.8352 | M52: 453.12588 | N52: 135.42827 | O52: 66.166851
A53: 39599 | B53: 902.51139 | C53: 1109.438 | D53: 1235.5296 | E53: 160.28343 | F53: 305.02169 | G53: 100.50414 | H53: 55.448306 | I53: 106.9734 | J53: 32.724619 | K53: 51.372918 | L53: 506.69462 | M53: 441.59799 | N53: 136.42776 | O53: 70.571024
A54: 39629 | B54: 839.0707 | C54: 1067.2816 | D54: 1391.1036 | E54: 158.21813 | F54: 304.08069 | G54: 95.164081 | H54: 54.738536 | I54: 104.83803 | J54: 32.438448 | L54: 514.54234 | M54: 456.72331 | N54: 136.1094 | O54: 68.142217
A55: 39660 | B55: 703.4755 | C55: 1043.8688 | D55: 1269.5856 | E55: 160.39132 | F55: 305.16151 | G55: 95.266403 | H55: 55.337925 | I55: 105.794 | J55: 32.891115 | L55: 536.59459 | M55: 452.93817 | N55: 7.8180153 | O55: 70.247379
A56: 39691 | B56: 494.45084 | C56: 1099.1213 | D56: 1254.3043 | E56: 163.64098 | F56: 311.65131 | G56: 97.376462 | H56: 54.185934 | I56: 103.7741 | J56: 32.409055 | L56: 552.3121 | M56: 422.44215 | N56: 7.4994997 | O56: 68.726767
A57: 39721 | B57: 473.9173 | C57: 935.07343 | D57: 1255.9637 | E57: 159.64946 | F57: 329.61482 | G57: 86.354618 | H57: 53.491938 | I57: 125.84052 | J57: 32.804149 | L57: 545.89634 | M57: 470.03926 | N57: 7.993276 | O57: 67.633079

Sheet K8_M52
B1: Skýrsla rannsóknarnefndar Alþingis
B2: 8. kafli - Útlán íslensku bankanna
B3: Mynd 52
A4: Fs | B4: Baugur Group hf.
A5: Ufs | B5: Heildarútlán Glitnis til tengdra aðila
A6: Alm.
A7: Nm
A8: H | B8: Heimild: Glitnir banki hf.
A9: Vá | B9: M. evra
A10: Há | B10: %
A11: Ath:
A12: Dags. | B12: Baugur Group | C12: FL Group | D12: Önnur félög | E12: BG Capital | F12: Eik properties | G12: FS6 | H12: Iceland Food Group Ltd | I12: Kjarrhólmi | J12: Landic Property | K12: Sólin skín | L12: Milton | M12: Highland Acquisitions Ltd | N12: Hlutfall af eiginfjárgrunni (h. ás)
A13: 38383 | B13: 50.651181 | C13: 11.103369 | D13: 77.894627 | J13: 35.593379 | N13: 22.649699
A14: 38411 | B14: 54.06881 | C14: 10.780645 | D14: 93.777341 | J14: 35.484403 | N14: 22.31101
A15: 38442 | B15: 55.040883 | C15: 10.567052 | D15: 96.731496 | J15: 35.107927 | N15: 20.432485
A16: 38472 | B16: 57.045668 | C16: 10.479533 | D16: 95.773936 | J16: 48.941169 | N16: 18.874958
A17: 38503 | B17: 51.227264 | C17: 9.7202357 | D17: 79.971154 | J17: 65.220016 | N17: 16.072333
A18: 38533 | B18: 138.60271 | C18: 9.9246594 | D18: 81.255133 | J18: 65.589921 | N18: 20.50226
A19: 38564 | B19: 275.89057 | C19: 9.9461232 | D19: 98.958404 | H19: 2.6854759 | J19: 65.605693 | N19: 31.071758
A20: 38595 | B20: 250.04444 | C20: 9.6959922 | D20: 99.595021 | H20: 2.7318073 | J20: 65.786754 | N20: 28.993212
A21: 38625 | B21: 318.70438 | C21: 9.4759564 | D21: 100.57384 | H21: 2.8294374 | J21: 65.886614 | N21: 33.315376
A22: 38656 | B22: 374.51381 | C22: 34.759702 | D22: 106.90146 | H22: 2.8118708 | J22: 66.34471 | N22: 38.273112
A23: 38686 | B23: 490.7977 | C23: 94.26186 | D23: 105.58504 | H23: 2.7734397 | J23: 66.299315 | N23: 48.528927
A24: 38717 | B24: 343.07132 | C24: 124.48414 | D24: 107.90357 | H24: 2.7708408 | J24: 62.844473 | N24: 40.02629
A25: 38748 | B25: 323.80726 | C25: 346.5247 | D25: 108.98497 | H25: 2.787861 | J25: 62.607939 | N25: 52.365723
A26: 38776 | B26: 331.40672 | C26: 420.08846 | D26: 107.07498 | H26: 2.7044436 | J26: 62.224056 | N26: 56.845676
A27: 38807 | B27: 316.46311 | C27: 284.41815 | D27: 117.67811 | H27: 2.4539154 | J27: 59.864377 | N27: 47.729726
A28: 38837 | B28: 346.45852 | C28: 148.52839 | D28: 153.83441 | H28: 2.207335 | J28: 58.517206 | N28: 40.142887
A29: 38868 | B29: 336.32064 | C29: 321.62147 | D29: 157.7652 | H29: 2.2415184 | J29: 38.511428 | N29: 45.099149
A30: 38898 | B30: 353.33029 | C30: 366.04832 | D30: 154.26565 | H30: 2.1255063 | J30: 37.757895 | N30: 44.98871
... A34: 39021 | B34: 326.34992 | C34: 316.1964 | D34: 136.0493 | H34: 2.4315324 | J34: 39.476492 | N34: 33.301421
A35: 39051 | B35: 369.33001 | C35: 266.42899 | D35: 135.31162 | H35: 2.3428081 | J35: 38.944533 | M35: 226.77057 | N35: 41.980938
A36: 39082 | B36: 354.45779 | C36: 237.05985 | D36: 120.37723 | G36: 31.515415 | H36: 2.2259277 | J36: 38.065907 | M36: 177.35247 | N36: 38.649217
A37: 39113 | B37: 185.27796 | C37: 224.31312 | D37: 120.02868 | E37: 60.646022 | G37: 34.012659 | H37: 2.4767645 | J37: 38.868737 | M37: 181.27392 | N37: 34.286536
A38: 39141 | B38: 133.50845 | C38: 210.86307 | D38: 119.72041 | E38: 60.712715 | G38: 34.208348 | H38: 2.4686751 | J38: 38.718382 | M38: 97.228897 | N38: 28.425752
A39: 39172 | B39: 133.91394 | C39: 417.59426 | D39: 124.26055 | E39: 60.741092 | G39: 57.365663 | H39: 2.5013541 | J39: 53.40836 | M39: 97.117719 | N39: 38.855873
A40: 39202 | B40: 129.28193 | C40: 348.70765 | D40: 109.19908 | E40: 60.356033 | F40: 23.185124 | G40: 56.765857 | H40: 2.5102343 | I40: 144.09706 | J40: 53.25794 | M40: 61.706286 | N40: 40.892269
A41: 39233 | B41: 150.33043 | C41: 317.00919 | D41: 111.50076 | E41: 60.666825 | F41: 24.754985 | G41: 57.113225 | H41: 48.97705 | I41: 151.00758 | J41: 53.993191 | M41: 51.352736 | N41: 42.771103
A42: 39263 | B42: 151.25167 | C42: 213.15164 | D42: 114.83086 | E42: 60.859452 | F42: 24.755217 | G42: 57.036782 | H42: 49.709507 | I42: 151.05774 | J42: 53.380286 | M42: 48.034447 | N42: 38.790211
A43: 39294 | B43: 152.09511 | C43: 224.51249 | D43: 116.06879 | E43: 60.674452 | F43: 25.221861 | G43: 58.328793 | H43: 50.59435 | I43: 153.89136 | J43: 54.197837 | M43: 48.799615 | N43: 39.275207
A44: 39325 | B44: 191.86509 | C44: 297.04265 | D44: 163.89973 | E44: 60.266695 | F44: 24.764705 | G44: 57.8668 | H44: 51.357242 | I44: 151.53517 | J44: 53.452382 | M44: 56.70612 | N44: 45.687174
A45: 39355 | B45: 185.0956 | C45: 221.74387 | D45: 180.9839 | E45: 59.578945 | F45: 24.682978 | G45: 56.025596 | H45: 71.021972 | I45: 150.60374 | J45: 177.60662 | K45: 109.60093 | L45: 65.714048 | M45: 69.803583 | N45: 56.038126
A46: 39386 | B46: 198.25867 | C46: 295.16135 | D46: 173.22106 | E46: 82.800263 | F46: 25.395109 | G46: 55.764875 | H46: 72.101449 | I46: 153.4484 | J46: 179.79686 | K46: 110.58239 | L46: 93.554363 | M46: 70.549892 | N46: 61.476762
A47: 39416 | B47: 203.40746 | C47: 430.31146 | D47: 169.713 | E47: 83.657563 | F47: 24.746066 | G47: 56.470565 | H47: 73.935169 | I47: 150.99021 | J47: 177.78784 | K47: 108.03173 | L47: 92.320514 | M47: 69.972949 | N47: 66.576985
A48: 39447 | B48: 365.26538 | C48: 455.06159 | D48: 181.32428 | E48: 83.224678 | F48: 24.666174 | G48: 56.307145 | H48: 72.31285 | J48: 175.02477 | K48: 106.06767 | L48: 90.289937 | M48: 68.493491 | N48: 67.842795
A49: 39478 | B49: 353.56943 | C49: 649.60327 | D49: 165.66695 | E49: 82.60944 | F49: 23.596661 | G49: 57.267728 | H49: 69.298316 | J49: 135.1629 | K49: 105.32867 | L49: 89.515226 | M49: 67.947582 | N49: 74.911402
A50: 39507 | B50: 351.40026 | C50: 519.68216 | D50: 190.94712 | E50: 82.635678 | F50: 21.130821 | G50: 57.325432 | H50: 97.528823 | J50: 173.04772 | K50: 103.37364 | L50: 87.692789 | M50: 67.030444 | N50: 75.148929
A51: 39538 | B51: 318.30882 | C51: 681.79427 | D51: 181.46612 | E51: 83.47673 | F51: 38.229251 | G51: 55.873163 | H51: 107.24252 | J51: 215.95523 | K51: 99.686832 | L51: 85.193356 | M51: 64.220987 | N51: 85.464701
A52: 39568 | B52: 338.23886 | C52: 581.3309 | D52: 183.91378 | E52: 82.587086 | F52: 18.741234 | G52: 55.624158 | H52: 106.05908 | J52: 217.95543 | K52: 102.00198 | L52: 86.329582 | M52: 64.954242 | N52: 81.319398
A53: 39599 | B53: 342.70226 | C53: 508.93283 | D53: 189.22359 | E53: 83.473413 | F53: 19.058344 | G53: 55.646072 | H53: 106.9734 | J53: 226.7443 | K53: 104.37194 | L53: 87.36539 | M53: 68.608108 | N53: 79.345518
A54: 39629 | B54: 334.57802 | C54: 492.29132 | D54: 187.74537 | E54: 84.750542 | F54: 94.205888 | G54: 55.662688 | H54: 104.83803 | J54: 222.71886 | K54: 104.76517 | L54: 87.23326 | M54: 66.180448 | N54: 81.199595
A55: 39660 | B55: 305.31839 | C55: 466.67702 | D55: 189.38172 | E55: 85.347593 | F55: 95.63921 | G55: 55.621914 | H55: 105.794 | J55: 242.73744 | K55: 106.30171 | M55: 68.044225 | N55: 76.150252
A56: 39691 | B56: 229.83988 | C56: 511.29929 | D56: 187.97155 | E56: 87.911674 | F56: 97.326194 | G56: 57.208954 | H56: 103.7741 | J56: 252.41392 | K56: 81.818697 | M56: 66.599624 | N56: 74.172256
A57: 39721 | B57: 214.68589 | C57: 396.04305 | D57: 194.7402 | E57: 91.0265 | F57: 73.692067 | G57: 58.7104 | H57: 125.84052 | J57: 249.80984 | K57: 83.185205 | M57: 65.391545 | N57: 68.727644

Sheet K8_M53
B1: Skýrsla rannsóknarnefndar Alþingis
B2: 8. kafli - Útlán íslensku bankanna
B3: Mynd 53
A4: Fs | B4: Baugur Group hf.
A5: Ufs | B5: Heildarútlán Kaupþings til tengdra aðila
A6: Alm.
A7: Nm
A8: H | B8: Heimild: Kaupþing banki hf.
A9: Vá | B9: M. evra
A10: Há | B10: %
A11: Ath:
A12: Dags. | B12: Baugur Group | C12: FL Group | D12: Önnur félög | E12: BG Holding | F12: BG Newco 5 | G12: Eik fasteignafélag | H12: F-Capital | I12: Fjárfestingafélagið Gaumur | J12: FL investment | K12: JN Group Ltd | L12: Jötunn Holding | M12: Landic Property | N12: Mosaic Fashions Finance Ltd | O12: Eignarhaldsfélagið ISP | P12: Milton | Q12: Hlutfall af eiginfjárgrunni (h. ás)
A13: 38383 | B13: 103.93457 | D13: 65.088303 | E13: 50.24896 | G13: 46.920133 | I13: 36.302271 | M13: 56.239949 | O13: 7.4490808 | Q13: 16.955707
A14: 38411 | B14: 95.697068 | C14: 97.557019 | D14: 64.586061 | E14: 50.541932 | G14: 44.411215 | I14: 36.113808 | M14: 65.732495 | N14: 0 | O14: 7.4155287 | Q14: 20.120246
A15: 38442 | B15: 96.33222 | C15: 99.901877 | D15: 96.852765 | E15: 50.842508 | G15: 46.142113 | I15: 36.462373 | M15: 57.500318 | N15: 0 | O15: 7.4749541 | Q15: 20.199357
A16: 38472 | B16: 95.319718 | C16: 129.80095 | D16: 96.152121 | E16: 50.347066 | G16: 46.962674 | I16: 36.776328 | M16: 52.654268 | N16: 0 | O16: 7.5240302 | Q16: 20.262838
A17: 38503 | B17: 95.881934 | C17: 136.25141 | D17: 97.731305 | E17: 50.604147 | G17: 47.521646 | I17: 36.962685 | M17: 55.416425 | N17: 0 | O17: 7.5706011 | Q17: 19.883195
A18: 38533 | B18: 96.536418 | C18: 139.33304 | D18: 95.520669 | E18: 51.12954 | G18: 49.007128 | I18: 37.324725 | M18: 57.230226 | N18: 0 | O18: 11.442383 | Q18: 19.4321
A19: 38564 | B19: 95.738014 | C19: 142.72983 | D19: 94.511558 | E19: 50.483818 | G19: 73.602659 | I19: 37.133097 | M19: 59.764653 | N19: 0 | O19: 11.39988 | Q19: 20.470498
A20: 38595 | B20: 96.764719 | C20: 118.04191 | D20: 108.15692 | E20: 51.020219 | G20: 85.202144 | I20: 36.860055 | M20: 60.522773 | N20: 0 | O20: 11.440011 | Q20: 20.5985
A21: 38625 | B21: 97.326599 | C21: 124.98668 | D21: 111.02506 | E21: 85.032253 | G21: 69.891429 | I21: 37.016695 | M21: 61.778852 | N21: 0 | O21: 11.488716 | Q21: 21.739988
A22: 38656 | B22: 95.640306 | C22: 197.93489 | D22: 112.48143 | E22: 84.386211 | G22: 71.093489 | I22: 37.158571 | M22: 63.497974 | N22: 0 | O22: 11.521009 | Q22: 23.292379
A23: 38686 | B23: 96.249803 | C23: 184.49767 | D23: 133.34975 | E23: 84.277519 | G23: 83.728668 | I23: 37.42933 | J23: 28.776755 | M23: 62.801111 | N23: 0 | O23: 11.442446 | Q23: 23.833741
A24: 38717 | B24: 93.767582 | C24: 226.51039 | D24: 135.75673 | E24: 84.369816 | G24: 98.940801 | I24: 37.5044 | J24: 85.753852 | M24: 155.22994 | N24: 0 | O24: 11.469516 | Q24: 29.307632
A25: 38748 | B25: 97.164838 | C25: 302.64039 | D25: 136.10881 | E25: 85.139897 | G25: 87.869434 | I25: 37.350785 | J25: 1.9691554 | M25: 155.34434 | N25: 0 | O25: 11.43167 | Q25: 29.022899
A26: 38776 | B26: 97.709943 | C26: 298.05787 | D26: 102.97319 | E26: 85.770901 | G26: 85.733759 | I26: 37.016983 | M26: 200.44227 | N26: 0 | O26: 11.520705 | Q26: 29.324739
A27: 38807 | B27: 109.53865 | C27: 281.91494 | D27: 136.90824 | E27: 84.456679 | G27: 82.899405 | I27: 87.048091 | M27: 178.53337 | N27: 0 | O27: 61.777714 | Q27: 32.827394
A28: 38837 | B28: 107.59355 | C28: 262.2084 | D28: 129.07592 | E28: 82.748109 | G28: 79.930689 | I28: 87.229302 | M28: 186.66299 | N28: 0 | O28: 61.894265 | Q28: 31.162
A29: 38868 | B29: 109.30263 | C29: 269.18193 | D29: 131.05815 | E29: 84.08536 | G29: 85.736012 | I29: 87.531025 | M29: 184.45827 | N29: 0 | O29: 62.113251 | Q29: 30.856159
A30: 38898 | B30: 108.61796 | C30: 257.56324 | D30: 128.44917 | E30: 83.751922 | G30: 85.854786 | I30: 87.083006 | M30: 159.879 | N30: 0 | O30: 62.058612 | Q30: 28.893222
A31: 38929 | B31: 110.11789 | C31: 255.1344 | D31: 131.61255 | E31: 85.029186 | G31: 95.271903 | I31: 87.398583 | M31: 142.60175 | N31: 0 | O31: 62.296436 | Q31: 26.530509
A32: 38960 | B32: 111.8999 | C32: 277.97098 | D32: 133.98421 | E32: 86.529901 | G32: 100.3412 | I32: 86.620027 | M32: 169.73121 | N32: 0 | O32: 62.178677 | Q32: 26.124429
A33: 38990 | B33: 131.87661 | C33: 272.63462 | D33: 163.81811 | E33: 86.575948 | G33: 102.74526 | I33: 86.21961 | M33: 156.13526 | N33: 0 | O33: 62.328599 | Q33: 25.141018
A34: 39021 | B34: 132.92763 | C34: 258.27445 | D34: 170.73548 | E34: 85.449627 | G34: 106.61783 | I34: 86.644154 | M34: 147.58798 | N34: 616.53187 | O34: 62.583855 | Q34: 37.547923
A35: 39051 | B35: 130.19987 | C35: 294.54638 | D35: 165.34239 | E35: 85.268624 | G35: 103.14659 | I35: 86.431476 | M35: 142.72247 | N35: 594.41645 | O35: 62.210133 | Q35: 35.747261
A36: 39082 | B36: 130.73951 | C36: 195.26472 | D36: 169.56329 | E36: 86.065366 | G36: 93.900456 | I36: 86.349889 | M36: 185.88324 | N36: 591.75735 | O36: 62.141291 | Q36: 32.883027
A37: 39113 | B37: 146.24852 | C37: 214.23824 | D37: 163.3711 | E37: 87.927684 | G37: 99.165588 | I37: 87.187914 | M37: 191.26168 | N37: 561.19024 | O37: 62.758112 | Q37: 32.633983
A38: 39141 | B38: 131.85692 | C38: 221.78764 | D38: 161.2198 | E38: 85.461492 | G38: 103.98327 | I38: 84.653993 | L38: 41.066089 | M38: 188.40577 | N38: 532.609 | O38: 61.640985 | Q38: 32.146047
A39: 39172 | B39: 138.4304 | C39: 360.20355 | D39: 165.64477 | E39: 86.921292 | G39: 183.59981 | I39: 84.811671 | L39: 161.37247 | M39: 190.21672 | N39: 566.75003 | O39: 62.674783 | Q39: 39.307196
A40: 39202 | B40: 135.49429 | C40: 369.19016 | D40: 131.91404 | E40: 83.97668 | G40: 104.51763 | I40: 84.101192 | L40: 256.57122 | M40: 189.70773 | N40: 556.10513 | O40: 62.085453 | Q40: 38.08264
A41: 39233 | B41: 143.65979 | C41: 414.65838 | D41: 138.3087 | G41: 109.8981 | H41: 84.688953 | I41: 84.345724 | K41: 195.47828 | L41: 260.00658 | M41: 191.08963 | N41: 548.97069 | O41: 62.107247 | Q41: 42.33222
A42: 39263 | B42: 151.14319 | C42: 191.10678 | D42: 138.9572 | G42: 109.09038 | H42: 86.009129 | I42: 83.857358 | K42: 201.24431 | L42: 261.648 | M42: 167.4339 | N42: 572.60897 | O42: 62.29458 | Q42: 37.728738
A43: 39294 | B43: 309.64325 | C43: 221.9268 | D43: 141.8272 | G43: 109.70038 | H43: 86.508496 | I43: 84.534043 | K43: 188.04033 | L43: 263.19481 | M43: 187.60188 | N43: 553.46055 | O43: 62.597067 | Q43: 41.339556
A44: 39325 | B44: 309.72566 | C44: 252.18406 | D44: 138.06396 | G44: 106.91368 | H44: 87.041796 | I44: 85.643706 | K44: 59.842865 | L44: 263.54287 | M44: 187.2464 | N44: 553.29225 | O44: 63.21731 | Q44: 39.607609
A45: 39355 | B45: 479.72426 | C45: 129.3298 | D45: 136.20795 | G45: 106.1885 | H45: 84.924582 | I45: 84.477782 | K45: 57.727234 | L45: 230.10408 | M45: 189.49348 | N45: 566.65315 | O45: 62.567468 | Q45: 40.182852
A46: 39386 | B46: 475.94006 | C46: 119.27636 | D46: 138.61013 | G46: 107.69067 | H46: 85.706228 | I46: 83.915715 | K46: 57.417727 | L46: 231.05244 | M46: 190.41536 | N46: 558.34857 | O46: 62.223499 | Q46: 39.774767
A47: 39416 | B47: 467.52581 | C47: 54.506439 | D47: 118.93915 | G47: 104.74209 | H47: 84.687628 | I47: 84.326113 | K47: 54.630389 | L47: 231.82222 | M47: 165.3408 | N47: 518.00614 | O47: 62.133809 | Q47: 36.602035
A48: 39447 | B48: 506.85238 | C48: 90.255966 | D48: 114.87467 | G48: 103.82232 | H48: 80.646313 | I48: 85.119018 | K48: 23.303009 | L48: 233.40025 | M48: 187.27221 | N48: 532.45716 | O48: 62.857009 | Q48: 37.911084
A49: 39478 | B49: 422.62398 | C49: 39.62704 | D49: 112.17716 | G49: 99.065462 | H49: 79.54194 | I49: 85.008926 | K49: 22.731065 | L49: 234.89589 | M49: 153.11919 | N49: 453.79601 | O49: 63.085669 | Q49: 34.166478
A50: 39507 | B50: 372.992 | C50: 28.66494 | D50: 107.65886 | G50: 96.464659 | H50: 79.160828 | I50: 85.475693 | K50: 22.35223 | L50: 237.74498 | M50: 179.8855 | N50: 436.90311 | O50: 64.080524 | Q50: 34.192288
A51: 39538 | B51: 327.5425 | C51: 50.533979 | D51: 97.163427 | G51: 82.848381 | H51: 75.620625 | I51: 83.449456 | K51: 21.051466 | L51: 149.17969 | M51: 194.59056 | N51: 433.89064 | O51: 62.892955 | P51: 46.9542 | Q51: 33.571894
A52: 39568 | B52: 334.67 | C52: 145.69447 | D52: 103.97516 | G52: 87.193413 | H52: 78.68682 | I52: 84.569727 | K52: 0.1485777 | L52: 142.60763 | M52: 198.81062 | N52: 453.12588 | O52: 64.285806 | P52: 49.098688 | Q52: 36.471044
A53: 39599 | B53: 326.75216 | C53: 265.91916 | D53: 106.51864 | G53: 89.404968 | H53: 78.460283 | I53: 84.073941 | L53: 51.372918 | M53: 209.43524 | N53: 441.59799 | O53: 64.425963 | P53: 49.062372 | Q53: 37.47632
A54: 39629 | B54: 273.44985 | C54: 259.95232 | D54: 94.287967 | F54: 83.828955 | G54: 84.371186 | H54: 78.087837 | I54: 83.418034 | M54: 219.55546 | N54: 456.72331 | O54: 64.695857 | P54: 48.876137 | Q54: 37.564599
A55: 39660 | B55: 189.87571 | C55: 264.16671 | D55: 81.395839 | F55: 85.536004 | G55: 84.406 | H55: 79.379143 | I55: 17.409882 | K55: 0.0007587176 | M55: 220.87707 | N55: 452.93817 | O55: 18.490719 | P55: 7.8180153 | Q55: 32.298282
A56: 39691 | B56: 187.69626 | C56: 268.25437 | D56: 82.689572 | F56: 84.494935 | G56: 86.224546 | H56: 78.593004 | I56: 17.944788 | K56: 0.0017864854 | M56: 225.42145 | N56: 422.44215 | O56: 19.058232 | P56: 7.4994997 | Q56: 31.82587
A57: 39721 | B57: 55.638444 | C57: 247.03685 | D57: 77.079647 | F57: 89.33711 | G57: 76.289496 | H57: 82.516901 | I57: 19.002132 | K57: 0.0031531514 | M57: 222.3932 | N57: 470.03926 | O57: 20.217678 | P57: 7.993276 | Q57: 29.401317

Sheet K8_M54
B1: Skýrsla rannsóknarnefndar Alþingis
B2: 8. kafli - Útlán íslensku bankanna
B3: Mynd 54
A4: Fs | B4: Baugur Group hf.
A5: Ufs | B5: Heildarútlán Landsbankans til tengdra aðila
A6: Alm.
A7: Nm
A8: H | B8: Heimild: Landsbanki Íslands hf.
A9: Vá | B9: M. evra
A10: Há | B10: %
A11: Ath:
A12: Dags. | B12: Baugur Group | C12: FL Group | D12: Önnur félög | E12: BG Capital | F12: BG Holding | G12: Fasteignafélag Íslands | H12: Goldsmiths Acquisitions Ltd | I12: Goldsmiths Group Ltd | J12: Hagar | K12: Unity Investments | L12: Húsasmiðjan | M12: Ice Acquisition Ltd | N12: Iceland Food Group Ltd | O12: Íslensk afþreying | P12: Landic Property | Q12: M Fashions | R12: Og fjarskipti | S12: TM fé | T12: Tryggingamiðstöðin | U12: Hands Holding | V12: Hlutfall af eiginfjárgrunni (h. ás)
A13: 38383 | B13: 166.57818 | C13: 75.984101 | D13: 210.62761 | F13: 59.707962 | G13: 8.8103658 | J13: 60.162766 | L13: 4.8182408 | O13: 50.157232 | P13: 37.131273 | V13: 75.495938
A14: 38411 | B14: 211.96251 | C14: 119.43053 | D14: 209.49667 | F14: 59.673948 | G14: 8.7765313 | J14: 50.939144 | L14: 7.5587323 | O14: 50.540379 | P14: 37.532277 | V14: 70.524561
A15: 38442 | B15: 207.28028 | C15: 80.033421 | D15: 229.67065 | F15: 60.084409 | G15: 8.8919225 | J15: 60.57113 | L15: 14.010158 | O15: 51.513982 | P15: 37.84283 | V15: 59.946488
A16: 38472 | B16: 176.46124 | C16: 68.67125 | D16: 242.85185 | F16: 61.357651 | G16: 8.8823071 | J16: 69.213699 | L16: 16.256572 | O16: 48.233959 | P16: 36.906965 | V16: 57.305107
A17: 38503 | B17: 203.05547 | C17: 71.245423 | D17: 237.74991 | F17: 60.907486 | G17: 9.1034798 | J17: 72.02794 | L17: 48.091327 | O17: 49.616323 | P17: 37.694709 | Q17: 88.398107 | V17: 67.908491
A18: 38533 | B18: 205.64659 | C18: 52.493865 | D18: 240.36215 | F18: 62.221519 | G18: 8.4791807 | H18: 31.341231 | J18: 86.309148 | L18: 68.068525 | M18: 76.68043 | O18: 50.450041 | P18: 38.999999 | Q18: 74.928087 | V18: 75.817336
A19: 38564 | B19: 218.12592 | C19: 52.580575 | D19: 253.53713 | F19: 93.960918 | G19: 8.4846311 | H19: 46.711638 | J19: 82.112885 | L19: 64.312042 | M19: 73.761061 | O19: 47.920636 | P19: 39.20233 | V19: 67.199981
A20: 38595 | B20: 245.49861 | C20: 80.062688 | D20: 255.804 | F20: 95.1942 | G20: 8.4833246 | H20: 47.754917 | J20: 83.181445 | L20: 62.676177 | M20: 73.454143 | O20: 48.576633 | P20: 40.176922 | V20: 64.846373
A21: 38625 | B21: 293.94537 | C21: 84.745578 | D21: 260.88389 | F21: 61.773377 | G21: 8.5337776 | H21: 48.835025 | J21: 85.453258 | L21: 62.821731 | M21: 73.703434 | O21: 49.778123 | P21: 42.365234 | T21: 8.4889855 | V21: 61.76005
A22: 38656 | B22: 307.4129 | C22: 256.50116 | D22: 266.835 | F22: 62.573419 | G22: 8.5611931 | H22: 49.633871 | J22: 76.148411 | L22: 60.583868 | M22: 74.937821 | O22: 47.455662 | P22: 53.463262 | S22: 94.521121 | T22: 8.3081245 | V22: 76.337066
A23: 38686 | B23: 347.72526 | C23: 355.26272 | D23: 239.84806 | F23: 61.834171 | G23: 8.6438345 | H23: 48.654603 | J23: 77.300911 | L23: 60.52348 | M23: 92.468018 | O23: 47.590259 | P23: 52.903392 | S23: 94.950786 | T23: 8.3624747 | V23: 81.731676
A24: 38717 | B24: 348.70334 | C24: 345.50198 | D24: 224.26932 | F24: 61.86442 | G24: 8.4854643 | H24: 48.681765 | J24: 75.937524 | L24: 72.791445 | M24: 92.442484 | O24: 47.857881 | P24: 57.180411 | S24: 95.368788 | T24: 2.0877298 | V24: 79.19575
A25: 38748 | B25: 348.46789 | C25: 387.78163 | D25: 217.88798 | F25: 61.693761 | G25: 8.451398 | H25: 48.895959 | J25: 82.187822 | L25: 71.838478 | M25: 93.510406 | O25: 44.944229 | P25: 56.563023 | S25: 95.764348 | T25: 7.705328 | V25: 79.594274
A26: 38776 | B26: 406.48104 | C26: 342.76127 | D26: 219.13999 | F26: 62.223723 | G26: 8.5434787 | H26: 50.596667 | J26: 65.748344 | L26: 72.173952 | M26: 234.62694 | O26: 65.496952 | P26: 55.203228 | S26: 95.682313 | T26: 7.429585 | V26: 85.876678
A27: 38807 | B27: 384.5118 | C27: 201.29732 | D27: 203.75321 | F27: 61.014388 | G27: 8.4748414 | H27: 49.761266 | J27: 39.88092 | L27: 75.996399 | M27: 190.90562 | O27: 98.908147 | P27: 50.969697 | S27: 95.349109 | T27: 10.574212 | V27: 73.204761
A28: 38837 | B28: 383.87896 | C28: 165.85099 | D28: 197.09541 | F28: 61.595262 | G28: 8.4209717 | H28: 50.406373 | J28: 18.267284 | K28: 4.1095108 | L28: 76.08672 | M28: 115.54766 | O28: 93.212889 | P28: 47.654013 | S28: 93.942321 | T28: 10.679155 | V28: 64.946955
A29: 38868 | B29: 301.55014 | C29: 177.40168 | D29: 198.97347 | F29: 81.266501 | G29: 8.4043335 | H29: 51.50758 | J29: 21.408331 | K29: 64.965815 | L29: 81.407312 | M29: 117.0779 | O29: 124.49736 | P29: 27.005202 | S29: 96.464335 | T29: 5.5458606 | V29: 65.399722
A30: 38898 | B30: 89.70001 | C30: 207.84154 | D30: 195.0978 | E30: 100.74156 | F30: 81.000344 | G30: 8.2064843 | H30: 51.452616 | J30: 20.912478 | K30: 113.84009 | L30: 77.75217 | M30: 38.370644 | O30: 127.03419 | P30: 26.064214 | S30: 92.451049 | T30: 5.0780164 | V30: 58.59813
A31: 38929 | B31: 98.381219 | C31: 236.50484 | D31: 195.38927 | E31: 102.84097 | F31: 81.903251 | G31: 8.2698262 | H31: 52.571672 | J31: 18.794011 | K31: 116.14581 | L31: 78.827389 | M31: 39.165365 | O31: 129.28001 | P31: 27.263216 | S31: 98.107454 | T31: 5.1504887 | V31: 58.952015
A32: 38960 | B32: 84.430828 | C32: 239.56946 | D32: 181.78654 | E32: 104.71276 | F32: 82.606885 | G32: 8.2655601 | H32: 53.758416 | J32: 18.781404 | K32: 115.5437 | L32: 79.383332 | M32: 39.939846 | O32: 134.60952 | P32: 28.45891 | S32: 103.76691 | V32: 56.364021
A33: 38990 | B33: 95.51148 | C33: 203.40086 | D33: 179.8327 | E33: 105.2683 | F33: 82.858319 | G33: 8.3498216 | H33: 61.365802 | J33: 26.376374 | K33: 115.74849 | L33: 82.245735 | M33: 38.065437 | O33: 137.80758 | P33: 53.28915 | R33: 1.0566204 | S33: 104.70084 | T33: 11.396653 | V33: 55.854372
A34: 39021 | B34: 174.04136 | C34: 221.94883 | D34: 164.49717 | E34: 86.338147 | F34: 83.204926 | G34: 8.3302083 | H34: 62.349898 | J34: 26.137949 | K34: 117.20715 | L34: 80.331862 | M34: 38.590895 | O34: 149.64568 | P34: 50.043789 | S34: 52.050201 | T34: 11.83718 | V34: 56.285384
A35: 39051 | B35: 171.34186 | C35: 236.47888 | D35: 197.30939 | E35: 87.066207 | F35: 81.7909 | G35: 8.3252151 | H35: 62.787317 | J35: 26.999934 | K35: 118.49013 | L35: 80.13825 | M35: 38.823909 | O35: 150.69288 | P35: 49.458989 | S35: 50.68615 | T35: 11.531805 | V35: 57.809647
A36: 39082 | B36: 173.94143 | C36: 204.06468 | D36: 282.43111 | E36: 84.016815 | F36: 80.988535 | G36: 7.99981 | I36: 59.593249 | J36: 23.755166 | K36: 116.33531 | L36: 76.99979 | M36: 37.902081 | O36: 4.4424128 | P36: 47.652179 | R36: 117.86849 | S36: 48.682928 | T36: 11.097506 | V36: 57.659302
A37: 39113 | B37: 216.61171 | C37: 212.04633 | D37: 241.43843 | E37: 86.262936 | F37: 83.077743 | G37: 8.1965703 | I37: 55.552058 | J37: 30.322555 | K37: 119.94847 | L37: 79.239846 | M37: 39.324721 | P37: 49.627473 | R37: 123.29638 | S37: 52.605713 | V37: 57.280882
A38: 39141 | B38: 207.40541 | C38: 248.40714 | D38: 238.00692 | E38: 84.70559 | F38: 81.513822 | G38: 8.0610313 | I38: 53.979105 | J38: 17.919718 | K38: 116.10323 | L38: 80.270297 | M38: 37.791324 | P38: 49.320643 | R38: 122.91215 | S38: 52.939615 | U38: 0.2319885 | V38: 56.204444
A39: 39172 | B39: 214.5619 | C39: 232.16934 | D39: 237.02091 | E39: 86.040221 | F39: 82.726705 | G39: 8.1930456 | H39: 2.0513648 | I39: 59.747336 | J39: 18.56545 | K39: 118.51741 | L39: 87.183396 | M39: 37.072011 | O39: 2.1144953 | P39: 85.484802 | R39: 95.911043 | S39: 53.76355 | U39: 30.997914 | V39: 57.159893
A40: 39202 | B40: 206.81579 | C40: 296.4878 | D40: 214.21286 | E40: 85.967524 | F40: 82.588119 | G40: 8.1144404 | I40: 62.633127 | J40: 22.69306 | K40: 118.43578 | L40: 72.971393 | N40: 262.80133 | O40: 2.2118979 | P40: 82.548395 | R40: 94.856205 | S40: 54.116768 | U40: 31.213871 | V40: 65.644722
A41: 39233 | B41: 247.02206 | C41: 259.30533 | D41: 218.4538 | E41: 86.383408 | F41: 80.67196 | G41: 8.1655465 | I41: 62.758842 | J41: 22.259634 | K41: 119.35726 | L41: 79.965748 | N41: 71.118455 | O41: 2.0474598 | P41: 83.945317 | R41: 82.040079 | S41: 56.284715 | U41: 31.383346 | V41: 57.352153
A42: 39263 | B42: 458.00604 | C42: 291.75987 | D42: 194.91029 | E42: 84.760253 | F42: 81.71668 | G42: 7.9792661 | I42: 71.999114 | J42: 18.732366 | K42: 115.38264 | L42: 73.093126 | N42: 72.572617 | O42: 40.348616 | P42: 84.115335 | R42: 81.158211 | S42: 56.359205 | U42: 31.717464 | V42: 65.792157
A43: 39294 | B43: 511.76324 | C43: 251.09237 | D43: 202.60088 | E43: 85.20043 | F43: 82.062043 | G43: 7.9916979 | I43: 69.410043 | J43: 15.332122 | K43: 116.02699 | L43: 73.953974 | N43: 73.238684 | O43: 39.739488 | P43: 84.424061 | R43: 80.950581 | S43: 56.995597 | U43: 31.800961 | V43: 66.355189
A44: 39325 | B44: 516.97503 | C44: 281.8889 | D44: 204.71213 | E44: 85.916953 | F44: 82.674249 | G44: 8.1027444 | I44: 69.549453 | J44: 11.455689 | K44: 116.7651 | L44: 73.299804 | N44: 72.318929 | O44: 41.411826 | P44: 84.453493 | R44: 81.608685 | S44: 57.168287 | U44: 32.078618 | V44: 67.653178
A45: 39355 | B45: 460.00317 | C45: 256.89559 | D45: 201.17341 | E45: 84.587965 | F45: 81.325457 | G45: 7.9584715 | I45: 71.797547 | J45: 7.8135159 | K45: 89.238201 | L45: 71.205647 | N45: 66.615564 | O45: 38.275958 | P45: 83.8647 | R45: 79.362424 | S45: 56.625858 | U45: 32.261245 | V45: 62.669935
A46: 39386 | B46: 477.50099 | C46: 250.61835 | D46: 230.592 | E46: 73.427814 | F46: 92.962942 | G46: 7.9265749 | I46: 72.135527 | J46: 13.675941 | K46: 89.849577 | L46: 69.768004 | N46: 67.133214 | O46: 37.937117 | P46: 84.191382 | R46: 78.650397 | S46: 56.839959 | U46: 31.678205 | V46: 62.270589
A47: 39416 | B47: 491.365 | C47: 238.27516 | D47: 227.43604 | E47: 72.969309 | F47: 92.547746 | G47: 7.9405169 | I47: 67.966151 | J47: 25.239841 | K47: 84.952608 | L47: 67.929876 | N47: 64.401564 | O47: 38.027856 | P47: 83.864833 | R47: 78.46712 | S47: 56.612179 | U47: 31.711111 | V47: 60.121582
A48: 39447 | B48: 420.06402 | C48: 443.90099 | D48: 226.08628 | E48: 81.990629 | F48: 304.81675 | G48: 7.986337 | I48: 52.015979 | J48: 17.488019 | K48: 52.794664 | L48: 67.678674 | N48: 63.312596 | O48: 36.84462 | P48: 99.803427 | R48: 77.704591 | S48: 56.888474 | T48: 0.2414994 | U48: 31.632125 | V48: 68.775665
A49: 39478 | B49: 329.4828 | C49: 421.43434 | D49: 229.72686 | E49: 82.100512 | F49: 310.06212 | G49: 7.7934499 | I49: 53.4911 | J49: 25.531562 | K49: 51.830304 | L49: 70.298518 | N49: 62.524434 | O49: 35.749543 | P49: 53.621947 | R49: 78.254219 | T49: 57.164197 | U49: 32.091537 | V49: 67.159097
A50: 39507 | B50: 297.78383 | C50: 414.24572 | D50: 230.10772 | E50: 82.725089 | F50: 311.45782 | G50: 7.8608958 | I50: 49.224608 | J50: 17.696023 | K50: 51.507621 | L50: 71.600172 | N50: 60.70329 | O50: 35.990802 | P50: 72.201032 | R50: 78.915024 | U50: 32.614202 | V50: 67.366594
A51: 39538 | B51: 223.24053 | C51: 325.15434 | D51: 174.47889 | E51: 83.035013 | F51: 302.55146 | G51: 44.731486 | I51: 57.719542 | J51: 13.072991 | K51: 41.347564 | L51: 71.011649 | M51: 52.359846 | O51: 33.431288 | P51: 68.015644 | R51: 76.757829 | U51: 31.889099 | V51: 62.538178
A52: 39568 | B52: 232.55447 | C52: 331.82984 | D52: 182.49882 | E52: 76.048307 | F52: 306.66505 | G52: 46.545838 | I52: 58.391009 | J52: 21.052332 | K52: 40.484824 | L52: 74.844742 | M52: 54.625054 | O52: 35.119269 | P52: 70.069151 | R52: 80.673481 | U52: 32.468556 | V52: 64.355355
A53: 39599 | B53: 233.05697 | C53: 334.58599 | D53: 184.08904 | E53: 76.810016 | F53: 305.02169 | G53: 46.675153 | H53: 30.78282 | I53: 33.893022 | J53: 15.59048 | K53: 40.368974 | L53: 78.619054 | M53: 55.448306 | O53: 36.1141 | P53: 70.515084 | R53: 81.041761 | U53: 32.363145 | V53: 64.844642
A54: 39629 | B54: 231.04283 | C54: 315.03794 | D54: 176.37509 | E54: 73.467584 | F54: 304.08069 | G54: 45.409951 | H54: 30.593291 | I54: 32.565604 | J54: 14.991399 | K54: 58.704541 | L54: 91.965077 | M54: 54.738536 | O54: 34.805899 | P54: 72.268015 | R54: 72.002021 | U54: 32.186119 | V54: 64.321214
A55: 39660 | B55: 208.2814 | C55: 313.02503 | D55: 167.50489 | E55: 75.043726 | F55: 305.16151 | G55: 45.829436 | H55: 31.124074 | I55: 31.377264 | J55: 21.148042 | K55: 59.801291 | L55: 89.89225 | M55: 55.337925 | O55: 34.729106 | P55: 72.980077 | R55: 72.680743 | U55: 32.296258 | V55: 63.379218
A56: 39691 | B56: 76.914705 | C56: 319.56766 | D56: 173.0631 | E56: 75.729309 | F56: 311.65131 | G56: 47.143008 | H56: 30.655869 | I56: 30.858563 | J56: 17.163138 | K56: 58.603746 | L56: 90.627027 | M56: 54.185934 | O56: 36.430279 | P56: 74.476734 | R56: 75.004865 | U56: 33.33513 | V56: 59.034134
A57: 39721 | B57: 203.59297 | C57: 291.99353 | D57: 189.05466 | E57: 68.622963 | F57: 329.61482 | G57: 46.145443 | H57: 29.033691 | I57: 33.728324 | J57: 12.073367 | K57: 61.754284 | L57: 86.988763 | M57: 53.491938 | O57: 37.954048 | P57: 73.693297 | R57: 70.739231 | U57: 35.118163 | V57: 63.668875

Sheet K8_M55
B1: Skýrsla rannsóknarnefndar Alþingis
B2: 8. kafli - Útlán íslensku bankanna
B3: Mynd 55
A4: Fs | B4: Baugur Group hf.
A5: Ufs | B5: Heildarútlán Straums-Burðaráss til tengdra aðila
A6: Alm.
A7: Nm
A8: H | B8: Heimild: Straumur-Burðarás hf.
A9: Vá | B9: M. evra
A10: Há | B10: %
A11: Ath:
A12: Dags. | B12: Baugur Group | C12: FL Group | D12: Önnur félög | E12: BG Capital | F12: BG Holding | G12: Ice Acquisition Ltd | H12: Kögun | I12: M-Holding | J12: Opin Kerfi Group Holding | K12: Hands Holding | L12: Teymi | M12: Stoðir Invest | N12: Hlutfall af eiginfjárgrunni (h. ás)
A13: 38595 | B13: 64.374833 | C13: 45.880227 | D13: 25.652724 | G13: 37.054125 | J13: 30.840054
A14: 38625 | B14: 66.24089 | C14: 47.519908 | D14: 25.50239 | G14: 29.534061 | J14: 32.26284
A15: 38656 | B15: 67.118127 | C15: 48.984597 | D15: 25.625409 | G15: 37.811285 | I15: 32.376048 | J15: 32.974451
A16: 38686 | B16: 70.100507 | C16: 48.315103 | D16: 27.002518 | G16: 37.086326 | I16: 32.629867 | J16: 32.859965
A17: 38717 | B17: 70.342887 | C17: 48.269828 | D17: 26.888448 | G17: 36.958638 | I17: 32.551975 | J17: 33.177161 | N17: 44.990569
A18: 38748 | B18: 71.564077 | C18: 112.56622 | D18: 27.001387 | G18: 37.495585 | I18: 32.754867 | J18: 33.179605 | N18: 50.572262
A19: 38776 | B19: 70.504825 | C19: 113.60598 | D19: 27.103826 | I19: 32.979649 | J19: 32.512212 | N19: 39.965558
A20: 38807 | B20: 66.131579 | C20: 106.39382 | D20: 26.585157 | F20: 38.332217 | I20: 33.214207 | J20: 29.828212 | N20: 39.396515
A21: 38837 | B21: 62.497467 | C21: 98.427206 | D21: 32.202413 | F21: 38.609546 | G21: 38.610212 | I21: 33.44402 | J21: 27.613709 | N21: 39.780732
A22: 38868 | B22: 61.650449 | C22: 99.949592 | D22: 32.536004 | F22: 39.070468 | G22: 39.121776 | I22: 43.453611 | J22: 28.371243 | N22: 38.093804
A23: 38898 | B23: 58.654862 | C23: 127.76545 | D23: 37.529831 | F23: 39.049478 | G23: 38.496612 | I23: 43.71378 | J23: 27.205596 | N23: 38.243781
A24: 38929 | B24: 60.833891 | C24: 138.68652 | D24: 32.576297 | F24: 39.486139 | G24: 39.214536 | I24: 44.00776 | J24: 28.937452 | N24: 36.75161
A25: 38960 | B25: 62.983528 | C25: 144.53365 | D25: 39.323689 | F25: 39.995571 | G25: 40.058607 | I25: 44.354339 | J25: 30.676448 | N25: 36.063016
A26: 38990 | B26: 69.283396 | C26: 144.48376 | D26: 26.692659 | F26: 38.908786 | G26: 38.146931 | I26: 44.675584 | J26: 31.019186 | N26: 33.186013
A27: 39021 | B27: 70.844213 | C27: 114.51621 | D27: 26.890774 | F27: 39.404282 | G27: 38.912185 | I27: 45.012142 | J27: 32.247812 | N27: 29.303709
A28: 39051 | B28: 67.171531 | C28: 113.5223 | D28: 27.033672 | F28: 39.435219 | I28: 45.353005 | J28: 58.511754 | N28: 26.480982
A29: 39082 | B29: 65.485093 | C29: 239.57956 | D29: 38.98349 | F29: 39.750039 | I29: 73.070521 | K29: 56.273234 | L29: 20.372887 | N29: 38.219003
A30: 39113 | B30: 69.016406 | C30: 128.98359 | D30: 39.444624 | F30: 40.255256 | I30: 73.653498 | K30: 57.594759 | L30: 20.938763 | N30: 31.194979
A31: 39141 | B31: 69.074767 | C31: 129.35903 | D31: 39.456762 | F31: 40.082625 | I31: 64.007208 | K31: 57.753291 | L31: 21.038549 | N31: 30.934868
A32: 39172 | B32: 44.177218 | C32: 130.0213 | D32: 39.106163 | E32: 30.630644 | F32: 38.888781 | K32: 57.740816 | L32: 18.843701 | N32: 26.775368
A33: 39202 | B33: 44.524532 | C33: 121.39757 | D33: 39.313853 | E33: 30.41071 | F33: 39.022901 | K33: 57.349629 | L33: 18.730713 | N33: 26.483007
A34: 39233 | B34: 47.350126 | C34: 131.62036 | D34: 39.626933 | E34: 30.547172 | F34: 39.348865 | K34: 57.628135 | L34: 18.885649 | N34: 27.936572
A35: 39263 | B35: 48.352315 | C35: 69.041262 | D35: 39.716939 | E35: 30.597237 | F35: 39.792553 | K35: 57.632732 | L35: 18.904159 | N35: 23.592914
A36: 39294 | B36: 50.594402 | C36: 69.40475 | D36: 39.978359 | E36: 30.888525 | F36: 40.006606 | K36: 58.073121 | L36: 19.02598 | N36: 24.234416
A37: 39325 | B37: 51.276275 | C37: 78.501149 | D37: 40.171254 | E37: 31.181477 | F37: 40.153446 | K37: 58.533363 | L37: 19.215023 | N37: 25.462947
A38: 39355 | B38: 48.253889 | C38: 126.26727 | D38: 39.431154 | E38: 30.030561 | F38: 38.361649 | I38: 14.257872 | K38: 58.188787 | L38: 19.133181 | N38: 30.276061
A39: 39386 | B39: 49.022133 | C39: 66.030218 | D39: 39.750587 | E39: 30.024674 | F39: 38.660024 | I39: 14.353202 | K39: 13.738609 | L39: 16.791321 | N39: 22.048702
A40: 39416 | B40: 61.434222 | C40: 57.262845 | D40: 12.154767 | E40: 30.264941 | F40: 38.461749 | I40: 14.520833 | L40: 16.894022 | N40: 19.26075
A41: 39447 | B41: 61.588874 | C41: 29.744051 | D41: 11.908264 | E41: 30.209216 | F41: 38.210281 | I41: 14.653359 | L41: 16.986446 | N41: 17.208162
A42: 39478 | B42: 57.537981 | C42: 41.45055 | D42: 11.79884 | E42: 30.799099 | F42: 38.180805 | I42: 14.76308 | L42: 17.2959 | N42: 18.064371
A43: 39507 | B43: 57.233169 | C43: 65.90791 | D43: 11.512889 | E43: 30.86281 | F43: 37.921153 | I43: 14.856408 | L43: 17.382261 | N43: 20.250278
A44: 39538 | B44: 51.332641 | C44: 36.742086 | D44: 11.173426 | E44: 30.0357 | F44: 36.061996 | I44: 14.950047 | L44: 17.432415 | N44: 17.119053
A45: 39568 | B45: 52.324456 | C45: 56.624822 | D45: 11.311079 | E45: 29.795807 | F45: 36.367083 | I45: 15.031625 | L45: 17.372311 | N45: 19.147437
A46: 39599 | B46: 66.137497 | C46: 57.739629 | D46: 11.435741 | E46: 25.006634 | F46: 36.684802 | I46: 18.491525 | L46: 17.429177 | N46: 20.600284
A47: 39629 | B47: 61.323817 | C47: 54.833049 | D47: 11.418391 | E47: 25.106542 | F47: 36.763552 | I47: 18.615759 | L47: 17.490719 | N47: 20.165149
A48: 39660 | B48: 61.871311 | C48: 54.955892 | D48: 18.323108 | E48: 25.050677 | F48: 37.102475 | I48: 18.744654 | L48: 17.477967 | N48: 22.059774
A49: 39691 | B49: 28.262293 | C49: 61.033984 | D49: 18.180801 | E49: 25.433509 | F49: 36.962943 | I49: 18.880951 | L49: 17.896956 | M49: 36.478912 | N49: 24.344953
A50: 39721 | B50: 28.601327 | C50: 54.817738 | D50: 18.457292 | E50: 26.121221 | F50: 37.405683 | H50: 18.35364 | I50: 19.384533 | M50: 34.459304 | N50: 25.309738

Sheet K8_M56
B1: Skýrsla rannsóknarnefndar Alþingis
B2: 8. kafli - Útlán íslensku bankanna
B3: Mynd 56
A4: Fs | B4: Exista hf.
A5: Ufs | B5: Heildarútlán stóru bankanna þriggja til tengdra aðila
A6: Alm.
A7: Nm
A8: H | B8: Heimild: Glitnir banki hf., Kaupþing banki hf og Landsbanki Íslands hf
A9: Vá | B9: M. evra
A10: Há
A11: Ath:
A12: Dags. | B12: Exista | C12: Exista Trading | D12: Síminn | E12: Kista-fjárfestingarfélag | F12: Lýsing | G12: Skipti | H12: Bakkabraedur Holding B.V. | I12: Önnur félög
A13: 38383 | B13: 110.4472 | D13: 2.8099904 | F13: 334.49335 | I13: 96.59111
A14: 38411 | B14: 133.83671 | D14: 2.7335949 | F14: 332.10353 | I14: 97.965231
A15: 38442 | B15: 162.74705 | D15: 2.7302446 | F15: 333.61782 | I15: 102.0615
A16: 38472 | B16: 162.22212 | D16: 2.9367221 | F16: 333.26945 | I16: 81.86233
A17: 38503 | B17: 162.72689 | D17: 13.504347 | F17: 339.73752 | I17: 197.73096
A18: 38533 | B18: 164.08148 | C18: 3.9548615 | D18: 2.8194725 | F18: 396.04052 | I18: 228.16981
A19: 38564 | B19: 164.52126 | C19: 15.016249 | D19: 0.73053998 | F19: 394.56241 | I19: 233.26204
A20: 38595 | B20: 174.92204 | C20: 19.801555 | D20: 0.69490555 | F20: 387.0212 | I20: 235.64637
A21: 38625 | B21: 352.93105 | C21: 48.669895 | D21: 0.65670837 | F21: 340.02539 | I21: 228.10042
A22: 38656 | B22: 355.29725 | C22: 48.599792 | D22: 0.63851303 | F22: 339.87446 | I22: 288.24579
A23: 38686 | B23: 401.93107 | C23: 49.97536 | D23: 0.59041746 | F23: 330.86613 | I23: 289.14198
A24: 38717 | B24: 415.83122 | C24: 31.63054 | D24: 657.93069 | F24: 338.74161 | I24: 286.89559
A25: 38748 | B25: 415.66359 | C25: 58.066212 | D25: 544.7084 | F25: 346.45576 | I25: 307.83897
A26: 38776 | B26: 427.36314 | C26: 60.39093 | D26: 565.49367 | F26: 349.43123 | I26: 314.17177
A27: 38807 | B27: 393.45522 | C27: 49.08652 | D27: 540.68011 | F27: 351.9104 | I27: 305.27943
A28: 38837 | B28: 383.05597 | C28: 61.099842 | D28: 527.80873 | F28: 359.91677 | I28: 289.13239
A29: 38868 | B29: 396.14206 | C29: 60.897524 | D29: 485.94848 | F29: 376.20079 | I29: 227.93626
A30: 38898 | B30: 380.06221 | C30: 58.193763 | D30: 367.51324 | F30: 397.69175 | H30: 147.40604 | I30: 222.0922
A31: 38929 | B31: 387.99672 | C31: 51.8339 | D31: 364.11826 | F31: 419.0106 | H31: 145.07696 | I31: 233.89288
A32: 38960 | B32: 534.65303 | C32: 38.499162 | D32: 365.97255 | F32: 389.79305 | H32: 149.00356 | I32: 241.06612
A33: 38990 | B33: 531.02043 | C33: 53.147016 | D33: 375.739 | F33: 398.58387 | H33: 150.37754 | I33: 273.41583
A34: 39021 | B34: 536.43999 | C34: 36.502082 | D34: 382.90877 | F34: 400.34158 | H34: 159.508 | I34: 242.09087
A35: 39051 | B35: 530.32085 | C35: 38.027984 | D35: 365.99468 | F35: 384.0931 | H35: 157.03297 | I35: 256.52694
A36: 39082 | B36: 537.05396 | C36: 41.022108 | D36: 360.39101 | E36: 32.88223 | F36: 417.06941 | H36: 155.46814 | I36: 252.38311
A37: 39113 | B37: 555.80942 | C37: 44.272593 | D37: 349.64795 | E37: 35.664546 | F37: 434.47899 | H37: 162.14054 | I37: 250.71521
A38: 39141 | B38: 549.10832 | C38: 293.1665 | D38: 344.35035 | E38: 35.981187 | F38: 441.34362 | H38: 160.09861 | I38: 302.72365
A39: 39172 | B39: 569.4026 | C39: 392.5813 | D39: 327.37903 | E39: 69.610864 | F39: 455.7185 | H39: 163.3362 | I39: 326.74613
A40: 39202 | B40: 552.66779 | C40: 489.89107 | D40: 318.20722 | E40: 70.970051 | F40: 453.76667 | H40: 162.5255 | I40: 344.57905
A41: 39233 | B41: 556.21375 | C41: 520.57791 | D41: 320.9425 | E41: 75.789508 | F41: 469.62825 | H41: 169.08117 | I41: 377.59477
